BEGIN:VCALENDAR
VERSION:2.0
PRODID:-//Paradigma srl - ECPv5.2.1//NONSGML v1.0//EN
CALSCALE:GREGORIAN
METHOD:PUBLISH
X-WR-CALNAME:Paradigma srl
X-ORIGINAL-URL:https://paradigma.it
X-WR-CALDESC:Eventi per Paradigma srl
BEGIN:VTIMEZONE
TZID:Europe/Rome
BEGIN:DAYLIGHT
TZOFFSETFROM:+0100
TZOFFSETTO:+0200
TZNAME:CEST
DTSTART:20220327T010000
END:DAYLIGHT
BEGIN:STANDARD
TZOFFSETFROM:+0200
TZOFFSETTO:+0100
TZNAME:CET
DTSTART:20221030T010000
END:STANDARD
END:VTIMEZONE
BEGIN:VEVENT
DTSTART;TZID=Europe/Rome:20220428T093000
DTEND;TZID=Europe/Rome:20220429T130000
DTSTAMP:20260419T191405
CREATED:20220329T094830Z
LAST-MODIFIED:20220426T121930Z
UID:15115-1651138200-1651237200@paradigma.it
SUMMARY:La disciplina dei Fondi di Investimento  Alternativi
DESCRIPTION:[vc_row][vc_column]\n	\n		\n			\n		\n	\n\n	\n		\n			\nAggiornamenti normativi (D. Lgs. n. 191/2021 e Decreto MEF n. 19/2022)\nProposte della Commissione UE per la revisione della Direttiva AIFMD e la modifica del Regolamento ELTIF\nProspettive di mercato\nTrattamento fiscale\n\nI docenti\, nel corso dell’evento formativo\, risponderanno alle domande e alle richieste di chiarimenti formulate dai partecipanti. Eventuali quesiti potranno essere anticipati inviando una email all’indirizzo info@paradigma.it \n \n\n		\n	\n\n	\n		\n			Evento in videoconferenza \n\n		\n	\n\n	\n		\n			28 e 29 aprile 2022 \n\n		\n	\n\n	\n		\n			 \n\n		\n	\n\n	\n		\n			\n\n		\n	\nPresentazioneProgrammaDocentiBrochureIscrizioni e CondizioniPresentazione\n	\n		\n			Contenuti dell’evento \nNel corso dell’evento\, organizzato in modalità videoconferenza\, saranno analizzate le ultime novità in materia di gestione collettiva del risparmio\, in particolare nell’ambito dei Fondi di Investimento Alternativi. \nL’attenzione degli operatori del settore\, in questa fase\, è sicuramente rivolta in via prioritaria al rilevante intervento normativo adottato\, sul finire dello scorso anno\, dal legislatore nazionale\, e cioè il recepimento\, con il D. Lgs. n. 191/2021\, del c.d. pacchetto “Cross-border distribution” dell’Unione Europea\, costituito dalle Direttive 1156 e 1160 del 2019. L’assetto regolatorio UE definito con tale pacchetto mira\, come noto\, ad aumentare l’armonizzazione delle legislazioni nazionali in materia di commercializzazione di FIA e OICVM\, a ridurre gli ostacoli normativi e a migliorare l’efficienza in termini di costi\, rafforzando inoltre la tutela degli investitori. \nDi sicuro impatto sul mercato\, e lungamente attesa dagli operatori\, è la novità di recentissima introduzione riguardante i FIA italiani riservati (Decreto MEF 13 gennaio 2022 n. 19\, che modifica il DM 30/2015)\, che prevede la riduzione\, a partire dal 30 marzo 2022\, da 500 a 100 mila euro della soglia d’ingresso ai FIA per gli investitori non professionali. \nIn questo scenario\, la Commissione UE ha già predisposto delle proposte di revisione della Direttiva AIFMD e di modifica del Regolamento ELTIF\, che vedranno plausibilmente la luce in tempi non troppo lontani. \nL’approfondimento di Paradigma avrà inoltre ad oggetto gli ulteriori profili di interesse riguardanti l’istituzione e la commercializzazione dei FIA e l’esame di aspetti peculiari delle singole tipologie\, nonché le questioni attinenti al trattamento fiscale di tali strumenti. \nDestinatari dell’evento \nIl convegno è destinato ai Responsabili e agli addetti delle aree Legale\, Compliance e Internal Audit\, Risk Management\, Antiriciclaggio delle banche\, SGR e degli intermediari operanti nel settore della gestione collettiva del risparmio. \nObiettivi dell’evento \nIl workshop intende essere un’occasione di confronto pratico e operativo con i più qualificati professionisti per conoscere non solo le recenti novità dettate in materia di gestione collettiva del risparmio ma anche buone prassi\, metodologie e procedure efficaci da seguire. \n\n\n		\n	\nProgramma\n	\n		\n			Prima giornata\nGiovedì 28 aprile 2022 \nLa disciplina dei Fondi di Investimento Alternativi (FIA): aggiornamenti normativi e ulteriori novità attese a livello nazionale\nInquadramento delle varie tipologie di fondi di investimento alternativi: immobiliari\, private debt/direct lending\, venture capital/private equity\nIl recepimento nell’ordinamento nazionale del c.d. pacchetto “Cross-border distribution” (D. Lgs. n. 191/2021)\nFIA italiani riservati – La modifica del DM n. 30/2015\, con l’introduzione di nuove soglie minime di investimento per investitori non professionali (Decreto MEF 13 gennaio 2022 n. 19)\nModalità ibride di rimborso delle quote di FIA chiusi: il modello degli “Interval Funds” e dei “Tender Offer Funds”\nLe possibili semplificazioni nel regime di vigilanza delle SICAV/SICAF eterogestite e nel regime dei FIA italiani sottosoglia\nAnalisi conoscitive dell’Autorità di vigilanza in materia di FIA di credito e proposte di regolamentazione (cenni e rinvio a successiva relazione)\nAvv. Prof. Roberto Della Vecchia\nDi Tanno Associati – Studio Legale e Tributario \nFigure particolari di FIA: EUVECA\, EUSEF ed ELTIF\nGli EUVECA e gli EUSEF\nLa disciplina degli ELTIF\nAvv. Mario Zanin\nPwC TLS Avvocati e Commercialisti \nLe proposte della Commissione UE per la revisione della Direttiva AIFMD e la modifica del Regolamento ELTIF\nDott. Filippo Berneri\nAnnunziata & Conso \nL’esperienza dei FIA di credito\nLa normativa applicabile\nLe proposte di modifica\nLe prospettive di mercato \nAvv. Fabio Coco\nZitiello Associati Studio Legale \nI possibili impatti delle novità attese sul mercato dei FIA e i profili di product governance\nRicadute operative dell’abbassamento delle soglie minime di accesso per FIA chiusi riservati\nI nuovi possibili modelli organizzativi e distributivi dei gestori di FIA alla luce delle novità normative\nImpatti delle novità normative sui regolamenti dei FIA e sugli investimenti della clientela retail\nProfili in materia di product governance\nAvv. Stefano Giavari\nGattai\, Minoli\, Partners \nLe attività di marketing e pre-marketing dei FIA\nLe Linee Guida ESMA sulle comunicazioni di marketing ai sensi del Regolamento UE 2019/1156\nIl nuovo art. 42-bis TUF (introdotto dal D. Lgs. 5 novembre 2021\, n. 191) e la previsione di un regime di pre-commercializzazione per i FIA riservati\nAvv. Fabrizio Cascinelli\nPwC TLS Avvocati e Commercialisti \n  \nSeconda giornata\nVenerdì 29 aprile 2022 \nLa definizione di gestione collettiva del risparmio alla luce degli ultimi interventi normativi\nLa riserva di legge dell’esercizio in via professionale del servizio di gestione collettiva\nEsame delle fattispecie critiche: i club deals\, i family office\, le SPAC e le società semplici\nGli orientamenti interpretativi\nIl regime sanzionatorio\nAvv. Lorenzo Macchia\nZitiello Associati Studio Legale \nLe società di investimento (SICAF\, SIIQ e SIINQ\, SIS) come possibile strumento di diversificazione\nAvv. Eriprando Guerritore\nGatti Pavesi Bianchi Ludovici \nGli incentivi fiscali ai FIA\nLa nuova disciplina dei PIR Alternativi\nGli incentivi per investimenti in Start Up e PMI innovative\nAgevolazioni per Casse di Previdenza e Fondi Pensione\nLe novità per le SIINQ\nDott. Fabio Brunelli\nDi Tanno Associati – Studio Legale e Tributario \n\n\n		\n	\nDocenti\n	\n		\n			Dott. Filippo Berneri\nPartner\nAnnunziata & Conso \nDott. Fabio Brunelli\nSocio\nDi Tanno Associati – Studio Legale e Tributario \nAvv. Fabrizio Cascinelli\nPartner\nPwC TLS Avvocati e Commercialisti \nAvv. Fabio Coco\nSocio\nZitiello Associati Studio Legale \nAvv. Prof. Roberto Della Vecchia\nSocio\nDi Tanno Associati – Studio Legale e Tributario\nProfessore a Contratto di Diritto dei Mercati Finanziari e degli Intermediari\nUniversità di Teramo \nAvv. Stefano Giavari\nGattai\, Minoli\, Partners \nAvv. Eriprando Guerritore\nPartner\nGatti Pavesi Bianchi Ludovici \nAvv. Lorenzo Macchia\nPartner\nZitiello Associati Studio Legale \nAvv. Mario Zanin\nDirector\nPwC TLS Avvocati e Commercialisti \n\n\n		\n	\nBrochure\n	\n		\n			 Scarica la brochure\n\n		\n	\nIscrizioni e Condizioni\n	\n		\n			Quota di partecipazione \nLa quota di partecipazione in aula virtuale (diretta streaming) include la consegna del materiale didattico in formato elettronico e la possibilità di sottoporre ai relatori quesiti di specifico interesse a mezzo chat. E’ altresì possibile anticipare domande e richieste di approfondimento inviando una email a info@paradigma.it entro il giorno antecedente l’evento. \nIn caso di videoconferenza con accessi multipli è necessario contattare la Segreteria organizzativa per un preventivo personalizzato. \nModalità di funzionamento della videoconferenza \nE’ possibile accedere all’aula virtuale da qualsiasi luogo\, utilizzando il proprio PC o tablet con una semplice connessione a Internet. La piattaforma informatica utilizzata da Paradigma (Adobe Connect) non necessita di requisiti tecnici particolari. \nNei giorni antecedenti l’evento il partecipante riceverà per posta elettronica le credenziali e le istruzioni di accesso. Il giorno dell’evento sarà sufficiente selezionare il link che troverà nella mail e inserire le credenziali per accedere all’aula virtuale. \nDurante gli interventi\, oltre a vedere e sentire i docenti\, è possibile consultare simultaneamente la documentazione predisposta dal relatore. Ogni utente collegato potrà porre domande sulle tematiche affrontate a mezzo chat\, alle quali il docente risponderà nel corso dell’intervento. \nModalità di iscrizione \nL’iscrizione si perfeziona al momento del ricevimento del modulo di registrazione\, da inviare via email all’indirizzo info@paradigma.it\, integralmente compilato. Il numero dei collegamenti disponibili è limitato e la priorità d’iscrizione è determinata dalla data di ricezione del modulo di registrazione. Si consiglia pertanto di effettuare una preiscrizione telefonica. \nModalità di pagamento \nLa quota di partecipazione deve essere versata all’atto della presentazione della richiesta di iscrizione e\, in ogni caso\, prima dell’effettuazione dell’intervento formativo\, tramite bonifico bancario intestato a: \nParadigma Srl – Corso Vittorio Emanuele II\, 68 – 10121 Torino\nc/o Banco BPM Spa\nIBAN IT 14 V 05034 01017 000000002530 \nFormazione finanziata \nLa quota di partecipazione può essere completamente rimborsata tramite voucher promossi dai Fondi Paritetici Interprofessionali. Paradigma offre la completa e gratuita gestione delle spese di progettazione\, monitoraggio e rendicontazione. La possibilità di accedere alla formazione finanziata con partecipazione mediante videoconferenza può variare a seconda dell’Ente erogante. \nAttestato di frequenza \nL’attestato di partecipazione nominativo sarà inviato al termine dell’intervento formativo ai partecipanti che si sono regolarmente collegati all’aula virtuale. \nDiritto di recesso e modalità di disdetta \nE´ attribuita ai partecipanti la facoltà di recedere ai sensi dell’art. 1373 c.c. Il recesso dovrà essere comunicato in forma scritta almeno sette giorni prima della data di inizio dell’evento formativo (escluso il sabato e la domenica). Qualora la disdetta pervenga oltre tale termine o si verifichi di fatto con il mancato collegamento alla videoconferenza\, la quota di partecipazione sarà addebitata per intero e sarà inviato al partecipante il materiale didattico. In qualunque momento l’azienda o lo studio potranno comunque sostituire il partecipante\, comunicando il nuovo nominativo alla nostra Segreteria organizzativa. \nVariazioni di programma \nParadigma\, per ragioni eccezionali e imprevedibili\, si riserva di annullare o modificare la data dell’intervento formativo\, dandone comunicazione agli interessati entro tre giorni dalla data di inizio prevista. In tali casi le quote di partecipazione pervenute verranno rimborsate\, con esclusione di qualsivoglia onere o obbligo a carico di Paradigma. Paradigma si riserva inoltre\, per ragioni sopravvenute e per cause di forza maggiore\, di modificare l’articolazione del programma e di sostituire i docenti previsti con altri docenti di pari livello professionale. \nPer ulteriori informazioni è possibile contattare la Segreteria organizzativa al numero 011.538686 o all’indirizzo email info@paradigma.it. \n\n\n		\n	\n\n\n	\n		\n			Quota di partecipazione\n	\n		\n			€ 1.100 + Iva una giornata€ 650 + Iva due giornate€ 1.750 + Iva intero progetto\n\n		\n	\n\n	\n		\n			In caso di videoconferenza con accessi multipli è necessario contattare la Segreteria organizzativa per un preventivo personalizzato. \n\n		\n	\n\n\n		\n	\n\n	\n		\n			\n\n\n\n\n\n\n	\n		\n			Early booking -20%\nInviando il modulo di iscrizione entro il 7 aprile si avrà diritto a una riduzione del 20% sulla quota di partecipazione.\n \n\n		\n	\n\n\n\n		\n	\n\n	\n		\n			\n\n		\n	\n\n	\n		\n			\n\n		\n	\n\n	\n		\n			\n\n\n\n\n\n\n	\n		\n			Progetto Giovani Eccellenze -50%\nL’adesione all’evento formativo permette di iscrivere una seconda risorsa\, che non abbia compiuto il 30° anno di età e proveniente dalla stessa organizzazione\, con una riduzione del 50% sulla seconda quota di partecipazione. L’agevolazione è calcolata sulla quota ordinaria. \n\n		\n	\n\n\n\n		\n	\n\n	\n		\n			\n\n\n\n\n\n\n	\n		\n			Formazione finanziata\nLa quota di partecipazione all’iniziativa può essere completamente rimborsata tramite voucher promossi dai Fondi Paritetici Interprofessionali. Paradigma offre la completa e gratuita gestione delle spese di progettazione\, monitoraggio e rendiconto. \n\n		\n	\n\n\n\n		\n	\n\n	\n		\n			\n\n\n\n\n\n\n	\n		\n			Mercati elettronici della PA\nParadigma opera sul MePA e sui principali mercati elettronici di soggetti aggregatori e centrali di committenza. \n\n		\n	\n\n\n\n		\n	\n\n	\n		\n			\n	\n\n\n	I campi con (*) sono obbligatori\n	\n		\n		Dati relativi all'evento\n		\n		\n			Partecipazione in aula\n			Partecipazione in videoconferenza\n		\n		\n\n		Dati relativi al richiedente\n		\n		\n		\n		\n		\n		\n		\n		\n\n	\n\n	\n\n		Dati per eventuale partecipante under 30\n		\n		\n		\n\n	\n\n	\n\n		Dati per la fatturazione elettronica\n		\n		\n		\n		\n		\n		\n				\n		\n		\n		  Split Payment:\n          \n            \n              \n              Si \n            No\n          \n        \n		\n		\n		\n		\n	\n\n	\n\n		Per informazioni contattare\n		\n		\n		\n		\n		\n	\n	L'iscrizione all'evento formativo si intende perfezionata al momento del ricevimento\, da parte di Paradigma Srl\, del presente modulo di registrazione compilato in ogni sua parte\, stampato\, firmato e inviato via e-mail all'indirizzo info@paradigma.it. Riceverete via email conferma dell'avvenuta iscrizione. \n\n\n		\n	     Acconsento all'invio di comunicazioni sui servizi Paradigma Srl - Consenso finalizzato\, anche con modalità automatizzate\, all'invio di comunicazioni relative a prodotti e servizi di Paradigma Srl e al fine di ricevere materiale informativo o promozionale.\n	\n	     Acconsento alla personalizzazione delle offerte - Consenso finalizzato\, mediante modalità automatizzate\, a personalizzare i servizi forniti e meglio indirizzare le proposte promozionali grazie ad attività di profilazione.\n	\n	Inviando i dati autorizzi Paradigma Srl a utilizzare i tuoi dati personali per evadere la richiesta di partecipazione all’evento formativo e svolgere le attività a ciò connesse. I dati potranno essere trattati\, per conto di Paradigma Srl\, da dipendenti e collaboratori incaricati di svolgere specifici servizi necessari all’esecuzione delle tue richieste. Il conferimento dei tuoi dati\, pur essendo facoltativo\, si rende necessario per l’esecuzione del servizio richiesto.	\n\n\n\n\n		\n\n\n\n\n\n		\n	\n[/vc_column][/vc_row]
URL:https://paradigma.it/iniziativa/la-disciplina-dei-fondi-di-investimento-alternativi/
CATEGORIES:Disciplina Investimenti
ORGANIZER;CN="Veronica%20Spiez":MAILTO:vspiez@paradigma.it
END:VEVENT
END:VCALENDAR