BEGIN:VCALENDAR
VERSION:2.0
PRODID:-//Paradigma srl - ECPv5.2.1//NONSGML v1.0//EN
CALSCALE:GREGORIAN
METHOD:PUBLISH
X-WR-CALNAME:Paradigma srl
X-ORIGINAL-URL:https://paradigma.it
X-WR-CALDESC:Eventi per Paradigma srl
BEGIN:VTIMEZONE
TZID:Europe/Rome
BEGIN:DAYLIGHT
TZOFFSETFROM:+0100
TZOFFSETTO:+0200
TZNAME:CEST
DTSTART:20220327T010000
END:DAYLIGHT
BEGIN:STANDARD
TZOFFSETFROM:+0200
TZOFFSETTO:+0100
TZNAME:CET
DTSTART:20221030T010000
END:STANDARD
END:VTIMEZONE
BEGIN:VEVENT
DTSTART;TZID=Europe/Rome:20220412T093000
DTEND;TZID=Europe/Rome:20220412T170000
DTSTAMP:20260421T151054
CREATED:20220207T142944Z
LAST-MODIFIED:20220408T131549Z
UID:14782-1649755800-1649782800@paradigma.it
SUMMARY:La disciplina dei concorsi  pubblici alla luce delle ultime  novità normative e del PNRR
DESCRIPTION:[vc_row][vc_column]\n	\n		\n			\n		\n	\n\n	\n		\n			I docenti\, nel corso dell’evento formativo\, risponderanno alle domande e alle richieste di chiarimenti formulate dai partecipanti. Eventuali quesiti potranno essere anticipati inviando una email all’indirizzo info@paradigma.it \n \n\n		\n	\n\n	\n		\n			Evento in videoconferenza \n\n		\n	\n\n	\n		\n			12 aprile 2022 \n\n		\n	\n\n	\n		\n			 \n\n		\n	\n\n	\n		\n			\n\n		\n	\nPresentazioneProgrammaDocentiBrochureIscrizioni e CondizioniPresentazione\n	\n		\n			Contenuti dell’evento \nLo sblocco dei concorsi ha reso evidente la necessità di una modernizzazione delle modalità di svolgimento dei concorsi che pur tuttavia restano\, non solo per previsione costituzionale\, lo strumento fondamentale per la selezione del personale a qualsiasi livello della Pubblica Amministrazione. \nLa normativa emergenziale ha favorito l’introduzione di meccanismi selettivi più agili e\, si auspica\, più efficienti per la selezione degli aspiranti più meritevoli\, che ora trovano un grande volano attraverso le previsioni del PNRR. \nIl seminario\, muovendo dagli ultimi arresti di prassi e giurisprudenza\, affronta i temi salienti – organizzativi e procedimentali – dei concorsi\, offrendo uno strumentario utile per affrontare le criticità di volta in volta rilevanti. \nDestinatari dell’evento \nL´evento formativo è rivolto ai Responsabili degli Uffici del Personale delle Pubbliche Amministrazioni e a tutte le funzioni di supporto che operano nei processi di reclutamento. \nL’iniziativa è altresì rivolta agli specialisti del diritto amministrativo operanti nelle materie trattate (concorsi e pubblico impiego)\, per i quali il convegno rappresenta una importante occasione di incontro e approfondimento. \nObiettivi dell’evento \nL’evento intende offrire ai partecipanti una importante disamina\, da parte di autorevoli esperti del settore\, della rinnovata disciplina in materia di concorsi pubblici tramite approcci operativi e indicazioni pratiche. \n\n\n		\n	\nProgramma\n	\n		\n			Martedì 12 aprile 2022 \nIl quadro normativo in materia di concorsi pubblici con particolare riferimento alle ultime novità recate dagli ultimi Decreti in materia (D.L. n. 44/2021 e D.L. n. 80/2021) nonché dal PNRR \nLe Linee Guida sulle procedure concorsuali \nLe nuove modalità di svolgimento dei concorsi pubblici con particolare riferimento a: \n• Le misure di prevenzione da contagio Covid-19\n• L’utilizzo delle tecnologie telematiche e digitali\n• Il decentramento dello svolgimento delle prove\n• Le novità in tema di requisiti per l’accesso\n• La introduzione delle soft skills in sede di prova orale \nI rapporti tra mobilità e concorso \nI requisiti di accesso al concorso \n  \nProf. Avv. Luigi Fiorillo\nFiorillo e Associati\nLuiss “Guido Carli” \n  \nLa Commissione e la valutazione dei titoli \nLo svolgimento delle prove scritte e delle prove orali \nNorme e protocollo anti Covid-19 sui concorsi\, per prevenire il contagio da SARS-CoV-2 \nLa valutazione delle prove \nLa formazione della graduatoria e il suo scorrimento \nI provvedimenti di autotutela \nIl diritto di accesso agli atti del concorso \nLe responsabilità nell’organizzazione e nella gestione dei concorsi con particolare riferimento ai profili di responsabilità erariale \nIl contenzioso concorsuale \n  \nAvv. Marco Rossi\nDipartimento della Funzione Pubblica \n\n\n		\n	\nDocenti\n	\n		\n			Prof. Avv. Luigi Fiorillo \nDocente di Diritto del lavoro e Diritto del lavoro nel pubblico impiego – Università Luiss “Guido Carli”\, docente di lavoro pubblico nel Master II livello “Management e Politiche delle Pubbliche amministrazioni – Luiss School of Governement\, già Ordinario di Diritto del lavoro nell’Università di Napoli “Federico II”. Avvocato esperto di lavoro pubblico\, autore di numerose pubblicazioni in materia  e di un manuale “Il diritto del lavoro nel pubblico impiego” \n  \nAvv. Marco Rossi \nAvvocato esperto di lavoro pubblico\, già Segretario Generale del Ministero del Lavoro e delle Politiche Sociali e Direttore del Servizio affari legali e contenzioso del Dipartimento della Funzione Pubblica\, autore di numerose pubblicazioni in materia di concorsi pubblici. \n\n\n		\n	\nBrochure\n	\n		\n			 Scarica la brochure\n\n		\n	\nIscrizioni e Condizioni\n	\n		\n			Quota di partecipazione \nLa quota di partecipazione in aula virtuale (diretta streaming) include la consegna del materiale didattico in formato elettronico e la possibilità di sottoporre ai relatori quesiti di specifico interesse a mezzo chat. E’ altresì possibile anticipare domande e richieste di approfondimento inviando una email info@paradigma.it entro il giorno antecedente l’evento. \nIn caso di videoconferenza con accessi multipli è necessario contattare la Segreteria organizzativa per un preventivo personalizzato. \nModalità di funzionamento della videoconferenza \nE’ possibile accedere all’aula virtuale da qualsiasi luogo\, utilizzando il proprio PC o tablet con una semplice connessione a Internet. La piattaforma informatica utilizzata da Paradigma (Adobe Connect) non necessita di requisiti tecnici particolari. \nNei giorni antecedenti l’evento il partecipante riceverà per posta elettronica le credenziali e le istruzioni di accesso. Il giorno dell’evento sarà sufficiente selezionare il link che troverà nella mail e inserire le credenziali per accedere all’aula virtuale. \nDurante gli interventi\, oltre a vedere e sentire i docenti\, è possibile consultare simultaneamente la documentazione predisposta dal relatore. Ogni utente collegato potrà porre domande sulle tematiche affrontate a mezzo chat\, alle quali il docente risponderà nel corso dell’intervento. \nModalità di iscrizione \nL’iscrizione si perfeziona al momento del ricevimento del modulo di registrazione\, da inviare via email all’indirizzo info@paradigma.it\, integralmente compilato. Il numero dei collegamenti disponibili è limitato e la priorità d’iscrizione è determinata dalla data di ricezione del modulo di registrazione. Si consiglia pertanto di effettuare una preiscrizione telefonica. \nModalità di pagamento \nLa quota di partecipazione deve essere versata all’atto della presentazione della richiesta di iscrizione e\, in ogni caso\, prima dell’effettuazione dell’intervento formativo\, tramite bonifico bancario intestata: \nParadigma Srl – Corso Vittorio Emanuele II\, 68 – 10121 Torino\nc/o Banco BPM Spa\nIBAN IT 14 V 05034 01017 000000002530 \nFormazione finanziata \nLa quota di partecipazione può essere completamente rimborsata tramite voucher promossi dai Fondi Paritetici Interprofessionali. Paradigma offre la completa e gratuita gestione delle spese di progettazione\, monitoraggio e rendicontazione. La possibilità di accedere alla formazione finanziata con partecipazione mediante videoconferenza può variare a seconda dell’Ente erogante. \nAttestato di frequenza \nL’attestato di partecipazione nominativo sarà inviato al termine dell’intervento formativo ai partecipanti che si sono regolarmente collegati all’aula virtuale. \nDiritto di recesso e modalità di disdetta \nE´ attribuita ai partecipanti la facoltà di recedere ai sensi dell’art. 1373 c.c. Il recesso dovrà essere comunicato in forma scritta almeno sette giorni prima della data di inizio dell’evento formativo (escluso il sabato e la domenica). Qualora la disdetta pervenga oltre tale termine o si verifichi di fatto con il mancato collegamento alla videoconferenza\, la quota di partecipazione sarà addebitata per intero e sarà inviato al partecipante il materiale didattico. In qualunque momento l’azienda o lo studio potranno comunque sostituire il partecipante\, comunicando il nuovo nominativo alla nostra Segreteria organizzativa. \nVariazioni di programma \nParadigma\, per ragioni eccezionali e imprevedibili\, si riserva di annullare o modificare la data dell’intervento formativo\, dandone comunicazione agli interessati entro tre giorni dalla data di inizio prevista. In tali casi le quote di partecipazione pervenute verranno rimborsate\, con esclusione di qualsivoglia onere o obbligo a carico di Paradigma. Paradigma si riserva inoltre\, per ragioni sopravvenute e per cause di forza maggiore\, di modificare l’articolazione del programma e di sostituire i docenti previsti con altri docenti di pari livello professionale. \nPer ulteriori informazioni è possibile contattare la Segreteria organizzativa al numero 011.538686 o all’indirizzo email info@paradigma.it. \n\n\n		\n	\n\n\n	\n		\n			Quota di partecipazione\n	\n		\n			€ 1.100 + Iva\n\n		\n	\n\n	\n		\n			In caso di videoconferenza con accessi multipli è necessario contattare la Segreteria organizzativa per un preventivo personalizzato. \n\n		\n	\n\n\n		\n	\n\n	\n		\n			\n\n\n\n\n\n\n	\n		\n			Early booking -20%\nInviando il modulo di iscrizione entro il 22 marzo si avrà diritto a una riduzione del 20% sulla quota di partecipazione. \n\n		\n	\n\n\n\n		\n	\n\n	\n		\n			\n\n		\n	\n\n	\n		\n			\n\n		\n	\n\n	\n		\n			\n\n\n\n\n\n\n	\n		\n			Progetto Giovani Eccellenze -50%\nL’adesione all’evento formativo permette di iscrivere una seconda risorsa\, che non abbia compiuto il 30° anno di età e proveniente dalla stessa organizzazione\, con una riduzione del 50% sulla seconda quota di partecipazione. L’agevolazione è calcolata sulla quota ordinaria. \n\n		\n	\n\n\n\n		\n	\n\n	\n		\n			\n\n\n\n\n\n\n	\n		\n			Formazione finanziata\nLa quota di partecipazione all’iniziativa può essere completamente rimborsata tramite voucher promossi dai Fondi Paritetici Interprofessionali. Paradigma offre la completa e gratuita gestione delle spese di progettazione\, monitoraggio e rendiconto. \n\n		\n	\n\n\n\n		\n	\n\n	\n		\n			\n\n\n\n\n\n\n	\n		\n			Mercati elettronici della PA\nParadigma opera sul MePA e sui principali mercati elettronici di soggetti aggregatori e centrali di committenza. \n\n		\n	\n\n\n\n		\n	\n\n	\n		\n			\n	\n\n\n	I campi con (*) sono obbligatori\n	\n		\n		Dati relativi all'evento\n		\n		\n			Partecipazione in aula\n			Partecipazione in videoconferenza\n		\n		\n\n		Dati relativi al richiedente\n		\n		\n		\n		\n		\n		\n		\n		\n\n	\n\n	\n\n		Dati per eventuale partecipante under 30\n		\n		\n		\n\n	\n\n	\n\n		Dati per la fatturazione elettronica\n		\n		\n		\n		\n		\n		\n				\n		\n		\n		  Split Payment:\n          \n            \n              \n              Si \n            No\n          \n        \n		\n		\n		\n		\n	\n\n	\n\n		Per informazioni contattare\n		\n		\n		\n		\n		\n	\n	L'iscrizione all'evento formativo si intende perfezionata al momento del ricevimento\, da parte di Paradigma Srl\, del presente modulo di registrazione compilato in ogni sua parte\, stampato\, firmato e inviato via e-mail all'indirizzo info@paradigma.it. Riceverete via email conferma dell'avvenuta iscrizione. \n\n\n		\n	     Acconsento all'invio di comunicazioni sui servizi Paradigma Srl - Consenso finalizzato\, anche con modalità automatizzate\, all'invio di comunicazioni relative a prodotti e servizi di Paradigma Srl e al fine di ricevere materiale informativo o promozionale.\n	\n	     Acconsento alla personalizzazione delle offerte - Consenso finalizzato\, mediante modalità automatizzate\, a personalizzare i servizi forniti e meglio indirizzare le proposte promozionali grazie ad attività di profilazione.\n	\n	Inviando i dati autorizzi Paradigma Srl a utilizzare i tuoi dati personali per evadere la richiesta di partecipazione all’evento formativo e svolgere le attività a ciò connesse. I dati potranno essere trattati\, per conto di Paradigma Srl\, da dipendenti e collaboratori incaricati di svolgere specifici servizi necessari all’esecuzione delle tue richieste. Il conferimento dei tuoi dati\, pur essendo facoltativo\, si rende necessario per l’esecuzione del servizio richiesto.	\n\n\n\n\n		\n\n\n\n\n\n		\n	\n[/vc_column][/vc_row]
URL:https://paradigma.it/iniziativa/la-disciplina-dei-concorsi-pubblici-alla-luce-delle-ultime-novita-normative-e-del-pnrr/
CATEGORIES:Pubblico Impiego
ORGANIZER;CN="Angela%20Siniscalchi":MAILTO:asiniscalchi@paradigma.it
END:VEVENT
END:VCALENDAR