BEGIN:VCALENDAR
VERSION:2.0
PRODID:-//Paradigma srl - ECPv5.2.1//NONSGML v1.0//EN
CALSCALE:GREGORIAN
METHOD:PUBLISH
X-WR-CALNAME:Paradigma srl
X-ORIGINAL-URL:https://paradigma.it
X-WR-CALDESC:Eventi per Paradigma srl
BEGIN:VTIMEZONE
TZID:Europe/Rome
BEGIN:DAYLIGHT
TZOFFSETFROM:+0100
TZOFFSETTO:+0200
TZNAME:CEST
DTSTART:20230326T010000
END:DAYLIGHT
BEGIN:STANDARD
TZOFFSETFROM:+0200
TZOFFSETTO:+0100
TZNAME:CET
DTSTART:20231029T010000
END:STANDARD
END:VTIMEZONE
BEGIN:VEVENT
DTSTART;TZID=Europe/Rome:20230207T093000
DTEND;TZID=Europe/Rome:20230207T180000
DTSTAMP:20260421T130739
CREATED:20221207T163445Z
LAST-MODIFIED:20230203T112152Z
UID:16876-1675762200-1675792800@paradigma.it
SUMMARY:La digitalizzazione  della Segreteria Societaria
DESCRIPTION:[vc_row][vc_column]\n	\n		\n			\n		\n	\n\n	\n		\n			Adempimenti di governance e digitalizzazione dei Libri Sociali  \n\nL’evoluzione della governance societaria\nIl quadro normativo e i profili giuridici\nI ruoli e le funzioni coinvolte\nL’attività di compliance\nLe implementazioni di progetto\nI profili data protection e la sicurezza informatica\nLe esperienze pratiche\n\nI docenti\, nel corso dell’evento formativo\, risponderanno alle domande e alle richieste di chiarimenti formulate dai partecipanti. Eventuali quesiti potranno essere anticipati inviando una email all’indirizzo asorba@paradigma.it \n \n\n		\n	\n\n	\n		\n			Evento in videoconferenza \n\n		\n	\n\n	\n		\n			7 febbraio 2023 \n\n		\n	\n\n	\n		\n			 \n\n		\n	\n\n	\n		\n			\n\n		\n	\nPresentazioneProgrammaDocentiBrochureIscrizioni e CondizioniPresentazione\n	\n		\n			Contenuti dell’evento \nNel corso della giornata di studio sarà analizzato il processo di transizione verso la gestione digitale dei processi di governance e di gestione dei libri sociali\, definendone le diverse fasi implementative e gli aspetti più rilevanti. \nSaranno presentate le principali problematiche dell’attuale contesto normativo e saranno condivise testimonianze di chi ha deciso di digitalizzare la segreteria societaria \nDestinatari dell’evento \nL’evento formativo è rivolto ai General Counsel\, ai Responsabili della Segreteria Societaria\, ai Responsabili del Servizio Legale dei principali gruppi finanziari e industriali italiani\, avvocati\, notai\, commercialisti e consulenti che seguono la materia societaria. \nObiettivi dell’evento \nObiettivo dell’incontro è fornire ai partecipanti un quadro dettagliato e completo del processo di transizione verso la gestione digitale dei libri sociali\, presentando strumenti operativi per adeguarsi alle nuove disposizioni\, attraverso l’analisi di casi concreti e problematiche operative. \n\n\n		\n	\nProgramma\n	\n		\n			Martedì 7 febbraio 2023 \nQUADRO NORMATIVO\, PROFILI GIURIDICI E ATTIVITA’ DI COMPLIANCE \nGli adempimenti di governance e la gestione dei libri sociali dall’analogico al digitale\nL’evoluzione del concetto di libro sociale: contabile e obbligatorio\nI profili giuridici\nLa normativa applicabile nelle diverse fasi operative e il timing da rispettare nella verbalizzazione: obblighi o prassi\nLa valenza giuridica della verbalizzazione in caso di assemblea e CdA\nL’attività di compliance sul passaggio a soluzioni digitali\nNotaio Riccardo Genghini\nPresidente ESI/ETSI\nNotaio in Milano \nPROFILI ORGANIZZATIVI\, INDIVIDUAZIONE DELLE SOLUZIONI E PROGETTAZIONE DEGLI INTERVENTI \nIl processo di gestione e conservazione dei libri sociali digitali\nLe modalità di formazione del libro digitale\nLa formazione delle scritture e del verbale digitale e le sue peculiarità\nI modelli organizzativi della gestione digitale dei libri sociali: ruoli e responsabilità\nLe firme informatiche e le diverse modalità di utilizzo della firma digitale\nIl processo di conservazione integrato\nLe modalità di esibizione: disciplina dei duplicati\, delle copie e degli estratti informatici\nL’importanza dell’equilibrio tra le architetture digitali coinvolte\nL’importanza dell’utilizzo della firma digitale all’interno del processo\, quale garanzia del valore probatorio del documento informatico\nLa possibilità di digitalizzare il processo indipendentemente dalle dimensioni aziendali\nDott.ssa Patrizia Sormani\neWitness Italia \nL’EVOLUZIONE DELLA GOVERNANCE AZIENDALE NEL PASSAGGIO DALL’ANALOGICO AL DIGITALE: RUOLI E STRUMENTI \nGli strumenti della transizione digitale a supporto dell’organizzazione delle riunioni degli organi societari\nTransizione digitale della Segreteria Societaria e ruolo del General Counsel: organizzazione\, sostenibilità e governance\nI processi e gli strumenti a supporto della preparazione e della gestione delle riunioni degli organi societari\nIl valore aggiunto della governance digitale\nDott. Fabrizio Gallotti\nDiliTrust \nIl ruolo chiave della Segreteria Societaria quale facilitatore dell’innovazione e della transizione digitale\nQualità e accessibilità delle informazioni\, efficienza nella gestione della Segreteria Societaria al servizio del processo decisionale\nLe funzioni\, le competenze e le attività del Segretario\nLa Segreteria Societaria quale collegamento dinamico tra l’azienda e l’organo di supervisione strategica\nLa “dematerializzazione” delle riunioni degli organi societari: dalla Virtual Boardroom al Paperless Board\nAvv. Antonio Sechi\nBanca Mediolanum \nPROFILI PRIVACY \nI profili di sicurezza e di gestione dei dati\nLa compliance data protection nei processi di data governance della documentazione societaria digitalizzata\nIl processo di gestione e conservazione dei libri sociali digitali alla luce degli articoli 24 e 25 del GDPR in base ai principi di privacy by design\nLa gestione dei flussi informativi contenenti dati confidenziali e particolari\nIl diritto di accesso ai libri sociali alla luce del GDPR\nIl ruolo del DPO nei processi digitali in ambito di gestione della Segreteria Societaria\nProf. Avv. Alessandro Del Ninno\nLUISS Guido Carli di Roma\n \nTAVOLA ROTONDA E TESTIMONIANZE A CONFRONTO \nIL PASSAGGIO DALL’ANALOGICO AL DIGITALE NELL’ESECUZIONE DEGLI ADEMPIMENTI SOCIETARI \nAvv. Flavia Artigiani\nGenerali Italia \nAvv. Alessio Minutoli\nFiera Milano \nAvv. Roberta Vertone\nFondazione Cariplo \n  \nCoordina i lavori\nDott.ssa Patrizia Sormani\neWitness Italia \n\n\n		\n	\nDocenti\n	\n		\n			Avv. Flavia Artigiani\nResponsabile Segreteria Societaria\nGenerali Italia \nProf. Avv. Alessandro Del Ninno\nDocente a contratto di Informatica Giuridica\nLUISS Guido Carli di Roma\nPartner\nStudio Legale Tonucci & Partners \nDott. Fabrizio Gallotti\nCountry Manager\nDiliTrust \nNotaio Riccardo Genghini\nChairman Electronic Signatures Coordination Group\nPresidente ESI/ETSI\nNotaio in Milano \nAvv. Alessio Minutoli\nGeneral Counsel\nFiera Milano \nAvv. Antonio Sechi\nHead of Group Corporate Affairs\nBanca Mediolanum \nDott.ssa Patrizia Sormani\nChief Compliance Officer\neWitness Italia \nAvv. Roberta Vertone\nUfficio Legale\nFondazione Cariplo \n\n\n		\n	\nBrochure\n	\n		\n			 Scarica la brochure\n\n		\n	\nIscrizioni e Condizioni\n	\n		\n			Quota di partecipazione \nLa quota di partecipazione in aula virtuale (diretta streaming) include l’invio del materiale didattico in formato elettronico e la possibilità di sottoporre ai relatori quesiti di specifico interesse a mezzo chat. È altresì possibile anticipare domande e richieste di approfondimento inviando una e-mail a info@paradigma.it entro il giorno antecedente l’evento. \nIn caso di videoconferenza con accessi multipli è necessario contattare la Segreteria organizzativa per un preventivo personalizzato. \nModalità di funzionamento della videoconferenza \nE’ possibile accedere all’aula virtuale da qualsiasi luogo\, utilizzando il proprio PC o tablet con una semplice connessione a Internet. La piattaforma informatica utilizzata da Paradigma (Adobe Connect) non necessita di requisiti tecnici particolari. \nNei giorni antecedenti l’evento il partecipante riceverà per posta elettronica le credenziali e le istruzioni di accesso. Il giorno dell’evento sarà sufficiente selezionare il link che troverà nella mail e inserire le credenziali per accedere all’aula virtuale. \nDurante gli interventi\, oltre a vedere e sentire i docenti\, è possibile consultare simultaneamente la documentazione predisposta dal relatore. Ogni utente collegato potrà porre domande sulle tematiche affrontate a mezzo chat\, alle quali il docente risponderà nel corso dell’intervento. \nModalità di iscrizione \nL’iscrizione si perfeziona al momento del ricevimento del modulo di registrazione\, da inviare via e-mail all’indirizzo info@paradigma.it\, integralmente compilato. Il numero dei collegamenti disponibili è limitato e la priorità d’iscrizione è determinata dalla data di ricezione del modulo di registrazione. Si consiglia pertanto di effettuare una preiscrizione telefonica. \nModalità di pagamento \nLa quota di partecipazione deve essere versata all’atto della presentazione della richiesta di iscrizione e\, in ogni caso\, prima dell’effettuazione dell’evento formativo\, tramite bonifico bancario intestato a: \nParadigma Srl – Corso Vittorio Emanuele II\, 68 – 10121 Torino\nc/o Banco BPM Spa\nIBAN IT 14 V 05034 01017 000000002530 \nFormazione finanziata \nLa quota di partecipazione può essere completamente rimborsata tramite voucher promossi dai Fondi Paritetici Interprofessionali. Paradigma offre la completa e gratuita gestione delle spese di progettazione\, monitoraggio e rendicontazione. La possibilità di accedere alla formazione finanziata con partecipazione mediante videoconferenza può variare a seconda dell’Ente erogante. \nAttestato di frequenza \nL’attestato di partecipazione nominativo sarà inviato al termine dell’evento formativo ai partecipanti che si sono regolarmente collegati all’aula virtuale. \nDiritto di recesso e modalità di disdetta \nÈ attribuita ai partecipanti la facoltà di recedere ai sensi dell’art. 1373 c.c. Il recesso dovrà essere comunicato in forma scritta almeno sette giorni prima della data di inizio dell’evento formativo (escluso il sabato e la domenica). Qualora la disdetta pervenga oltre tale termine o si verifichi di fatto con il mancato collegamento alla videoconferenza\, la quota di partecipazione sarà addebitata per intero e sarà inviato al partecipante il materiale didattico. In qualunque momento l’azienda o lo studio potranno comunque sostituire il partecipante\, comunicando il nuovo nominativo alla nostra Segreteria organizzativa. \nVariazioni di programma \nParadigma\, per ragioni eccezionali e imprevedibili\, si riserva di annullare o modificare la data dell’evento formativo\, dandone comunicazione agli interessati entro tre giorni dalla data di inizio prevista. In tali casi le quote di partecipazione pervenute verranno rimborsate\, con esclusione di qualsivoglia onere o obbligo a carico di Paradigma. Paradigma si riserva inoltre\, per ragioni sopravvenute e per cause di forza maggiore\, di modificare l’articolazione del programma e di sostituire i docenti previsti con altri docenti di pari livello professionale. \nPer ulteriori informazioni è possibile contattare la Segreteria organizzativa al numero 011.538686 o all’indirizzo e-mail info@paradigma.it. \n\n\n		\n	\n\n\n	\n		\n			Quota di partecipazione\n	\n		\n			€ 1.100 + Iva\n\n		\n	\n\n	\n		\n			In caso di videoconferenza con accessi multipli è necessario contattare la Segreteria organizzativa per un preventivo personalizzato. \n\n		\n	\n\n\n		\n	\n\n	\n		\n			\n\n\n\n\n\n\n	\n		\n			Early booking -20%\nInviando il modulo di iscrizione entro il 17 gennaio si avrà diritto a una riduzione del 20% sulla quota di partecipazione. \n\n		\n	\n\n\n\n		\n	\n\n	\n		\n			\n\n		\n	\n\n	\n		\n			\n\n		\n	\n\n	\n		\n			\n\n\n\n\n\n\n	\n		\n			Progetto Giovani Eccellenze -50%\nL’adesione all’evento formativo permette di iscrivere una seconda risorsa\, che non abbia compiuto il 30° anno di età e proveniente dalla stessa organizzazione\, con una riduzione del 50% sulla seconda quota di partecipazione. L’agevolazione è calcolata sulla quota ordinaria. \n\n		\n	\n\n\n\n		\n	\n\n	\n		\n			\n\n\n\n\n\n\n	\n		\n			Formazione finanziata\nLa quota di partecipazione all’iniziativa può essere completamente rimborsata tramite voucher promossi dai Fondi Paritetici Interprofessionali. Paradigma offre la completa e gratuita gestione delle spese di progettazione\, monitoraggio e rendiconto. \n\n		\n	\n\n\n\n		\n	\n\n	\n		\n			\n\n		\n	\n\n	\n		\n			\n	\n\n\n	I campi con (*) sono obbligatori\n	\n		\n		Dati relativi all'evento\n		\n		\n			Partecipazione in aula\n			Partecipazione in videoconferenza\n		\n		\n\n		Dati relativi al richiedente\n		\n		\n		\n		\n		\n		\n		\n		\n\n	\n\n	\n\n		Dati per eventuale partecipante under 30\n		\n		\n		\n\n	\n\n	\n\n		Dati per la fatturazione elettronica\n		\n		\n		\n		\n		\n		\n				\n		\n		\n		  Split Payment:\n          \n            \n              \n              Si \n            No\n          \n        \n		\n		\n		\n		\n	\n\n	\n\n		Per informazioni contattare\n		\n		\n		\n		\n		\n	\n	L'iscrizione all'evento formativo si intende perfezionata al momento del ricevimento\, da parte di Paradigma Srl\, del presente modulo di registrazione compilato in ogni sua parte\, stampato\, firmato e inviato via e-mail all'indirizzo info@paradigma.it. Riceverete via email conferma dell'avvenuta iscrizione. \n\n\n		\n	     Acconsento all'invio di comunicazioni sui servizi Paradigma Srl - Consenso finalizzato\, anche con modalità automatizzate\, all'invio di comunicazioni relative a prodotti e servizi di Paradigma Srl e al fine di ricevere materiale informativo o promozionale.\n	\n	     Acconsento alla personalizzazione delle offerte - Consenso finalizzato\, mediante modalità automatizzate\, a personalizzare i servizi forniti e meglio indirizzare le proposte promozionali grazie ad attività di profilazione.\n	\n	Inviando i dati autorizzi Paradigma Srl a utilizzare i tuoi dati personali per evadere la richiesta di partecipazione all’evento formativo e svolgere le attività a ciò connesse. I dati potranno essere trattati\, per conto di Paradigma Srl\, da dipendenti e collaboratori incaricati di svolgere specifici servizi necessari all’esecuzione delle tue richieste. Il conferimento dei tuoi dati\, pur essendo facoltativo\, si rende necessario per l’esecuzione del servizio richiesto.	\n\n\n\n\n		\n\n\n\n\n\n		\n	\n[/vc_column][/vc_row]
URL:https://paradigma.it/iniziativa/la-digitalizzazione-della-segreteria-societaria-3/
CATEGORIES:Governance e Diritto Societario
ORGANIZER;CN="Angela%20Siniscalchi":MAILTO:asiniscalchi@paradigma.it
END:VEVENT
END:VCALENDAR