BEGIN:VCALENDAR
VERSION:2.0
PRODID:-//Paradigma srl - ECPv5.2.1//NONSGML v1.0//EN
CALSCALE:GREGORIAN
METHOD:PUBLISH
X-WR-CALNAME:Paradigma srl
X-ORIGINAL-URL:https://paradigma.it
X-WR-CALDESC:Eventi per Paradigma srl
BEGIN:VTIMEZONE
TZID:Europe/Rome
BEGIN:DAYLIGHT
TZOFFSETFROM:+0100
TZOFFSETTO:+0200
TZNAME:CEST
DTSTART:20220327T010000
END:DAYLIGHT
BEGIN:STANDARD
TZOFFSETFROM:+0200
TZOFFSETTO:+0100
TZNAME:CET
DTSTART:20221030T010000
END:STANDARD
END:VTIMEZONE
BEGIN:VEVENT
DTSTART;TZID=Europe/Rome:20220621T093000
DTEND;TZID=Europe/Rome:20220622T180000
DTSTAMP:20260421T151742
CREATED:20220314T101524Z
LAST-MODIFIED:20220617T083728Z
UID:15017-1655803800-1655920800@paradigma.it
SUMMARY:La digitalizzazione dei rapporti  con la clientela e il collocamento  a distanza di prodotti bancari\,  finanziari e assicurativi
DESCRIPTION:[vc_row][vc_column]\n	\n		\n			\n		\n	\n\n	\n		\n			\nIdentificazione a distanza e conclusione del contratto\nOrientamenti di Banca d’Italia e Report EBA in materia di POG bancaria\nMifid2 e Quick Fix\nPSD2 e PAD\nMica – L’offerta di cryptoasset\nNormativa di recepimento IDD\nDisciplina antiriciclaggio\, AML Package e ultime novità\nAdempimenti privacy e recenti orientamenti EDPB e Garante Privacy\n\nI docenti\, nel corso dell’evento formativo\, risponderanno alle domande e alle richieste di chiarimenti formulate dai partecipanti. Eventuali quesiti potranno essere anticipati inviando una email all’indirizzo asorba@paradigma.it \n \n\n		\n	\n\n	\n		\n			Evento in videoconferenza \n\n		\n	\n\n	\n		\n			21 e 22 giugno 2022 \n\n		\n	\n\n	\n		\n			 \n\n		\n	\n\n	\n		\n			\n\n		\n	\nPresentazioneProgrammaDocentiBrochureIscrizioni e CondizioniPresentazione\n	\n		\n			Contenuti dell’evento \nNel corso delle giornate di studio saranno esaminate le rilevanti novità introdotte dal mutato quadro normativo e regolamentare\, verificando il loro l’impatto sulla disciplina del collocamento a distanza di prodotti e servizi bancari\, finanziari e assicurativi. \nOltre all’analisi delle novità introdotte dalla Mifid2\, dalla PSD2\, dalla IDD\, dalla POG bancaria nonché dai numerosi provvedimenti delle Autorità di Vigilanza; interventi significativi riguarderanno i temi dell’identificazione dei contraenti e delle frodi informatiche\, la disciplina delle firme elettroniche\, gli adempimenti privacy e gli obblighi antiriciclaggio. \nNel corso delle due giornate\, autorevoli giuristi e tecnici del settore\, illustreranno le novità sopra descritte\, presentando soluzioni alle principali problematiche del settore e definendo le necessarie modifiche a contratti e processi finalizzate a un corretto adeguamento alle nuove regole. \nDestinatari dell’evento \nIl seminario è rivolto ai Responsabili della Compliance e del Servizio Legale\, ai Responsabili dei Sistemi Informativi e ai Responsabili Commerciali e ai gestori delle Reti Distributive di banche e intermediari finanziari\, assicurazioni\, avvocati e consulenti. \nObiettivi dell’evento \nObiettivo dell’incontro è presentare un quadro dettagliato e completo delle principali novità introdotte\, mettendo a disposizione dei partecipanti strumenti operativi e indicazioni pratiche per adeguarsi alle nuove disposizioni normative e sviluppare o implementare correttamente i processi descritti. \n\n\n		\n	\nProgramma\n	\n		\n			Prima giornata\nMartedì 21 giugno 2022 \nL’identificazione elettronica dei contraenti e l’identità digitale\nLa normativa di riferimento\, il Regolamento UE n. 910/2014\nL’interoperabilità degli strumenti di identificazione nel Regolamento eIDAS\nLa proposta della Commissione europea per la modifica del Regolamento UE n. 910/2014 in materia di Identità Digitale Europea ed il cammino verso Eidas 2\nLa raccomandazione della Commissione europea del 3 giugno 2021\nLe tecnologie a supporto dell’identificazione dei contraenti\, lo SPID e l’identità digitale\nLe disposizioni specifiche in materia di domicilio digitale\nNotaio Riccardo Genghini\nESI/ETSI\nNotaio in Milano \nL’impatto della normativa sull’identificazione elettronica e la prevenzione delle frodi informatiche\nLe Linee Guida dell’AGID in materia di formazione\, gestione e conservazione dei documenti informatici\nIl sistema delle deleghe via SPID nel Decreto Semplificazioni 2021\nI rischi di frodi\, i furti di identità e gli illeciti utilizzi\nDott.ssa Patrizia Sormani\neWitness Italia \nLe modalità di conclusione del contratto e l’uso delle firme elettroniche\nLa conclusione via Internet di contratti bancari\, finanziari e assicurativi\nLa conclusione via e-mail dei contratti bancari\, finanziari e assicurativi nell’emergenza COViD-19\nUso\, rilevanza e limiti della posta elettronica e della posta elettronica certificata\nIl valore probatorio di documenti informatici\, copie e duplicati\nFirma elettronica\, firma elettronica avanzata e firma digitale\nLa sottoscrizione via SPID dei documenti informatici nelle Linee Guida AGID\nGli obblighi di conservazione dei documenti informatici\nDott.ssa Patrizia Sormani\neWitness Italia \nLa disciplina applicabile al collocamento a distanza di prodotti finanziari e servizi di investimento\nLa promozione e il collocamento a distanza di prodotti finanziari e di servizi e attività di investimento tra TUF\, Regolamento Intermediari e Codice del Consumo\nGli obblighi procedurali degli intermediari in tema di remote trading\nIl Final Report dell’ESMA in materia di negoziazione algoritmica\nI chiarimenti e le comunicazioni dell’ESMA in epoca COViD-19 e il Quick Fix di MiFID2\nLe Linee Guida dell’ESMA in materia di appropriatezza ed execution-only\nL’utilizzo di strumenti e canali digitali nella call for evidence dell’ESMA in merito ad alcuni aspetti della protezione degli investitori retail\nI più recenti orientamenti dell’ACF in tema di trading online\nLa giurisprudenza successiva alle Sezioni Unite del 2018 sul contratto “monofirma”\nLa strategia sulla finanza digitale della Commissione UE nell’ambito del Digital Finance Package\nAvv. Giorgio Gasparri\nCONSOB\nUniversità di Napoli Federico II \nLa distribuzione a distanza di prodotti e servizi bancari alla luce della disciplina in materia di Product Oversight and Governance (POG)\nL’individuazione delle classi di clientela e del target market di riferimento\nGli obblighi per i produttori e per i distributori\nLa fase di product testing\nI rapporti con la valutazione del merito creditizio\nLe difficoltà di assessment in relazione ai prodotti composti\nL’emergenza COViD-19 e gli impatti sull’applicazione delle regole di Product Governance\nLa decisione della CGUE (C-911/19) sulla validità degli Orientamenti EBA in materia di POG dei prodotti bancari\nI Report EBA sull’applicazione delle Linee Guida in materia di POG bancari\nGli Orientamenti di Banca d’Italia del 1° aprile 2021\nAvv. Fabio Coco\nZitiello e Associati Studio Legale \nLa strategia sulla finanza digitale della Commissione europea e la proposta di regolamento europeo in materia di crypto-asset\nLa proposta di Regolamento MiCa: ambito di applicazione e principali definizioni\nI profili critici dei c.d. “stablecoin”\nLa disciplina degli emittenti di crypto-asset\nLa disciplina in materia di offerta e commercializzazione di crypto-asset\nIl trattamento dei crypto-asset ai fini della disciplina antiriciclaggio\, anche alla luce del nuovo Pacchetto AML della Commissione europea e della Guidance del FATF in materia di virtual assets\nAvv. Fabio Coco\nZitiello e Associati Studio Legale \nPSD2\, PAD e nuovi servizi di pagamento\nIl recepimento della PSD2 e della PAD nella normativa primaria e secondaria\nLe criticità derivanti dalla sovrapposizione delle fonti\nI nuovi servizi e le nuove figure di intermediari (AISP\, PISP\, CISP\, ASPSP)\nLa Strong Customer Authentication (SCA)\nLa Comunicazione di Banca d’Italia dell’8 aprile 2020\nLa strategia per i pagamenti retail nel Digital Finance Package della Commissione UE\nLe Linee Guida EDPB 06/2020 sull’interazione tra PSD2 e GDPR\nLa consultazione della Commissione europea in materia di pagamenti istantanei\nLe modifiche del 1° luglio 2021 alle disposizioni sulla trasparenza bancaria\nLe Linee Guida poste in consultazione dall’EBA in materia di strumenti a spendibilità limitata\nAvv. Fabrizio Cascinelli\nPwC Tax and Legal Services \n  \n  \nSeconda giornata\nMercoledì 22 giugno 2022 \nLe proposte di regolamenti europei in materia di infrastrutture di mercato basate su DLT e in materia di resilienza operativa digitale\nSmart contract e tecnologie DLT\, anche alla luce della proposta di regolamento europeo sul regime pilota delle infrastrutture di mercato basate su tecnologia DLT\nLa call for evidence dell’ESMA sul regime pilota delle infrastrutture di mercato basate su tecnologia DLT\nLa proposta di Regolamento DORA: ambito di applicazione e principali definizioni\nLe regole per la gestione dei rischi in ambito ICT\nLe regole e gli obblighi in materia di incidenti di sicurezza informatica\nAvv. Andrea Polizzi\nStudio Legale D’Argenio Polizzi e Associati \nLa distribuzione assicurativa alla luce della disciplina di recepimento della Direttiva UE 2016/97 (IDD)\nGli impatti del recepimento della IDD e le novità del Regolamento IVASS n. 40/2018\nIl Regolamento n. 41/2018 in materia di informativa\, pubblicità e realizzazione dei prodotti assicurativi\nIl Provvedimento IVASS n. 97/2020 e le modifiche ai Regolamenti IVASS nn. 40 e 41/2018\nIl D.Lgs. n. 187/2020 e le modifiche al CAP\nGli obblighi di governo e controllo del prodotto nel CAP\, nelle Linee Guida EIOPA\, nel Regolamento delegato UE 2358/2017 e nel Regolamento IVASS n. 45/2020\nLa valutazione di idoneità e adeguatezza anche alla luce del Regolamento delegato UE n. 2359/2017\nGli interventi dell’IVASS nell’emergenza COViD-19: la gestione dei reclami e delle richieste di informazioni della clientela e le misure di mitigazione dell’impatto della pandemia\nI chiarimenti applicativi dell’IVASS in materia di distribuzione assicurativa\nLa strategia dell’EIOPA per la trasformazione digitale\nAvv. Andrea Polizzi\nStudio Legale D’Argenio Polizzi e Associati \nL’outsourcing nei processi di digitalizzazione nei settori bancario e finanziario\nIl recepimento delle Linee Guida dell’EBA in materia di outsourcing nel 34° aggiornamento della Circolare 285/2013 di Banca d’Italia: le modifiche in tema di esternalizzazione al di fuori del gruppo\nL’individuazione delle “funzioni operative importanti”\nGli obblighi degli intermediari: profili di governance\, continuità operativa e requisiti in materia di documentazione\nLa policy di esternalizzazione\nLa negoziazione dei contratti di esternalizzazione: vincoli da rispettare\, due diligence sul fornitore di servizi ed exit strategy\nIl contenuto del contratto di funzioni in outsourcing e le clausole principali\nLe Linee Guida ESMA sul cloud outsourcing del 18 dicembre 2020\nAvv. Fabio Coco\nZitiello e Associati Studio Legale \nGli adempimenti antiriciclaggio alla luce delle disposizioni di recepimento della Banca d’Italia e dell’IVASS\, delle modifiche apportate dalla V Direttiva e del Decreto Semplificazioni 2020\nIl contenuto e le modalità di esecuzione dell’adeguata verifica della clientela\nL’identificazione tramite identità digitale e uso di firme digitali\, anche alla luce delle Guidance on Digital Identity del FATF\nLe disposizioni della Banca d’Italia e dell’IVASS in materia di adeguata verifica a distanza\nL’Opinion delle ESAs sull’utilizzo di soluzioni innovative ai fini degli adempimenti di adeguata verifica della clientela\nLe nuove Linee Guida delle ESAs sui fattori di rischio con focus su attività a distanza\nL’emergenza COViD-19 e impatti sui fenomeni di riciclaggio: cenni sulla base delle indicazioni fornite da Autorità di Vigilanza\nLe norme in tema di adeguata verifica a distanza nel Decreto Semplificazioni 2020\nLe novità del Pacchetto AML della Commissione europea in materia di adeguata verifica a distanza della clientela\nLe Linee Guida poste in consultazione dall’EBA in materia di utilizzo di soluzioni per l’onboarding della clientela da remoto\nAvv. Carla Giuliani\nStudio Legale Atrigna & Partners \nL’impatto del Regolamento UE n. 679/2016 in materia di protezione dei dati personali\nLa promozione delle attività della banca e le modalità di contatto e di fidelizzazione dei clienti\nLa profilazione della clientela anche alla luce delle Linee Guida del WP29\nLa gestione dei ruoli e adempimenti privacy nelle varie fasi del collocamento e nella conservazione della documentazione contrattuale e dei dati dei clienti\nLe modulistiche contrattuali di informativa e consenso per la clientela\nLe altre misure organizzative e tecniche: Privacy by design/default e Data Protection Impact Assessment\nGli accorgimenti privacy per la gestione dei presidi e controlli per l’emergenza COViD-19\nPanoramica delle ultime linee guida e raccomandazioni dell’EDPB di interesse in ambito finanziario\nAvv. Giovanni Guerra\nStudio Legale Guerra Ricchiuto \n\n\n		\n	\nDocenti\n	\n		\n			Avv. Fabrizio Cascinelli\nPartner\nPwC Tax and Legal Services \nAvv. Fabio Coco\nZitiello e Associati Studio Legale \nAvv. Giorgio Gasparri\nUfficio Studi Giuridici\nCONSOB\nDocente a Contratto di Diritto dei Mercati Finanziari\nUniversità di Napoli Federico II \nNotaio Riccardo Genghini\nChairman Electronic Signatures Coordination Group\nPresidente ESI/ETSI\nNotaio in Milano \nAvv. Carla Giuliani\nPartner\nStudio Legale Atrigna & Partners \nAvv. Giovanni Guerra\nPartner\nStudio Legale Guerra Ricchiuto \nAvv. Andrea Polizzi\nStudio Legale D’Argenio Polizzi e Associati \nDott.ssa Patrizia Sormani\nChief Compliance Officer\neWitness Italia \n\n\n		\n	\nBrochure\n	\n		\n			 Scarica la brochure\n\n		\n	\nIscrizioni e Condizioni\n	\n		\n			Quota di partecipazione \nLa quota di partecipazione in aula virtuale (diretta streaming) include la consegna del materiale didattico in formato elettronico e la possibilità di sottoporre ai relatori quesiti di specifico interesse a mezzo chat. E’ altresì possibile anticipare domande e richieste di approfondimento inviando una email a info@paradigma.it entro il giorno antecedente l’evento. \nIn caso di videoconferenza con accessi multipli è necessario contattare la Segreteria organizzativa per un preventivo personalizzato. \nModalità di funzionamento della videoconferenza \nE’ possibile accedere all’aula virtuale da qualsiasi luogo\, utilizzando il proprio PC o tablet con una semplice connessione a Internet. La piattaforma informatica utilizzata da Paradigma (Adobe Connect) non necessita di requisiti tecnici particolari. \nNei giorni antecedenti l’evento il partecipante riceverà per posta elettronica le credenziali e le istruzioni di accesso. Il giorno dell’evento sarà sufficiente selezionare il link che troverà nella mail e inserire le credenziali per accedere all’aula virtuale. \nDurante gli interventi\, oltre a vedere e sentire i docenti\, è possibile consultare simultaneamente la documentazione predisposta dal relatore. Ogni utente collegato potrà porre domande sulle tematiche affrontate a mezzo chat\, alle quali il docente risponderà nel corso dell’intervento. \nModalità di iscrizione \nL’iscrizione si perfeziona al momento del ricevimento del modulo di registrazione\, da inviare via email all’indirizzo info@paradigma.it\, integralmente compilato. Il numero dei collegamenti disponibili è limitato e la priorità d’iscrizione è determinata dalla data di ricezione del modulo di registrazione. Si consiglia pertanto di effettuare una preiscrizione telefonica. \nModalità di pagamento \nLa quota di partecipazione deve essere versata all’atto della presentazione della richiesta di iscrizione e\, in ogni caso\, prima dell’effettuazione dell’intervento formativo\, tramite bonifico bancario intestato a: \nParadigma Srl – Corso Vittorio Emanuele II\, 68 – 10121 Torino\nc/o Banco BPM Spa\nIBAN IT 14 V 05034 01017 000000002530 \nFormazione finanziata \nLa quota di partecipazione può essere completamente rimborsata tramite voucher promossi dai Fondi Paritetici Interprofessionali. Paradigma offre la completa e gratuita gestione delle spese di progettazione\, monitoraggio e rendicontazione. La possibilità di accedere alla formazione finanziata con partecipazione mediante videoconferenza può variare a seconda dell’Ente erogante. \nAttestato di frequenza \nL’attestato di partecipazione nominativo sarà inviato al termine dell’intervento formativo ai partecipanti che si sono regolarmente collegati all’aula virtuale. \nDiritto di recesso e modalità di disdetta \nE´ attribuita ai partecipanti la facoltà di recedere ai sensi dell’art. 1373 c.c. Il recesso dovrà essere comunicato in forma scritta almeno sette giorni prima della data di inizio dell’evento formativo (escluso il sabato e la domenica). Qualora la disdetta pervenga oltre tale termine o si verifichi di fatto con il mancato collegamento alla videoconferenza\, la quota di partecipazione sarà addebitata per intero e sarà inviato al partecipante il materiale didattico. In qualunque momento l’azienda o lo studio potranno comunque sostituire il partecipante\, comunicando il nuovo nominativo alla nostra Segreteria organizzativa. \nVariazioni di programma \nParadigma\, per ragioni eccezionali e imprevedibili\, si riserva di annullare o modificare la data dell’intervento formativo\, dandone comunicazione agli interessati entro tre giorni dalla data di inizio prevista. In tali casi le quote di partecipazione pervenute verranno rimborsate\, con esclusione di qualsivoglia onere o obbligo a carico di Paradigma. Paradigma si riserva inoltre\, per ragioni sopravvenute e per cause di forza maggiore\, di modificare l’articolazione del programma e di sostituire i docenti previsti con altri docenti di pari livello professionale. \nPer ulteriori informazioni è possibile contattare la Segreteria organizzativa al numero 011.538686 o all’indirizzo email info@paradigma.it. \n\n\n		\n	\n\n\n	\n		\n			Quota di partecipazione\n	\n		\n			€ 1.100 + Iva una giornata€ 2.050 + Iva due giornate\n\n		\n	\n\n	\n		\n			In caso di videoconferenza con accessi multipli è necessario contattare la Segreteria organizzativa per un preventivo personalizzato. \n\n		\n	\n\n\n		\n	\n\n	\n		\n			\n\n\n\n\n\n\n	\n		\n			Early booking -20%\nInviando il modulo di iscrizione entro il 31 maggio si avrà diritto a una riduzione del 20% sulla quota di partecipazione. \n\n		\n	\n\n\n\n		\n	\n\n	\n		\n			\n\n		\n	\n\n	\n		\n			\n\n		\n	\n\n	\n		\n			\n\n\n\n\n\n\n	\n		\n			Progetto Giovani Eccellenze -50%\nL’adesione all’evento formativo permette di iscrivere una seconda risorsa\, che non abbia compiuto il 30° anno di età e proveniente dalla stessa organizzazione\, con una riduzione del 50% sulla seconda quota di partecipazione. L’agevolazione è calcolata sulla quota ordinaria. \n\n		\n	\n\n\n\n		\n	\n\n	\n		\n			\n\n\n\n\n\n\n	\n		\n			Formazione finanziata\nLa quota di partecipazione all’iniziativa può essere completamente rimborsata tramite voucher promossi dai Fondi Paritetici Interprofessionali. Paradigma offre la completa e gratuita gestione delle spese di progettazione\, monitoraggio e rendiconto. \n\n		\n	\n\n\n\n		\n	\n\n	\n		\n			\n\n\n\n\n\n\n	\n		\n			Mercati elettronici della PA\nParadigma opera sul MePA e sui principali mercati elettronici di soggetti aggregatori e centrali di committenza. \n\n		\n	\n\n\n\n		\n	\n\n	\n		\n			\n	\n\n\n	I campi con (*) sono obbligatori\n	\n		\n		Dati relativi all'evento\n		\n		\n			Partecipazione in aula\n			Partecipazione in videoconferenza\n		\n		\n\n		Dati relativi al richiedente\n		\n		\n		\n		\n		\n		\n		\n		\n\n	\n\n	\n\n		Dati per eventuale partecipante under 30\n		\n		\n		\n\n	\n\n	\n\n		Dati per la fatturazione elettronica\n		\n		\n		\n		\n		\n		\n				\n		\n		\n		  Split Payment:\n          \n            \n              \n              Si \n            No\n          \n        \n		\n		\n		\n		\n	\n\n	\n\n		Per informazioni contattare\n		\n		\n		\n		\n		\n	\n	L'iscrizione all'evento formativo si intende perfezionata al momento del ricevimento\, da parte di Paradigma Srl\, del presente modulo di registrazione compilato in ogni sua parte\, stampato\, firmato e inviato via e-mail all'indirizzo info@paradigma.it. Riceverete via email conferma dell'avvenuta iscrizione. \n\n\n		\n	     Acconsento all'invio di comunicazioni sui servizi Paradigma Srl - Consenso finalizzato\, anche con modalità automatizzate\, all'invio di comunicazioni relative a prodotti e servizi di Paradigma Srl e al fine di ricevere materiale informativo o promozionale.\n	\n	     Acconsento alla personalizzazione delle offerte - Consenso finalizzato\, mediante modalità automatizzate\, a personalizzare i servizi forniti e meglio indirizzare le proposte promozionali grazie ad attività di profilazione.\n	\n	Inviando i dati autorizzi Paradigma Srl a utilizzare i tuoi dati personali per evadere la richiesta di partecipazione all’evento formativo e svolgere le attività a ciò connesse. I dati potranno essere trattati\, per conto di Paradigma Srl\, da dipendenti e collaboratori incaricati di svolgere specifici servizi necessari all’esecuzione delle tue richieste. Il conferimento dei tuoi dati\, pur essendo facoltativo\, si rende necessario per l’esecuzione del servizio richiesto.	\n\n\n\n\n		\n\n\n\n\n\n		\n	\n[/vc_column][/vc_row]
URL:https://paradigma.it/iniziativa/la-digitalizzazione-dei-rapporti-con-la-clientela-e-il-collocamento-a-distanza-di-prodotti-bancari-finanziari-e-assicurativi-4/
CATEGORIES:Diritto Bancario
ORGANIZER;CN="Veronica%20Spiez":MAILTO:vspiez@paradigma.it
END:VEVENT
END:VCALENDAR