BEGIN:VCALENDAR
VERSION:2.0
PRODID:-//Paradigma srl - ECPv5.2.1//NONSGML v1.0//EN
CALSCALE:GREGORIAN
METHOD:PUBLISH
X-WR-CALNAME:Paradigma srl
X-ORIGINAL-URL:https://paradigma.it
X-WR-CALDESC:Eventi per Paradigma srl
BEGIN:VTIMEZONE
TZID:Europe/Rome
BEGIN:DAYLIGHT
TZOFFSETFROM:+0100
TZOFFSETTO:+0200
TZNAME:CEST
DTSTART:20250330T010000
END:DAYLIGHT
BEGIN:STANDARD
TZOFFSETFROM:+0200
TZOFFSETTO:+0100
TZNAME:CET
DTSTART:20251026T010000
END:STANDARD
END:VTIMEZONE
BEGIN:VEVENT
DTSTART;TZID=Europe/Rome:20251016T093000
DTEND;TZID=Europe/Rome:20251016T133000
DTSTAMP:20260421T125936
CREATED:20250825T134358Z
LAST-MODIFIED:20251014T092653Z
UID:24315-1760607000-1760621400@paradigma.it
SUMMARY:La digitalizzazione  dei documenti fiscali  e amministrativi
DESCRIPTION:[vc_row][vc_column]\n	\n		\n			\n		\n	\n\n	\n		\n			La gestione del processo aziendale e gli adempimenti operativi\nGli impatti del Regolamento e-IDAS 2 \n \n\n		\n	\n\n	\n		\n			09.30 – 13.30 \n\n		\n	\n\n	\n		\n			Evento in diretta streaming \n\n		\n	\n\n	\n		\n			 \n\n		\n	\n\n	\n		\n			\n\n		\n	\nPresentazioneProgrammaDocentiBrochureIscrizioni e CondizioniPresentazione\n	\n		\n			Contenuti dell’evento \nNel corso del workshop sarà analizzata la disciplina della conservazione digitale con particolare attenzione alla gestione digitale dei documenti amministrativi e fiscali in tutto il loro ciclo di vita. \nLa conoscenza sulla digitalizzazione dei processi documentali\, soprattutto in ambito fiscale\, è diventata strategica e necessaria per le aziende e i professionisti\, ma necessita di essere guidata e chiarita da esperti in materia attraverso il commento e l’interpretazione della norma e mediante la presentazione di casi d’uso pratici. \nDestinatari dell’evento \nL’evento formativo è rivolto ai Responsabili Amministrativi e ai Responsabili della Contabilità Generale\, ai Responsabili del Servizio Fiscale\, ai Responsabili dei Sistemi Informativi e ai Responsabili dell’Organizzazione di banche e intermediari finanziari\, imprese industriali e commerciali\, ai Responsabili della Conservazione Digitale\, Dirigenti e Funzionari della Pubblica Amministrazione\, assicurazioni\, Avvocati\, Commercialisti e consulenti. \nObiettivi dell’evento \nObiettivo dell’incontro è fornire ai partecipanti un quadro dettagliato e completo delle novità in materia di formazione\, gestione e conservazione digitale dei documenti amministrativi\, civilistici e fiscali e delle connesse opportunità per aziende e professionisti\, presentando strumenti operativi e innovativi per la gestione da remoto e in sicurezza del patrimonio documentale aziendale\, attraverso l’analisi di casi concreti e problematiche operative. \nIl corso si pone\, inoltre\, l’obiettivo di far comprendere i requisiti della conservazione digitale a norma dei documenti rilevanti ai fini tributari e il ruolo e i compiti del Responsabile della conservazione\, in particolare all’interno dell’azienda titolare dei documenti\, rispetto al fornitore della conservazione digitale. \n\n\n		\n	\nProgramma\n	\n		\n			Giovedì 16 ottobre 2025 \nLa digitalizzazione dei documenti fiscali e amministrativi\nQuadro normativo di riferimento: norme primarie e norme secondarie\nLe disposizioni del CAD e la loro attuazione secondo le Linee Guida AGID\nLe norme specifiche sulla conservazione digitale dei documenti amministrativi e fiscali (D.M. del 17 giugno 2014): modalità e tempistiche\nIl monitoraggio del processo di conservazione digitale\nLa differenza tra tenuta\, archiviazione e conservazione dei registri contabili\nLa conservazione digitale delle fatture elettroniche a cura dell’Agenzia delle Entrate\nI controlli ai fini del pagamento dell’imposta di bollo sui documenti fiscali e civilistici\nCome arrivare preparati alle verifiche dell’Amministrazione finanziaria: la check list dei controlli sui documenti digitali\nLa conservazione digitale degli scontrini digitali\nLa conservazione digitale del documento TD29 – autofattura spia\nIl processo di conservazione dei libri civilistici ai sensi dell’art. 2215 bis del c.c. \nIl processo di conservazione e le novità introdotte dal Regolamento e-IDAS 2\nLe fasi del processo di conservazione digitale\nLe regole e i controlli per la gestione dei lotti di conservazione e dei pacchetti di versamento\nIl Regolamento (UE) 2024/1183 e-IDAS 2 entrato in vigore il 20 maggio 2024: introduzione del servizio fiduciario europeo di archiviazione elettronica attraverso conservatori qualificati\nIl flusso di comunicazione tra impresa e fornitore del servizio di conservazione digitale e la sicurezza del sistema di conservazione (il rapporto di versamento)\nCaso d’uso di Document Management System: come definire le tipologie documenti del ciclo attivo\, passivo e della contabilità e i relativi metadati\nLe funzionalità da prevedere nel sistema di consultazione dei documenti informatici \nIl ruolo del Responsabile della conservazione nell’ambito dell’organizzazione aziendale\nI modelli organizzativi della conservazione\nI diversi ruoli nel processo di conservazione e la governance dei processi di dematerializzazione\nIl Responsabile della conservazione: compiti e competenze\nL’atto di nomina del Responsabile della conservazione: contenuto e modalità di comunicazione\nIl sistema delle deleghe all’interno e all’esterno dell’azienda\nL’atto di delega al Responsabile del fornitore del servizio di conservazione a cura del Responsabile della conservazione\nIl ruolo del Responsabile della conservazione nel rapporto con l’Agenzia delle Entrate e con gli organi di controllo aziendale (interni ed esterni) \nLa struttura e i contenuti del Manuale della conservazione e del contratto con il fornitore esterno\nLa previsione normativa e la finalità del Manuale della conservazione\nIndice e contenuti del Manuale della conservazione\nLe clausole principali del contratto con il fornitore esterno del servizio di conservazione\nEsempi di SLA da applicare nel contratto verso il conservatore\nCosa prevedere nel caso di modifica del conservatore esterno \n  \nDott. Rosario Farina \nANORC Professioni \nOsservatorio Fatturazione Elettronica & eCommerce B2B\nSchool of Management Politecnico di Milano \n\n\n		\n	\nDocenti\n	\n		\n			Dott. Rosario Farina \nChief Digital Officer e Componente Comitato Scientifico\nANORC Professioni\nComponente Advisory Board\nOsservatorio Fatturazione Elettronica & eCommerce B2B\nSchool of Management Politecnico di Milano \n\n\n		\n	\nBrochure\n	\n		\n			 Scarica la brochure\n\n		\n	\nIscrizioni e Condizioni\n	\n		\n			Quota di partecipazione \nLa quota di partecipazione in diretta streaming include la fruizione degli interventi\, nonché la possibilità di scaricare\, in formato elettronico\, il materiale didattico che i relatori riterranno di mettere a disposizione. \nÈ inoltre prevista la possibilità di rivolgere contestualmente domande ai docenti (attivando il proprio microfono o tramite chat)\, oppure sottoporle in via preventiva\, inviando una e-mail a info@optime.it entro il giorno antecedente l’evento. \nIn caso di diretta streaming con accessi multipli è necessario contattare la Segreteria Organizzativa per un preventivo personalizzato. \nModalità di funzionamento della diretta streaming \nE’ possibile accedere all’aula virtuale da qualsiasi luogo\, utilizzando il proprio PC o tablet con una semplice connessione a Internet. La piattaforma informatica utilizzata da Optime non necessita di requisiti tecnici particolari. \nNei giorni antecedenti l’evento il partecipante riceverà per posta elettronica le credenziali e le istruzioni di accesso. Il giorno dell’evento sarà sufficiente selezionare il link che troverà nella mail e inserire le credenziali per accedere all’aula virtuale. \nDurante gli interventi\, oltre a vedere e sentire i docenti\, è possibile consultare simultaneamente la documentazione predisposta dal relatore. Ogni utente collegato potrà porre domande sulle tematiche affrontate (attivando il proprio microfono o tramite chat)\, alle quali il docente risponderà nel corso dell’intervento. \nModalità di iscrizione \nL’iscrizione si perfeziona al momento del ricevimento del modulo di registrazione\, da inviare via e-mail all’indirizzo info@optime.it\, integralmente compilato e sottoscritto. Il numero dei collegamenti disponibili è limitato e la priorità d’iscrizione è determinata dalla data di ricezione del modulo di registrazione. Si consiglia pertanto di effettuare una preiscrizione telefonica. \nModalità di pagamento \nLa quota di partecipazione deve essere versata all’atto della presentazione della richiesta di iscrizione e\, in ogni caso\, prima dell’effettuazione dell’evento formativo\, tramite bonifico bancario intestato a:\nParadigma Srl – Corso Vittorio Emanuele II\, 68 – 10121 Torino\nc/o Banco BPM Spa\nIBAN IT 14 V 05034 01017 000000002530 \nFormazione finanziata \nLa quota di partecipazione può essere completamente rimborsata tramite voucher promossi dai Fondi Paritetici Interprofessionali. Optime offre la completa e gratuita gestione delle spese di progettazione\, monitoraggio e rendicontazione. La possibilità di accedere alla formazione finanziata con partecipazione mediante diretta streaming può variare a seconda dell’Ente erogante. \nAttestato di frequenza \nL’attestato di partecipazione nominativo sarà inviato al termine dell’evento formativo ai partecipanti che si sono regolarmente collegati all’aula virtuale. \nDiritto di recesso e modalità di disdetta \nÈ attribuita ai partecipanti la facoltà di recedere ai sensi dell’art. 1373 c.c. Il recesso dovrà essere comunicato in forma scritta almeno sette giorni prima della data di inizio dell’evento formativo (escluso il sabato e la domenica). Qualora la disdetta pervenga oltre tale termine o si verifichi di fatto con il mancato collegamento alla diretta streaming\, la quota di partecipazione sarà addebitata per intero e sarà inviato al partecipante il materiale didattico e\, se disponibile e per un periodo limitato\, la registrazione dell’evento. In qualunque momento l’azienda o lo studio potranno comunque sostituire il partecipante\, comunicando il nuovo nominativo alla nostra Segreteria Oorganizzativa. \nVariazioni di programma \nParadigma\, per ragioni eccezionali e imprevedibili\, si riserva di annullare o modificare la data dell’evento formativo\, dandone comunicazione agli interessati entro tre giorni dalla data di inizio prevista. In tali casi le quote di partecipazione pervenute verranno rimborsate\, con esclusione di qualsivoglia onere o obbligo a carico di Paradigma. Paradigma si riserva inoltre\, per ragioni sopravvenute e per cause di forza maggiore\, di modificare l’articolazione del programma e di sostituire i docenti previsti con altri docenti di pari livello professionale. \nPer ulteriori informazioni è possibile contattare la Segreteria Organizzativa al numero 011.538686 o all’indirizzo e-mail info@optime.it. \n\n\n		\n	\n\n\n	\n		\n			Quota di partecipazione\n	\n		\n			€ 650 + Iva\n\n		\n	\n\n	\n		\n			In caso di videoconferenza con accessi multipli è necessario contattare la Segreteria organizzativa per un preventivo personalizzato. \n\n		\n	\n\n\n		\n	\n\n	\n		\n			\n\n\n\n\n\n\n	\n		\n			Early booking -20%\nInviando il modulo di iscrizione entro il 25 settembre si avrà diritto a una riduzione del 20% sulla quota di partecipazione. \n\n		\n	\n\n\n\n		\n	\n\n	\n		\n			\n\n\n\n\n\n\n	\n		\n			Quota corporate\nIscrivi all’evento 5 o più risorse provenienti dalla stessa organizzazione con una riduzione del 50%. \n\n		\n	\n\n\n\n		\n	\n\n	\n		\n			\n\n		\n	\n\n	\n		\n			\n\n\n\n\n\n\n	\n		\n			Progetto Giovani Eccellenze -50%\nL’adesione all’evento formativo permette di iscrivere una seconda risorsa\, che non abbia compiuto il 30° anno di età e proveniente dalla stessa organizzazione\, con una riduzione del 50% sulla seconda quota di partecipazione. L’agevolazione è calcolata sulla quota ordinaria. \n\n		\n	\n\n\n\n		\n	\n\n	\n		\n			\n\n\n\n\n\n\n	\n		\n			Formazione finanziata\nLa quota di partecipazione all’iniziativa può essere completamente rimborsata tramite voucher promossi dai Fondi Paritetici Interprofessionali. Paradigma offre la completa e gratuita gestione delle spese di progettazione\, monitoraggio e rendiconto. \n\n		\n	\n\n\n\n		\n	\n\n	\n		\n			\n\n\n\n\n\n\n	\n		\n			Mercati elettronici della PA\nParadigma opera sul MePA e sui principali mercati elettronici di soggetti aggregatori e centrali di committenza. \n\n		\n	\n\n\n\n		\n	\n\n	\n		\n			\n	\n\n\n	I campi con (*) sono obbligatori\n	\n		\n		Dati relativi all'evento\n		\n		\n			Partecipazione in aula\n			Partecipazione in videoconferenza\n		\n		\n\n		Dati relativi al richiedente\n		\n		\n		\n		\n		\n		\n		\n		\n\n	\n\n	\n\n		Dati per eventuale partecipante under 30\n		\n		\n		\n\n	\n\n	\n\n		Dati per la fatturazione elettronica\n		\n		\n		\n		\n		\n		\n				\n		\n		\n		  Split Payment:\n          \n            \n              \n              Si \n            No\n          \n        \n		\n		\n		\n		\n	\n\n	\n\n		Per informazioni contattare\n		\n		\n		\n		\n		\n	\n	L'iscrizione all'evento formativo si intende perfezionata al momento del ricevimento\, da parte di Paradigma Srl\, del presente modulo di registrazione compilato in ogni sua parte\, stampato\, firmato e inviato via e-mail all'indirizzo info@paradigma.it. Riceverete via email conferma dell'avvenuta iscrizione. \n\n\n		\n	     Acconsento all'invio di comunicazioni sui servizi Paradigma Srl - Consenso finalizzato\, anche con modalità automatizzate\, all'invio di comunicazioni relative a prodotti e servizi di Paradigma Srl e al fine di ricevere materiale informativo o promozionale.\n	\n	     Acconsento alla personalizzazione delle offerte - Consenso finalizzato\, mediante modalità automatizzate\, a personalizzare i servizi forniti e meglio indirizzare le proposte promozionali grazie ad attività di profilazione.\n	\n	Inviando i dati autorizzi Paradigma Srl a utilizzare i tuoi dati personali per evadere la richiesta di partecipazione all’evento formativo e svolgere le attività a ciò connesse. I dati potranno essere trattati\, per conto di Paradigma Srl\, da dipendenti e collaboratori incaricati di svolgere specifici servizi necessari all’esecuzione delle tue richieste. Il conferimento dei tuoi dati\, pur essendo facoltativo\, si rende necessario per l’esecuzione del servizio richiesto.	\n\n\n\n\n		\n\n\n\n\n\n		\n	\n[/vc_column][/vc_row]
URL:https://paradigma.it/iniziativa/la-digitalizzazione-dei-documenti-fiscali-e-amministrativi/
CATEGORIES:Fisco e Diritto Tributario
ORGANIZER;CN="Veronica%20Spiez":MAILTO:vspiez@paradigma.it
END:VEVENT
END:VCALENDAR