BEGIN:VCALENDAR
VERSION:2.0
PRODID:-//Paradigma srl - ECPv5.2.1//NONSGML v1.0//EN
CALSCALE:GREGORIAN
METHOD:PUBLISH
X-WR-CALNAME:Paradigma srl
X-ORIGINAL-URL:https://paradigma.it
X-WR-CALDESC:Eventi per Paradigma srl
BEGIN:VTIMEZONE
TZID:Europe/Rome
BEGIN:DAYLIGHT
TZOFFSETFROM:+0100
TZOFFSETTO:+0200
TZNAME:CEST
DTSTART:20250330T010000
END:DAYLIGHT
BEGIN:STANDARD
TZOFFSETFROM:+0200
TZOFFSETTO:+0100
TZNAME:CET
DTSTART:20251026T010000
END:STANDARD
END:VTIMEZONE
BEGIN:VEVENT
DTSTART;TZID=Europe/Rome:20250604T093000
DTEND;TZID=Europe/Rome:20250605T180000
DTSTAMP:20260419T171942
CREATED:20250422T142357Z
LAST-MODIFIED:20250530T130937Z
UID:22884-1749029400-1749146400@paradigma.it
SUMMARY:La dematerializzazione\,  la gestione e la conservazione  digitale dei documenti
DESCRIPTION:[vc_row][vc_column]\n	\n		\n			\n		\n	\n\n	\n		\n			eIDAS\, CAD\, Linee Guida AGID\, Standard internazionali\nLa formazione del documento informatico\nLa sottoscrizione informatica e le firme elettroniche\nLa firma elettronica remota\nLe nuove frontiere dell’identità digitale\nLa conservazione digitale e l’e-archiving\nI contratti con i provider esterni di servizi fiduciari\nI profili privacy\nLa sicurezza informatica \n \n\n		\n	\n\n	\n		\n			09.30 - 13.30  14.30 - 18.00 \n\n		\n	\n\n	\n		\n			Evento in diretta streaming \n\n		\n	\n\n	\n		\n			 \n\n		\n	\n\n	\n		\n			\n\n		\n	\nPresentazioneProgrammaDocentiBrochureIscrizioni e CondizioniPresentazione\n	\n		\n			Contenuti dell’evento \nNel corso delle giornate di studi sarà svolta un’analisi completa e dettagliata delle varie fasi connesse all’implementazione dei progetti di digitalizzazione dei processi operativi\, gestione documentale\, dematerializzazione e conservazione digitale dei documenti informatici\, anche alla luce del nuovo quadro normativo e regolamentare e della più recente prassi applicativa. \nDestinatari dell’evento \nL’evento formativo è rivolto ai Responsabili della Compliance e del Servizio Legale\, ai Responsabili della Gestione Documentale e della Conservazione\, ai Responsabili dei Sistemi Informativi e del Servizio Organizzazione\, Legal Operation di banche\, intermediari e assicurazioni\, imprese industriali e commerciali\, avvocati e consulenti. Sono interessate all’evento anche le Pubbliche Amministrazioni che stanno sviluppando processi di transizione digitale. \nObiettivi dell’evento \nObiettivo dell’incontro è presentare le principali novità di cui tener conto nell’implementazione dei processi di digitalizzazione\, mettendo a disposizione dei partecipanti strumenti operativi e indicazioni pratiche. \n\n\n		\n	\nProgramma\n	\n		\n			Prima giornata\nMercoledì 4 giugno 2025 \nI SERVIZI FIDUCIARI E I PROCESSI DI DIGITALIZZAZIONE: INQUADRAMENTO NORMATIVO\, INDIVIDUAZIONE DELLE SOLUZIONI E PROGETTAZIONE DEGLI INTERVENTI \nIl futuro dei servizi fiduciari\nIl Regolamento eIDAS nella sua versione aggiornata\nL’evoluzione normativa e del mercato \nL’identità digitale \nIl tema dell’identità digitale europea: quadro normativo\nIl valore dell’identità digitale\nLa distinzione tra identificazione e autenticazione\nEUDI Wallet: il portafoglio digitale e gli attori in eIDAS\nI sistemi di autenticazione e l’identità digitale \nDott.ssa Viky Manaila\nIntesi Group \nL’implementazione della digitalizzazione di un processo operativo in azienda \nLe funzioni coinvolte\, le fasi del progetto e le responsabilità\nGli obiettivi della digitalizzazione e dell’ottimizzazione dei processi operativi\nLa definizione della strategia aziendale e della governance\nL’analisi formale e la reingegnerizzazione dei processi\nIl progetto informatico a supporto della digitalizzazione: Business Process Management\, Document Management e integrazione dei sistemi\nL’evoluzione dei sistemi documentali e il Digital Transaction Management (DTM) \nDott. Nicola Carlomagno \nLeonardo Group \n  \nFORMAZIONE ED EFFICACIA DEL DOCUMENTO INFORMATICO \nI processi di digitalizzazione e le regole sulla conservazione\nCAD\, Linee Guida AGID\, Regolamento eIDAS\, standard internazionali: normativa a confronto\nStato dell’arte\, prospettive future ed evoluzioni \nLe modalità di formazione del documento informatico e del documento informatico amministrativo\nLa normativa di riferimento sul documento informatico\nLa definizione e le caratteristiche del documento informatico\nLe peculiarità del documento amministrativo informatico \nIl valore probatorio del documento informatico in relazione alla sottoscrizione informatica: aspetti pratici e normativi\nLe diverse tipologie di firme elettroniche e le loro caratteristiche\nIl valore probatorio del documento informatico non sottoscritto\nIl valore probatorio del documento informatico sottoscritto con firme elettroniche\nLe regole comunitarie\nLe diverse fattispecie\nScenari di utilizzo e casi d’uso \nLa disciplina dei duplicati\, delle copie e degli estratti informatici\nLa non discriminazione dei documenti informatici rispetto ai documenti analogici\nLe tipologie di copie\, duplicati ed estratti analogici e informatici e il valore probatorio\nIl metodo di produzione di duplicati informatici e/o copie informatiche del documento \nLa certificazione di processo quale strumento a supporto della digitalizzazione massiva degli archivi \nDott.ssa Patrizia Sormani\nPSC – Patrizia Sormani Consulting\nANORC Mercato \n  \nCONSERVAZIONE DEL DOCUMENTO INFORMATICO \nIl processo di conservazione digitale dei documenti: eIDAS\, CAD e Linee Guida AGID \nLa normativa di riferimento per la conservazione dei documenti informatici\nLe novità introdotte nella nuova versione del Regolamento eIDAS: l’e-archiving\, la conservazione e la e-preservation\nIl sistema di conservazione dei documenti informatici: lo standard OAIS 14721\nI pacchetti informativi\nIl processo di conservazione\nLe modalità di esibizione\nI ruoli e le responsabilità correlate\nI modelli organizzativi della conservazione\nI conservatori di documenti informatici e il regolamento per la conservazione \nDott.ssa Enrica Massella Ducci Teri\nEsperta in Gestione e Conservazione Documentale Digitale \n  \nSeconda giornata\nGiovedì 5 giugno 2025 \nGESTIONE DEL DOCUMENTO INFORMATICO \nLa gestione documentale: ruoli\, competenze e processi \nLa registrazione dei documenti (protocollo e repertorio)\nLa classificazione dei documenti informatici\nLe aggregazioni documentali e l’archivio informatico: il piano di classificazione\nI compiti del responsabile della gestione documentale\nIl Manuale di gestione documentale\nIl versamento al sistema di conservazione\nLe misure di sicurezza \nProf. Gianni Penzo Doria\nUniversità dell’Insubria \n  \nSELEZIONE E SCARTO DEL DOCUMENTO INFORMATICO \nLa selezione e lo scarto del documento informatico: vincoli\, modalità\, ruoli e responsabilità\nL’evoluzione del processo di conservazione e la decisione di effettuare la selezione e lo scarto dei documenti conservati\nIl Piano di conservazione o massimario di scarto\nIl rispetto dei vincoli della normativa sui beni culturali\nLe modalità di attuazione della procedura di scarto in caso di servizio in house o in outsourcing\nIl ruolo del Responsabile della Conservazione e del Responsabile del Servizio di Conservazione nella gestione dello scarto\nLa responsabilità del Titolare nella gestione dello scarto\nL’importanza dei metadati che descrivono i termini di conservazione \nProf. Gianni Penzo Doria\nUniversità dell’Insubria \n  \nPROFILI PRIVACY NELLA GESTIONE DOCUMENTALE E NELLA CONSERVAZIONE DIGITALE \nGli adempimenti data protection nell’implementazione dei processi di digitalizzazione\, dematerializzazione e conservazione digitale\nI rapporti e gli adempimenti tra DPCM\, CAD\, Regolamento eIDAS\, Linee Guida AGID e normativa sulla protezione dei dati personali\nI principi dell’art. 5 del GDPR applicati alla digitalizzazione dei processi aziendali\, alla dematerializzazione e alla conservazione\nI rapporti tra DPO e Responsabile della Conservazione\nLa conservazione digitale e le misure di sicurezza ai sensi dell’art. 32 del GDPR\nLa crittografia dei dati di particolare natura\nI servizi di digitalizzazione\, dematerializzazione e conservazione sostitutiva alla luce dei principi di privacy by design e privacy by default. Le Linee Guida EPDB\nLa regolamentazione contrattuale dei rapporti con i fornitori: outsourcing\, istruzioni sul trattamento e qualifiche soggettive data protection \nAvv. Alessandro Del Ninno\nFIVERS Studio Legale e Tributario \n  \nCONSERVAZIONE IN HOUSE E CONSERVAZIONE IN OUTSOURCING \nI contratti di acquisizione tecnologica per la gestione dei processi in house \nL’esternalizzazione del processo di conservazione dei documenti informatici e il contenuto dei contratti di outsourcing\nIl contratto di esternalizzazione e la sua gestione\nI criteri di selezione e valutazione del fornitore anche alla luce di NIS 2 e DORA\nInquadramento dei contratti: ruolo\, funzioni e rapporti tra committente\, prestatore dei servizi e utente\nLa redazione delle clausole caratterizzanti\nI rapporti tra le regole tecniche e i contenuti contrattuali\nL’importanza del Manuale di Conservazione e delle convenzioni sui metadati\nLa responsabilità delle parti: casi pratici e corretta impostazione degli accordi contrattuali\nIl monitoraggio del contratto e del fornitore\nLa gestione delle modifiche al contratto\nLa risoluzione del contratto\nLe cause e le procedure di risoluzione del contratto \nI casi di cessazione del contratto e la continuità della conservazione\nLe diverse opzioni contrattuali per garantire l’interoperabilità\nLa portabilità e la versione aggiornata dello standard Uni Sincro (UNI 11386:2020) coordinata con le Linee Guida\nIl Regolamento sui criteri per la fornitura dei servizi di conservazione dei documenti informatici\nIl piano di cessazione e le obbligazioni conseguenti \nDott.ssa Patrizia Sormani\nPSC – Patrizia Sormani Consulting\nANORC Mercato \n  \nATTIVITA’ DI AUDIT E GESTIONE DEI RISCHI \nL’attività di audit sui processi di digitalizzazione e dematerializzazione: processi e procedure nel rispetto della compliance \nL’attività di audit sui processi di conservazione digitale\nLa corretta ed efficace gestione dei rischi ICT\nLa condivisione di informazioni sugli incidenti ICT\nLa verifica e l’auditing dei sistemi e dei processi ICT\nCloud o hosting fisici\nVulnerability assessment e Penetration test \nI rischi\, le sanzioni e le responsabilità \nCosa fare in caso di data breach nel sistema di conservazione \nDott. Edoardo Limone\nEsperto in Sicurezza Informatica \n  \nSICUREZZA DEI PROCESSI\, PIANI DI EMERGENZA E RESPONSABILITA’ \nLa gestione della sicurezza dei sistemi operativi\nLa normativa sulla sicurezza delle informazioni\nLe misure di sicurezza per l’esternalizzazione\nGovernance ed organizzazione del sistema informativo\nLe misure minime di sicurezza ICT emanate dall’AGID con Circolare del 18 aprile 2017\, n. 2/2017 per le PA\nGli obbiettivi delle misure minime\nI contenuti delle misure minime di sicurezza\nLe responsabilità\nIl piano della sicurezza del sistema di gestione dei documenti\nIl piano della sicurezza del sistema di conservazione \nLa predisposizione dei piani di emergenza finalizzati a garantire la continuità operativa\nIl monitoraggio dei processi\nLe copie di sicurezza (back up)\nI contenuti dei piani di continuità operativa\nIl piano di disaster recovery\nI contenuti dei piani di continuità operativa e di protezione contro gli attacchi informatici\nMisure di disaster recovery e business continuity per l’esternalizzazione\nNIS 2 e i suoi impatti \nIng. Giovanni Manca\nEsperto di Dematerializzazione e Sicurezza \n\n\n		\n	\nDocenti\n	\n		\n			Dott. Nicola Carlomagno\nResponsabile Conservazione Digitale\nLeonardo Group \nAvv. Alessandro Del Ninno\nPartner\nFIVERS Studio Legale e Tributario \nDott. Edoardo Limone\nEsperto in Sicurezza Informatica \nDott.ssa Viky Manaila\nTrust Services Director – eIDAS expert\nIntesi Group \nIng. Giovanni Manca\nEsperto di Dematerializzazione e Sicurezza \nDott.ssa Enrica Massella Ducci Teri\nEsperta in Gestione e Conservazione Documentale Digitale\nGià Dirigente AGID \nProf. Gianni Penzo Doria\nAssociato di Archivistica e di Diplomatica\nUniversità dell’Insubria \nDott.ssa Patrizia Sormani\nExpert Digital Manager\nPSC – Patrizia Sormani Consulting\nPresidente ANORC Mercato \n\n\n		\n	\nBrochure\n	\n		\n			 Scarica la brochure\n\n		\n	\nIscrizioni e Condizioni\n	\n		\n			Quota di partecipazione \nLa quota di partecipazione in aula virtuale (diretta streaming) include la fruizione in diretta delle docenze\, nonché l’invio\, in formato elettronico\, del materiale didattico che i relatori riterranno di mettere a disposizione. È inoltre prevista la possibilità di presentare in diretta domande e quesiti di specifico interesse a mezzo chat\, nonché di sottoporli in via preventiva\, inviando una email a info@paradigma.it entro il giorno antecedente l’evento. \nIn caso di videoconferenza con accessi multipli è necessario contattare la Segreteria organizzativa per un preventivo personalizzato. \nModalità di funzionamento della videoconferenza \nE’ possibile accedere all’aula virtuale da qualsiasi luogo\, utilizzando il proprio PC o tablet con una semplice connessione a Internet. La piattaforma informatica utilizzata da Paradigma (Adobe Connect) non necessita di requisiti tecnici particolari. \nNei giorni antecedenti l’evento il partecipante riceverà per posta elettronica le credenziali e le istruzioni di accesso. Il giorno dell’evento sarà sufficiente selezionare il link che troverà nella mail e inserire le credenziali per accedere all’aula virtuale. \nDurante gli interventi\, oltre a vedere e sentire i docenti\, è possibile consultare simultaneamente la documentazione predisposta dal relatore. Ogni utente collegato potrà porre domande sulle tematiche affrontate a mezzo chat\, alle quali il docente risponderà nel corso dell’intervento. \nModalità di iscrizione \nL’iscrizione si perfeziona al momento del ricevimento del modulo di registrazione\, da inviare via e-mail all’indirizzo info@paradigma.it\, integralmente compilato. Il numero dei collegamenti disponibili è limitato e la priorità d’iscrizione è determinata dalla data di ricezione del modulo di registrazione. Si consiglia pertanto di effettuare una preiscrizione telefonica. \nModalità di pagamento \nLa quota di partecipazione deve essere versata all’atto della presentazione della richiesta di iscrizione e\, in ogni caso\, prima dell’effettuazione dell’evento formativo\, tramite bonifico bancario intestato a: \nParadigma Srl – Corso Vittorio Emanuele II\, 68 – 10121 Torino\nc/o Banco BPM Spa\nIBAN IT 14 V 05034 01017 000000002530 \nFormazione finanziata \nLa quota di partecipazione può essere completamente rimborsata tramite voucher promossi dai Fondi Paritetici Interprofessionali. Paradigma offre la completa e gratuita gestione delle spese di progettazione\, monitoraggio e rendicontazione. La possibilità di accedere alla formazione finanziata con partecipazione mediante videoconferenza può variare a seconda dell’Ente erogante. \nAttestato di frequenza \nL’attestato di partecipazione nominativo sarà inviato al termine dell’evento formativo ai partecipanti che si sono regolarmente collegati all’aula virtuale. \nDiritto di recesso e modalità di disdetta \nÈ attribuita ai partecipanti la facoltà di recedere ai sensi dell’art. 1373 c.c. Il recesso dovrà essere comunicato in forma scritta almeno sette giorni prima della data di inizio dell’evento formativo (escluso il sabato e la domenica). Qualora la disdetta pervenga oltre tale termine o si verifichi di fatto con il mancato collegamento alla videoconferenza\, la quota di partecipazione sarà addebitata per intero e sarà inviato al partecipante il materiale didattico. In qualunque momento l’azienda o lo studio potranno comunque sostituire il partecipante\, comunicando il nuovo nominativo alla nostra Segreteria organizzativa. \nVariazioni di programma \nParadigma\, per ragioni eccezionali e imprevedibili\, si riserva di annullare o modificare la data dell’evento formativo\, dandone comunicazione agli interessati entro tre giorni dalla data di inizio prevista. In tali casi le quote di partecipazione pervenute verranno rimborsate\, con esclusione di qualsivoglia onere o obbligo a carico di Paradigma. Paradigma si riserva inoltre\, per ragioni sopravvenute e per cause di forza maggiore\, di modificare l’articolazione del programma e di sostituire i docenti previsti con altri docenti di pari livello professionale. \nPer ulteriori informazioni è possibile contattare la Segreteria organizzativa al numero 011.538686 o all’indirizzo e-mail info@paradigma.it. \n\n\n		\n	\n\n\n	\n		\n			Quota di partecipazione\n	\n		\n			€ 1.100 + Iva una giornata€ 2.050 + Iva due giornate\n\n		\n	\n\n	\n		\n			In caso di videoconferenza con accessi multipli è necessario contattare la Segreteria organizzativa per un preventivo personalizzato. \n\n		\n	\n\n\n		\n	\n\n	\n		\n			\n\n\n\n\n\n\n	\n		\n			Early booking -20%\nInviando il modulo di iscrizione entro il 14 maggio si avrà diritto a una riduzione del 20% sulla quota di partecipazione. \n\n		\n	\n\n\n\n		\n	\n\n	\n		\n			\n\n		\n	\n\n	\n		\n			\n\n		\n	\n\n	\n		\n			\n\n\n\n\n\n\n	\n		\n			Progetto Giovani Eccellenze -50%\nL’adesione all’evento formativo permette di iscrivere una seconda risorsa\, che non abbia compiuto il 30° anno di età e proveniente dalla stessa organizzazione\, con una riduzione del 50% sulla seconda quota di partecipazione. L’agevolazione è calcolata sulla quota ordinaria. \n\n		\n	\n\n\n\n		\n	\n\n	\n		\n			\n\n\n\n\n\n\n	\n		\n			Formazione finanziata\nLa quota di partecipazione all’iniziativa può essere completamente rimborsata tramite voucher promossi dai Fondi Paritetici Interprofessionali. Paradigma offre la completa e gratuita gestione delle spese di progettazione\, monitoraggio e rendiconto. \n\n		\n	\n\n\n\n		\n	\n\n	\n		\n			\n\n\n\n\n\n\n	\n		\n			Mercati elettronici della PA\nParadigma opera sul MePA e sui principali mercati elettronici di soggetti aggregatori e centrali di committenza. \n\n		\n	\n\n\n\n		\n	\n\n	\n		\n			\n	\n\n\n	I campi con (*) sono obbligatori\n	\n		\n		Dati relativi all'evento\n		\n		\n			Partecipazione in aula\n			Partecipazione in videoconferenza\n		\n		\n\n		Dati relativi al richiedente\n		\n		\n		\n		\n		\n		\n		\n		\n\n	\n\n	\n\n		Dati per eventuale partecipante under 30\n		\n		\n		\n\n	\n\n	\n\n		Dati per la fatturazione elettronica\n		\n		\n		\n		\n		\n		\n				\n		\n		\n		  Split Payment:\n          \n            \n              \n              Si \n            No\n          \n        \n		\n		\n		\n		\n	\n\n	\n\n		Per informazioni contattare\n		\n		\n		\n		\n		\n	\n	L'iscrizione all'evento formativo si intende perfezionata al momento del ricevimento\, da parte di Paradigma Srl\, del presente modulo di registrazione compilato in ogni sua parte\, stampato\, firmato e inviato via e-mail all'indirizzo info@paradigma.it. Riceverete via email conferma dell'avvenuta iscrizione. \n\n\n		\n	     Acconsento all'invio di comunicazioni sui servizi Paradigma Srl - Consenso finalizzato\, anche con modalità automatizzate\, all'invio di comunicazioni relative a prodotti e servizi di Paradigma Srl e al fine di ricevere materiale informativo o promozionale.\n	\n	     Acconsento alla personalizzazione delle offerte - Consenso finalizzato\, mediante modalità automatizzate\, a personalizzare i servizi forniti e meglio indirizzare le proposte promozionali grazie ad attività di profilazione.\n	\n	Inviando i dati autorizzi Paradigma Srl a utilizzare i tuoi dati personali per evadere la richiesta di partecipazione all’evento formativo e svolgere le attività a ciò connesse. I dati potranno essere trattati\, per conto di Paradigma Srl\, da dipendenti e collaboratori incaricati di svolgere specifici servizi necessari all’esecuzione delle tue richieste. Il conferimento dei tuoi dati\, pur essendo facoltativo\, si rende necessario per l’esecuzione del servizio richiesto.	\n\n\n\n\n		\n\n\n\n\n\n		\n	\n[/vc_column][/vc_row]
URL:https://paradigma.it/iniziativa/la-dematerializzazione-la-gestione-e-la-conservazione-digitale-dei-documenti-8/
CATEGORIES:Digitalizzazione
ORGANIZER;CN="Veronica%20Spiez":MAILTO:vspiez@paradigma.it
END:VEVENT
END:VCALENDAR