BEGIN:VCALENDAR
VERSION:2.0
PRODID:-//Paradigma srl - ECPv5.2.1//NONSGML v1.0//EN
CALSCALE:GREGORIAN
METHOD:PUBLISH
X-WR-CALNAME:Paradigma srl
X-ORIGINAL-URL:https://paradigma.it
X-WR-CALDESC:Eventi per Paradigma srl
BEGIN:VTIMEZONE
TZID:Europe/Rome
BEGIN:DAYLIGHT
TZOFFSETFROM:+0100
TZOFFSETTO:+0200
TZNAME:CEST
DTSTART:20250330T010000
END:DAYLIGHT
BEGIN:STANDARD
TZOFFSETFROM:+0200
TZOFFSETTO:+0100
TZNAME:CET
DTSTART:20251026T010000
END:STANDARD
END:VTIMEZONE
BEGIN:VEVENT
DTSTART;TZID=Europe/Rome:20250610T093000
DTEND;TZID=Europe/Rome:20250610T180000
DTSTAMP:20260421T130400
CREATED:20250331T150854Z
LAST-MODIFIED:20250609T134837Z
UID:22905-1749547800-1749578400@paradigma.it
SUMMARY:La corporate governance  dei rischi ICT
DESCRIPTION:[vc_row][vc_column]\n	\n		\n			\n		\n	\n\n	\n		\n			Profili societari\, organizzativi e responsabilità\nLa governance delle esternalizzazioni e il contenuto dei contratti\nAggiornamento delle policy e dei regolamenti interni\nCybersecurity e data protection \n \n\n		\n	\n\n	\n		\n			09.30 - 13.30  14.30 - 18.00 \n\n		\n	\n\n	\n		\n			Evento in diretta streaming \n\n		\n	\n\n	\n		\n			 \n\n		\n	\n\n	\n		\n			\n\n		\n	\nPresentazioneProgrammaDocentiBrochureIscrizioni e CondizioniPresentazione\n	\n		\n			Contenuti dell’evento \nNel corso della giornata di studi saranno analizzati i principali profili da tenere in considerazione nell’implementazione di una corretta ed efficace governance dei rischi ICT alla luce delle recenti evoluzioni normative. \nSaranno presi in considerazione i profili societari e organizzativi e saranno approfondite le migliori prassi nella gestione delle esternalizzazioni\, oltreché gli aspetti rilevanti relativa alla normativa sulla cybersecurity e data protection. \nParticolare attenzione sarà dedicata all’analisi delle questioni più operative afferenti all’implementazione dei flussi informativi e all’aggiornamento delle policy e dei regolamenti interni. \nDestinatari dell’evento \nL’evento formativo è rivolto ai General Counsel\, ai Responsabili della Segreteria Societaria\, ai Responsabili degli Affari Legali e Societari\, ai componenti dei Board\, ai Sindaci\, agli IT Manager\, ai Security Officer\, ai Responsabili dei Servizi di Compliance\, ai Responsabili Internal Audit e Risk Management\, ai Responsabili Organizzazione. \nObiettivi dell’evento \nL’incontro è finalizzato all’analisi dei principali fattori da tenere in considerazione nell’implementazione di una corretta ed efficace governance dei rischi ICT\, attraverso l’analisi di casi concreti e la presentazione di soluzioni alle principali problematiche operative. \n\n\n		\n	\nProgramma\n	\n		\n			Martedì 10 giugno 2025 \nLa sicurezza ICT e gli assetti organizzativi\nLa sicurezza ICT come componente di importanza crescente all’interno dell’assetto organizzativo\nL’adeguatezza dell’assetto organizzativo\, amministrativo e contabile\nLa sicurezza ICT nel sistema di controllo interno e di gestione dei rischi\nLa regolamentazione interna: linee di indirizzo del sistema di controllo interno e flussi informativi\nLa definizione dei concetti chiave: rischio\, compliance e governance\nProf. Avv. Paolo Valensise\nUniversità Roma Tre\nChiomenti\nAvv. Marilena Hyeraci\nChiomenti \nI profili cybersecurity e data protection nella governance dei rischi ICT\nInquadramento della normativa di riferimento\nI punti di contatto tra la normativa sulla cybersicurezza e la sicurezza ICT\nGli obblighi di segnalazione\nL’ Agenzia per la Cybersicurezza Nazionale (ACN)\nAdempimenti privacy e protezione dei dati personali\nDott. Edoardo Limone\nEsperto in Sicurezza Informatica \nL’impatto dell’evoluzione normativa sulla funzione di gestione dei rischi ICT\nI rischi tipici coperti dalla funzione ICT e la loro gestione\nLe ricadute operative della recente evoluzione normativa (e.g. NIS\, DORA\, ecc.) sulla funzione ICT\nL’impatto in termini di segnalazioni e comunicazioni\nLe principali difficoltà incontrate e i possibili scenari\nDott. Carmelo Ventre\nBanca Generali \nL’esternalizzazione dei servizi ICT\nRequisiti dell’esternalizzazione\, limiti e le cautele\nLa gestione dei rischi ICT nelle società quotate e sistema di controllo interno\nLa ripartizione della responsabilità tra la società esternalizzante e il fornitore dei servizi ICT\nLa regolamentazione interna relativa all’esternalizzazione\nIl ruolo della governance ICT nella supervisione dei fornitori\nAvv. Paolo Roberto Amendola\nAnnunziata & Conso\nAvv. Alberto La Mantia\nAnnunziata & Conso \nLa gestione dei rischi e l’attività di compliance in caso di esternalizzazione di funzioni e servizi digitali\nPanoramica sull’esternalizzazione ICT: vantaggi\, sfide e trend attuali\nLa mappatura dei principali rischi legati all’esternalizzazione ICT\, la valutazione dell’impatto potenziale di ciascun rischio sull’azienda\, gli strumenti e le metodologie per la loro gestione\nL’analisi dei rischi derivanti dai servizi ICT delle terze parti e la gestione del rischio\nI criteri di selezione del fornitore e la due diligence del fornitore\nL’individuazione e il monitoraggio dei fornitori critici di servizi ICT\nLa definizione di un piano di monitoraggio continuo delle attività esternalizzate\nLa comunicazione e la collaborazione efficace con i fornitori\nDott.ssa Patrizia Sormani\nPSC – Patrizia Sormani Consulting\nPresidente ANORC Mercato \nI contenuti del contratto di esternalizzazione di servizi ICT \nTipologie e contenuti contrattuali: evoluzione della normativa dalla Circolare\nn. 285/2013 di Banca d’Italia al Regolamento DORA\nGli elementi del contratto di fornitura dei servizi ICT e la negoziazione del contratto\nGli strumenti di contrattualistica collaborativa: il monitoraggio del contratto\, la gestione delle modifiche\, la risoluzione del contratto\nLe clausole chiave per la tutela degli interessi dell’azienda\nLa definizione dei livelli di servizio (SLA) e degli indicatori di performance (KPI)\nIl controllo e la gestione degli adempimenti contrattuali in tutte le fasi del ciclo di vita della fornitura\nAvv. Anna Italiano\nPartners4Innovation \nLa governane del sistema di gestione dei rischi ICT nei settori bancari e assicurativi \nLa funzione di ICT nella corporate governance e i recenti interventi normativi\nIl responsabile della funzione ICT\nLa regolamentazione interna\nIl rapporto con gli organi societari e le altre funzioni aziendali\, in particolare le funzioni di controllo\nIl flusso informativo da/verso gli organi societari e le altre funzioni aziendali\nL’autovalutazione del sistema di gestione dei rischi ICT\nL’esternalizzazione del sistema di gestione dei rischi ICT e profili di responsabilità\nAvv. Juljan Puna\nGreenberg Traurig \n\n\n		\n	\nDocenti\n	\n		\n			Avv. Paolo Roberto Amendola\nAssociate\nAnnunziata & Conso \nAvv. Marilena Hyeraci\nOf Counsel\nChiomenti \nAvv. Anna Italiano\nPartner\nDigital Law – Contracts\, Negotiation & Litigation\nPartners4Innovation \nAvv. Alberto La Mantia\nAssociate\nAnnunziata & Conso \nDott. Edoardo Limone\nEsperto in Sicurezza Informatica \nAvv. Juljan Puna\nPartner\nGreenberg Traurig \nDott.ssa Patrizia Sormani\nExpert Digital Manager\nPSC – Patrizia Sormani Consulting\nPresidente ANORC Mercato \nProf. Avv. Paolo Valensise\nOrdinario di Diritto Commerciale\nUniversità Roma Tre\nPartner\nChiomenti \nDott. Carmelo Ventre\nICT & Security Risk Manager\nBanca Generali \n\n\n		\n	\nBrochure\n	\n		\n			 Scarica la brochure\n\n		\n	\nIscrizioni e Condizioni\n	\n		\n			Quota di partecipazione \nLa quota di partecipazione in aula virtuale (diretta streaming) include la fruizione in diretta delle docenze\, nonché l’invio\, in formato elettronico\, del materiale didattico che i relatori riterranno di mettere a disposizione. È inoltre prevista la possibilità di presentare in diretta domande e quesiti di specifico interesse a mezzo chat\, nonché di sottoporli in via preventiva\, inviando una email a info@paradigma.it entro il giorno antecedente l’evento. \nIn caso di videoconferenza con accessi multipli è necessario contattare la Segreteria organizzativa per un preventivo personalizzato. \nModalità di funzionamento della videoconferenza \nE’ possibile accedere all’aula virtuale da qualsiasi luogo\, utilizzando il proprio PC o tablet con una semplice connessione a Internet. La piattaforma informatica utilizzata da Paradigma (Adobe Connect) non necessita di requisiti tecnici particolari. \nNei giorni antecedenti l’evento il partecipante riceverà per posta elettronica le credenziali e le istruzioni di accesso. Il giorno dell’evento sarà sufficiente selezionare il link che troverà nella mail e inserire le credenziali per accedere all’aula virtuale. \nDurante gli interventi\, oltre a vedere e sentire i docenti\, è possibile consultare simultaneamente la documentazione predisposta dal relatore. Ogni utente collegato potrà porre domande sulle tematiche affrontate a mezzo chat\, alle quali il docente risponderà nel corso dell’intervento. \nModalità di iscrizione \nL’iscrizione si perfeziona al momento del ricevimento del modulo di registrazione\, da inviare via e-mail all’indirizzo info@paradigma.it\, integralmente compilato. Il numero dei collegamenti disponibili è limitato e la priorità d’iscrizione è determinata dalla data di ricezione del modulo di registrazione. Si consiglia pertanto di effettuare una preiscrizione telefonica. \nModalità di pagamento \nLa quota di partecipazione deve essere versata all’atto della presentazione della richiesta di iscrizione e\, in ogni caso\, prima dell’effettuazione dell’evento formativo\, tramite bonifico bancario intestato a: \nParadigma Srl – Corso Vittorio Emanuele II\, 68 – 10121 Torino\nc/o Banco BPM Spa\nIBAN IT 14 V 05034 01017 000000002530 \nFormazione finanziata \nLa quota di partecipazione può essere completamente rimborsata tramite voucher promossi dai Fondi Paritetici Interprofessionali. Paradigma offre la completa e gratuita gestione delle spese di progettazione\, monitoraggio e rendicontazione. La possibilità di accedere alla formazione finanziata con partecipazione mediante videoconferenza può variare a seconda dell’Ente erogante. \nAttestato di frequenza \nL’attestato di partecipazione nominativo sarà inviato al termine dell’evento formativo ai partecipanti che si sono regolarmente collegati all’aula virtuale. \nDiritto di recesso e modalità di disdetta \nÈ attribuita ai partecipanti la facoltà di recedere ai sensi dell’art. 1373 c.c. Il recesso dovrà essere comunicato in forma scritta almeno sette giorni prima della data di inizio dell’evento formativo (escluso il sabato e la domenica). Qualora la disdetta pervenga oltre tale termine o si verifichi di fatto con il mancato collegamento alla videoconferenza\, la quota di partecipazione sarà addebitata per intero e sarà inviato al partecipante il materiale didattico. In qualunque momento l’azienda o lo studio potranno comunque sostituire il partecipante\, comunicando il nuovo nominativo alla nostra Segreteria organizzativa. \nVariazioni di programma \nParadigma\, per ragioni eccezionali e imprevedibili\, si riserva di annullare o modificare la data dell’evento formativo\, dandone comunicazione agli interessati entro tre giorni dalla data di inizio prevista. In tali casi le quote di partecipazione pervenute verranno rimborsate\, con esclusione di qualsivoglia onere o obbligo a carico di Paradigma. Paradigma si riserva inoltre\, per ragioni sopravvenute e per cause di forza maggiore\, di modificare l’articolazione del programma e di sostituire i docenti previsti con altri docenti di pari livello professionale. \nPer ulteriori informazioni è possibile contattare la Segreteria organizzativa al numero 011.538686 o all’indirizzo e-mail info@paradigma.it. \n\n\n		\n	\n\n\n	\n		\n			Quota di partecipazione\n	\n		\n			€ 1.100 + Iva\n\n		\n	\n\n	\n		\n			In caso di videoconferenza con accessi multipli è necessario contattare la Segreteria organizzativa per un preventivo personalizzato. \n\n		\n	\n\n\n		\n	\n\n	\n		\n			\n\n\n\n\n\n\n	\n		\n			Early booking -20%\nInviando il modulo di iscrizione entro il 20 maggio si avrà diritto a una riduzione del 20% sulla quota di partecipazione. \n\n		\n	\n\n\n\n		\n	\n\n	\n		\n			\n\n		\n	\n\n	\n		\n			\n\n		\n	\n\n	\n		\n			\n\n\n\n\n\n\n	\n		\n			Progetto Giovani Eccellenze -50%\nL’adesione all’evento formativo permette di iscrivere una seconda risorsa\, che non abbia compiuto il 30° anno di età e proveniente dalla stessa organizzazione\, con una riduzione del 50% sulla seconda quota di partecipazione. L’agevolazione è calcolata sulla quota ordinaria. \n\n		\n	\n\n\n\n		\n	\n\n	\n		\n			\n\n\n\n\n\n\n	\n		\n			Formazione finanziata\nLa quota di partecipazione all’iniziativa può essere completamente rimborsata tramite voucher promossi dai Fondi Paritetici Interprofessionali. Paradigma offre la completa e gratuita gestione delle spese di progettazione\, monitoraggio e rendiconto. \n\n		\n	\n\n\n\n		\n	\n\n	\n		\n			\n\n\n\n\n\n\n	\n		\n			Mercati elettronici della PA\nParadigma opera sul MePA e sui principali mercati elettronici di soggetti aggregatori e centrali di committenza. \n\n		\n	\n\n\n\n		\n	\n\n	\n		\n			\n	\n\n\n	I campi con (*) sono obbligatori\n	\n		\n		Dati relativi all'evento\n		\n		\n			Partecipazione in aula\n			Partecipazione in videoconferenza\n		\n		\n\n		Dati relativi al richiedente\n		\n		\n		\n		\n		\n		\n		\n		\n\n	\n\n	\n\n		Dati per eventuale partecipante under 30\n		\n		\n		\n\n	\n\n	\n\n		Dati per la fatturazione elettronica\n		\n		\n		\n		\n		\n		\n				\n		\n		\n		  Split Payment:\n          \n            \n              \n              Si \n            No\n          \n        \n		\n		\n		\n		\n	\n\n	\n\n		Per informazioni contattare\n		\n		\n		\n		\n		\n	\n	L'iscrizione all'evento formativo si intende perfezionata al momento del ricevimento\, da parte di Paradigma Srl\, del presente modulo di registrazione compilato in ogni sua parte\, stampato\, firmato e inviato via e-mail all'indirizzo info@paradigma.it. Riceverete via email conferma dell'avvenuta iscrizione. \n\n\n		\n	     Acconsento all'invio di comunicazioni sui servizi Paradigma Srl - Consenso finalizzato\, anche con modalità automatizzate\, all'invio di comunicazioni relative a prodotti e servizi di Paradigma Srl e al fine di ricevere materiale informativo o promozionale.\n	\n	     Acconsento alla personalizzazione delle offerte - Consenso finalizzato\, mediante modalità automatizzate\, a personalizzare i servizi forniti e meglio indirizzare le proposte promozionali grazie ad attività di profilazione.\n	\n	Inviando i dati autorizzi Paradigma Srl a utilizzare i tuoi dati personali per evadere la richiesta di partecipazione all’evento formativo e svolgere le attività a ciò connesse. I dati potranno essere trattati\, per conto di Paradigma Srl\, da dipendenti e collaboratori incaricati di svolgere specifici servizi necessari all’esecuzione delle tue richieste. Il conferimento dei tuoi dati\, pur essendo facoltativo\, si rende necessario per l’esecuzione del servizio richiesto.	\n\n\n\n\n		\n\n\n\n\n\n		\n	\n[/vc_column][/vc_row]
URL:https://paradigma.it/iniziativa/la-corporate-governance-dei-rischi-ict/
CATEGORIES:Governance e Diritto Societario
ORGANIZER;CN="Veronica%20Spiez":MAILTO:vspiez@paradigma.it
END:VEVENT
END:VCALENDAR