BEGIN:VCALENDAR
VERSION:2.0
PRODID:-//Paradigma srl - ECPv5.2.1//NONSGML v1.0//EN
CALSCALE:GREGORIAN
METHOD:PUBLISH
X-WR-CALNAME:Paradigma srl
X-ORIGINAL-URL:https://paradigma.it
X-WR-CALDESC:Eventi per Paradigma srl
BEGIN:VTIMEZONE
TZID:Europe/Rome
BEGIN:DAYLIGHT
TZOFFSETFROM:+0100
TZOFFSETTO:+0200
TZNAME:CEST
DTSTART:20240331T010000
END:DAYLIGHT
BEGIN:STANDARD
TZOFFSETFROM:+0200
TZOFFSETTO:+0100
TZNAME:CET
DTSTART:20241027T010000
END:STANDARD
END:VTIMEZONE
BEGIN:VEVENT
DTSTART;TZID=Europe/Rome:20240312T093000
DTEND;TZID=Europe/Rome:20240312T180000
DTSTAMP:20260421T190010
CREATED:20240126T135135Z
LAST-MODIFIED:20240308T111413Z
UID:19720-1710235800-1710266400@paradigma.it
SUMMARY:La contrattualizzazione dei rapporti con influencer\, testimonial & celebrity
DESCRIPTION:[vc_row][vc_column]\n	\n		\n			\n		\n	\n\n	\n		\n			\nIl ricorso a influencer e figure affini per finalità di marketing\nLe recenti Linee Guida dell’AGCOM\nL’approccio delle altre Autorità (AGCM\, Garante Privacy)\nI vincoli e le responsabilità\n\nI docenti\, nel corso dell’evento formativo\, risponderanno alle domande e alle richieste di chiarimenti formulate dai partecipanti. Eventuali quesiti potranno essere anticipati inviando una e-mail all’indirizzo info@paradigma.it \n \n\n		\n	\n\n	\n		\n			Evento in videoconferenza \n\n		\n	\n\n	\n		\n			12 marzo 2024 \n\n		\n	\n\n	\n		\n			 \n\n		\n	\n\n	\n		\n			\n\n		\n	\nPresentazioneProgrammaDocentiBrochureIscrizioni e CondizioniPresentazione\n	\n		\n			Contenuti dell’evento \nNel corso del workshop saranno analizzati i principali aspetti giuridici\, regolamentari e strategici connessi all’attività di marketing tramite influencer\, testimonial e celebrity. L’analisi sarà condotta con l’obiettivo di porre i partecipanti nelle condizioni di sfruttare al meglio le opportunità connesse alle nuove condotte pubblicitarie\, valutando correttamente i rischi e gestendo le eventuali criticità. \nNello specifico\, particolare attenzione sarà dedicata all’analisi della disciplina applicabile e al contenuto dei contratti. Saranno affrontati inoltre i temi del monitoraggio e della tutela della reputazione on line. \nIl workshop darà ovviamente conto delle recenti Linee Guida elaborate dall’AGCOM (Autorità per le Garanzie nelle Comunicazioni) e del procedimento sanzionatorio dell’AGCM (Autorità Garante della Concorrenza e del Mercato) che ha riguardato una nota influencer e una primaria impresa dolciaria relativamente alla commercializzazione di un lievitato natalizio. \nI docenti coinvolti\, provenienti dall’ambito professionale e operativo\, sono autorevoli esperti della materia. \nDestinatari dell’evento \nL´evento formativo è rivolto ai Responsabili del Servizio Legale e del Servizio Compliance\, ai Responsabili del Servizio Marketing\, ai Responsabili della Comunicazione di imprese\, banche e assicurazioni. \nL’iniziativa è altresì rivolta alle Agenzie di comunicazione e pubblicitarie e ai professionisti (Avvocati e Consulenti) che operano nelle materie oggetto di trattazione\, per i quali il convegno rappresenta una importante occasione di incontro e approfondimento. \nObiettivi dell’evento \nObiettivo dell´incontro è presentare un quadro dettagliato e completo della materia\, mettendo a disposizione dei partecipanti strumenti operativi e indicazioni pratiche per aggiornare le proprie competenze professionali. \n\n\n		\n	\nProgramma\n	\n		\n			Martedì 12 marzo 2024 \nLe Linee Guida dell’AGCOM volte a garantire il rispetto delle disposizioni del Testo Unico sulla fornitura di servizi di media audiovisivi (D. Lgs. n. 208/2021) da parte degli influencer\nI principali contenuti delle Linee Guida\nL’ambito soggettivo e oggettivo di applicazione\nInfluencer\, celebrity e testimonial e bacino di diffusione: elementi emersi dalla consultazione e scelte effettuate dalle Linee Guida\nGli aspetti demandati all’approfondimento in sede di tavolo tecnico\nDott. Francesco Di Giorgi\nAGCOM \nLa tutela della reputazione on line nell’interazione dell’influencer con la rete: profili legali\nBrand protection e selling power\nLa reputazione del brand in rete tra rischi e opportunità\nGli strumenti legali per intervenire sul danno reputazionale e per tutelare al meglio il marchio in rete\nProf. Avv. Cesare Galli\nUniversità di Parma\nIP Law Galli \nI rapporti contrattuali con influencer\, testimonial & celebrity e le cautele redazionali da considerare\nLa struttura e i contenuti dei contratti\nLe obbligazioni a carico delle parti\nLa gestione dei diritti sui contenuti\nAvv. Massimo Tavella\nTavella Avvocati Associati \nLe responsabilità sul piano civilistico del committente e dell’influencer\, del testimonial e della celebrity e lo sfruttamento commerciale del nome delle persone famose\nProf. Avv. Ivan Libero Nocera\nUniversità di Bergamo\nWeigmann Studio Legale \nIl ruolo di influencer\, testimonial & celebrity nella definizione complessiva della strategia pubblicitaria\nI nuovi scenari e l’evoluzione della comunicazione pubblicitaria\nLe opportunità e i rischi nel ricorso a influencer\, testimonial e celebrity\nI criteri di individuazione dello strumento migliore e la gestione delle strategie pubblicitarie\nDott. Niccolò Vecchiotti\nNewco Management \nLa prevenzione del danno reputazionale sul piano tecnologico: casistica\, strumenti di monitoraggio e mitigazione del rischio\nDott. Matteo Flora\nThe Fool \nInfluencer marketing e scelte di business\, tra vincoli normativi vecchi e nuovi e responsabilità d’impresa ex D. Lgs. n. 231/01\nAvv. Riccardo Rossotto\nRPLT RP legalitax \nI profili data protection nei rapporti tra impresa committente e influencer\, testimonial & celebrity\nAvv. Luca Egitto\nRPLT RP legalitax \nPublic e private enforcement rispetto alle pratiche commerciali scorrette connesse all’azione degli influencer\nLe pratiche commerciali scorrette\nL’azione dell’AGCM nel caso Balocco-Ferragni\nLe forme di tutela del consumatore e la class action\nAvv. Fabio Valerini\nStudio Legale Valerini \n\n\n		\n	\nDocenti\n	\n		\n			Dott. Francesco Di Giorgi\nDirezione Servizi Digitali\nUfficio piattaforme\, servizi digitali e platform to business\nAGCOM \nAvv. Luca Egitto\nPartner\nRPLT RP legalitax \nDott. Matteo Flora\nCEO\nThe Fool \nProf. Avv. Cesare Galli\nOrdinario di Diritto Industriale\nUniversità di Parma\nFounding Partner\nIP Law Galli \nProf. Avv. Ivan Libero Nocera\nAssociato di Diritto Privato\nUniversità di Bergamo\nOf Counsel\nWeigmann Studio Legale \nAvv. Riccardo Rossotto\nPartner\nRPLT RP legalitax \nAvv. Massimo Tavella\nPartner\nTavella Avvocati Associati \nAvv. Fabio Valerini\nDocente a contratto di Diritto Processuale Civile\nUniversità di Roma Tor Vergata\nStudio Legale Valerini \nDott. Niccolò Vecchiotti\nCo-Founder e CEO\nNewco Management \n\n\n		\n	\nBrochure\n	\n		\n			 Scarica la brochure\n\n		\n	\nIscrizioni e Condizioni\n	\n		\n			Quota di partecipazione \nLa quota di partecipazione in aula virtuale (diretta streaming) include l’invio del materiale didattico in formato elettronico e la possibilità di sottoporre ai relatori quesiti di specifico interesse a mezzo chat. È altresì possibile anticipare domande e richieste di approfondimento inviando una e-mail a info@paradigma.it entro il giorno antecedente l’evento. \nIn caso di videoconferenza con accessi multipli è necessario contattare la Segreteria organizzativa per un preventivo personalizzato. \nModalità di funzionamento della videoconferenza \nE’ possibile accedere all’aula virtuale da qualsiasi luogo\, utilizzando il proprio PC o tablet con una semplice connessione a Internet. La piattaforma informatica utilizzata da Paradigma (Adobe Connect) non necessita di requisiti tecnici particolari. \nNei giorni antecedenti l’evento il partecipante riceverà per posta elettronica le credenziali e le istruzioni di accesso. Il giorno dell’evento sarà sufficiente selezionare il link che troverà nella mail e inserire le credenziali per accedere all’aula virtuale. \nDurante gli interventi\, oltre a vedere e sentire i docenti\, è possibile consultare simultaneamente la documentazione predisposta dal relatore. Ogni utente collegato potrà porre domande sulle tematiche affrontate a mezzo chat\, alle quali il docente risponderà nel corso dell’intervento. \nModalità di iscrizione \nL’iscrizione si perfeziona al momento del ricevimento del modulo di registrazione\, da inviare via e-mail all’indirizzo info@paradigma.it\, integralmente compilato. Il numero dei collegamenti disponibili è limitato e la priorità d’iscrizione è determinata dalla data di ricezione del modulo di registrazione. Si consiglia pertanto di effettuare una preiscrizione telefonica. \nModalità di pagamento \nLa quota di partecipazione deve essere versata all’atto della presentazione della richiesta di iscrizione e\, in ogni caso\, prima dell’effettuazione dell’evento formativo\, tramite bonifico bancario intestato a: \nParadigma Srl – Corso Vittorio Emanuele II\, 68 – 10121 Torino\nc/o Banco BPM Spa\nIBAN IT 14 V 05034 01017 000000002530 \nFormazione finanziata \nLa quota di partecipazione può essere completamente rimborsata tramite voucher promossi dai Fondi Paritetici Interprofessionali. Paradigma offre la completa e gratuita gestione delle spese di progettazione\, monitoraggio e rendicontazione. La possibilità di accedere alla formazione finanziata con partecipazione mediante videoconferenza può variare a seconda dell’Ente erogante. \nAttestato di frequenza \nL’attestato di partecipazione nominativo sarà inviato al termine dell’evento formativo ai partecipanti che si sono regolarmente collegati all’aula virtuale. \nDiritto di recesso e modalità di disdetta \nÈ attribuita ai partecipanti la facoltà di recedere ai sensi dell’art. 1373 c.c. Il recesso dovrà essere comunicato in forma scritta almeno sette giorni prima della data di inizio dell’evento formativo (escluso il sabato e la domenica). Qualora la disdetta pervenga oltre tale termine o si verifichi di fatto con il mancato collegamento alla videoconferenza\, la quota di partecipazione sarà addebitata per intero e sarà inviato al partecipante il materiale didattico. In qualunque momento l’azienda o lo studio potranno comunque sostituire il partecipante\, comunicando il nuovo nominativo alla nostra Segreteria organizzativa. \nVariazioni di programma \nParadigma\, per ragioni eccezionali e imprevedibili\, si riserva di annullare o modificare la data dell’evento formativo\, dandone comunicazione agli interessati entro tre giorni dalla data di inizio prevista. In tali casi le quote di partecipazione pervenute verranno rimborsate\, con esclusione di qualsivoglia onere o obbligo a carico di Paradigma. Paradigma si riserva inoltre\, per ragioni sopravvenute e per cause di forza maggiore\, di modificare l’articolazione del programma e di sostituire i docenti previsti con altri docenti di pari livello professionale. \nPer ulteriori informazioni è possibile contattare la Segreteria organizzativa al numero 011.538686 o all’indirizzo e-mail info@paradigma.it. \n\n\n		\n	\n\n\n	\n		\n			Quota di partecipazione\n	\n		\n			€ 1.100 + Iva\n\n		\n	\n\n	\n		\n			In caso di videoconferenza con accessi multipli è necessario contattare la Segreteria organizzativa per un preventivo personalizzato. \n\n		\n	\n\n\n		\n	\n\n	\n		\n			\n\n\n\n\n\n\n	\n		\n			Early booking -20%\nInviando il modulo di iscrizione entro il 20 febbraio si avrà diritto a una riduzione del 20% sulla quota di partecipazione. \n\n		\n	\n\n\n\n		\n	\n\n	\n		\n			\n\n		\n	\n\n	\n		\n			\n\n		\n	\n\n	\n		\n			\n\n\n\n\n\n\n	\n		\n			Progetto Giovani Eccellenze -50%\nL’adesione all’evento formativo permette di iscrivere una seconda risorsa\, che non abbia compiuto il 30° anno di età e proveniente dalla stessa organizzazione\, con una riduzione del 50% sulla seconda quota di partecipazione. L’agevolazione è calcolata sulla quota ordinaria. \n\n		\n	\n\n\n\n		\n	\n\n	\n		\n			\n\n\n\n\n\n\n	\n		\n			Formazione finanziata\nLa quota di partecipazione all’iniziativa può essere completamente rimborsata tramite voucher promossi dai Fondi Paritetici Interprofessionali. Paradigma offre la completa e gratuita gestione delle spese di progettazione\, monitoraggio e rendiconto. \n\n		\n	\n\n\n\n		\n	\n\n	\n		\n			\n\n\n\n\n\n\n	\n		\n			Mercati elettronici della PA\nParadigma opera sul MePA e sui principali mercati elettronici di soggetti aggregatori e centrali di committenza. \n\n		\n	\n\n\n\n		\n	\n\n	\n		\n			\n	\n\n\n	I campi con (*) sono obbligatori\n	\n		\n		Dati relativi all'evento\n		\n		\n			Partecipazione in aula\n			Partecipazione in videoconferenza\n		\n		\n\n		Dati relativi al richiedente\n		\n		\n		\n		\n		\n		\n		\n		\n\n	\n\n	\n\n		Dati per eventuale partecipante under 30\n		\n		\n		\n\n	\n\n	\n\n		Dati per la fatturazione elettronica\n		\n		\n		\n		\n		\n		\n				\n		\n		\n		  Split Payment:\n          \n            \n              \n              Si \n            No\n          \n        \n		\n		\n		\n		\n	\n\n	\n\n		Per informazioni contattare\n		\n		\n		\n		\n		\n	\n	L'iscrizione all'evento formativo si intende perfezionata al momento del ricevimento\, da parte di Paradigma Srl\, del presente modulo di registrazione compilato in ogni sua parte\, stampato\, firmato e inviato via e-mail all'indirizzo info@paradigma.it. Riceverete via email conferma dell'avvenuta iscrizione. \n\n\n		\n	     Acconsento all'invio di comunicazioni sui servizi Paradigma Srl - Consenso finalizzato\, anche con modalità automatizzate\, all'invio di comunicazioni relative a prodotti e servizi di Paradigma Srl e al fine di ricevere materiale informativo o promozionale.\n	\n	     Acconsento alla personalizzazione delle offerte - Consenso finalizzato\, mediante modalità automatizzate\, a personalizzare i servizi forniti e meglio indirizzare le proposte promozionali grazie ad attività di profilazione.\n	\n	Inviando i dati autorizzi Paradigma Srl a utilizzare i tuoi dati personali per evadere la richiesta di partecipazione all’evento formativo e svolgere le attività a ciò connesse. I dati potranno essere trattati\, per conto di Paradigma Srl\, da dipendenti e collaboratori incaricati di svolgere specifici servizi necessari all’esecuzione delle tue richieste. Il conferimento dei tuoi dati\, pur essendo facoltativo\, si rende necessario per l’esecuzione del servizio richiesto.	\n\n\n\n\n		\n\n\n\n\n\n		\n	\n[/vc_column][/vc_row]
URL:https://paradigma.it/iniziativa/la-contrattualizzazione-dei-rapporti-con-influencer-testimonial-celebrity/
CATEGORIES:Marchi e Brevetti
ORGANIZER;CN="Angela%20Siniscalchi":MAILTO:asiniscalchi@paradigma.it
END:VEVENT
END:VCALENDAR