BEGIN:VCALENDAR
VERSION:2.0
PRODID:-//Paradigma srl - ECPv5.2.1//NONSGML v1.0//EN
CALSCALE:GREGORIAN
METHOD:PUBLISH
X-WR-CALNAME:Paradigma srl
X-ORIGINAL-URL:https://paradigma.it
X-WR-CALDESC:Eventi per Paradigma srl
BEGIN:VTIMEZONE
TZID:Europe/Rome
BEGIN:DAYLIGHT
TZOFFSETFROM:+0100
TZOFFSETTO:+0200
TZNAME:CEST
DTSTART:20260329T010000
END:DAYLIGHT
BEGIN:STANDARD
TZOFFSETFROM:+0200
TZOFFSETTO:+0100
TZNAME:CET
DTSTART:20261025T010000
END:STANDARD
END:VTIMEZONE
BEGIN:VEVENT
DTSTART;TZID=Europe/Rome:20260319T093000
DTEND;TZID=Europe/Rome:20260319T133000
DTSTAMP:20260421T132414
CREATED:20260211T143936Z
LAST-MODIFIED:20260317T104429Z
UID:27000-1773912600-1773927000@paradigma.it
SUMMARY:La conduzione delle investigazioni  interne aziendali
DESCRIPTION:[vc_row][vc_column]\n	\n		\n			\n		\n	\n\n	\n		\n			Le Linee Guida ISO/TS 37008 \nOggetto e disciplina delle investigazioni\nDefinizione della policy d’investigazione\nLe fasi e le funzioni coinvolte\nLe azioni disciplinari\, civili e penali\nCase study \n \n\n		\n	\n\n	\n		\n			09.30 – 13.30 \n\n		\n	\n\n	\n		\n			Evento in diretta streaming \n\n		\n	\n\n	\n		\n			 \n\n		\n	\n\n	\n		\n			\n\n		\n	\nPresentazioneProgrammaDocentiBrochureIscrizioni e CondizioniPresentazione\n	\n		\n			Contenuti dell’evento \nLe investigazioni interne rappresentano verifiche condotte all’interno di una società nel caso in cui emergano sospetti di possibile commissione di illeciti a danno o vantaggio di quest’ultima. \nLa necessità di condurre una internal investigation può derivare dalla conoscenza di indagini da parte di Autorità\, da ispezioni di vigilanza\, da segnalazioni di whistleblowing\, rilievi dell’Internal Audit o dell’Organismo di Vigilanza\, da notizie di stampa. \nAl fine di svolgere le investigazioni correttamente\, ma anche per far sì che gli esiti ottenuti siano utilizzabili ed evitare possibili responsabilità del datore di lavoro\, occorre rispettare previsioni normative collaterali quali quelle del Codice Penale\, dello Statuto dei Lavoratori e del Codice in materia di protezione dei dati personali. \nGli ultimi interventi della Corte di Cassazione e del Garante Privacy anche nel corso del 2025\, con condanne e sanzioni a carico di Società che hanno condotto investigazioni illecite\, rendono quanto mai importante conoscere quali sono i presupposti e le modalità per svolgerle. \nIl nostro ordinamento non prevede una disciplina generale e completa in materia\, ma da luglio 2023 un utile ausilio nella gestione dello svolgimento delle indagini interne è costituito dallo Standard ISO 37008 – Internal Investigations of Organizations – Guidance\, una guida per la conduzione di indagini interne in qualsiasi organizzazione\, indipendentemente dal settore di riferimento o dalla dimensione. \nNel corso della giornata di studi saranno analizzati l’oggetto delle investigazioni e le regole che le disciplinano\, con particolare focus sulla norma ISO/TS 37008. \nVerranno poi esaminate le modalità di definizione di una policy di investigazione\, le relative fasi della stessa e le funzioni aziendali coinvolte. \nInfine\, verranno analizzati i risvolti privacy e giuslavoristici delle investigazioni interne nonché le azioni disciplinari\, civili e penali e i più rilevanti casi pratici. \nDestinatari dell’evento \nL’evento formativo è rivolto ai Responsabili delle Risorse Umane\, ai Responsabili degli Affari Legali\, ai Risk Manager\, ai Responsabili della Compliance e dell’Internal Audit\, ai Gestori delle segnalazioni di whistleblowing\, nonché ai Componenti degli organi di controllo e dell’Organismo di Vigilanza 231 di società private e pubbliche. Inoltre\, è rivolto ad avvocati e consulenti. \nObiettivi dell’evento \nObiettivo dell’incontro è mettere a disposizione dei partecipanti strumenti operativi e indicazioni pratiche per la corretta conduzione delle investigazioni interne. \n\n\n		\n	\nProgramma\n	\n		\n			Giovedì 19 marzo 2026 \n  \nL’oggetto delle investigazioni e la norma ISO/TS 37008 \nLe regole e i principi per lo svolgimento delle investigazioni interne \nLa definizione di una policy e di una procedura d’investigazione \nI profili di interconnessione con la disciplina del Whistelblowing e del D. Lgs. n. 231/2001 \nLe fasi di un’investigazione interna \nLe funzioni aziendali coinvolte \nI vantaggi e i rischi \nLe misure di sicurezza e le parti interessate \nL’esame dei profili privacy \nL’analisi delle criticità in materia giuslavoristica \nLe azioni disciplinari\, civili e penali \nAnalisi di case study \n  \nAvv. Ugo Di Stefano\nLexellent \nAvv. Marco Sartori\nLexellent \n\n\n		\n	\nDocenti\n	\n		\n			Avv. Ugo di Stefano \nAvvocato\, fornisce\, in qualità di Senior Partner e Responsabile del Dipartimento Governance & Corporate Compliance dello studio legale Lexellent\, assistenza alle imprese in materia governance e compliance. \nIn precedenza\, è stato Ispettore del Lavoro e della Previdenza e ha ricoperto la funzione di Direttore Affari Legali e Societari in azienda per oltre venti anni. \nSvolge attività di formazione nei settori di riferimento ed è autore di pubblicazioni sul Diritto d’Impresa. \nÈ Presidente di UGI\, Unione dei Giuristi per l’Impresa e membro di comitato di lavoro dell’UNI (Ente Italiano di Normazione). \n  \nAvv. Marco Sartori \nAvvocato\, fornisce\, in qualità di Partner dello studio legale Lexellent\, assistenza specialistica alle imprese sia in ambito stragiudiziale\, sia in ambito giudiziale. \nHa maturato una specifica competenza nella consulenza giuslavoristica nell’ambito di operazioni straordinarie\, con particolare riferimento ai trasferimenti d’azienda e share deal. \nIn questo contesto\, ha contribuito alla positiva negoziazione di accordi collettivi aziendali\, tanto nel settore industriale\, quanto nel settore commerciale. \nInoltre\, assiste top manager in occasione della cessazione del rapporto di lavoro\, così come nella stipulazione di clausole speciali conservative\, quali patti di stabilità e golden parachutes. \nSocio di AGI\, Avvocati Giuslavoristi Italiani. \n\n\n		\n	\nBrochure\n	\n		\n			 Scarica la brochure\n\n		\n	\nIscrizioni e Condizioni\n	\n		\n			Quota di partecipazione \nLa quota di partecipazione in diretta streaming include la fruizione degli interventi\, nonché la possibilità di scaricare\, in formato elettronico\, il materiale didattico che i relatori riterranno di mettere a disposizione. \nÈ inoltre prevista la possibilità di rivolgere contestualmente domande ai docenti (attivando il proprio microfono o tramite chat)\, oppure sottoporle in via preventiva\, inviando una e-mail a info@paradigma.it entro il giorno antecedente l’evento. \nIn caso di diretta streaming con accessi multipli è necessario contattare la Segreteria Organizzativa per un preventivo personalizzato. \nModalità di funzionamento della diretta streaming \nLe iniziative formative sono fruibili in diretta streaming attraverso un semplice collegamento alla piattaforma dedicata. La piattaforma è strutturata per garantire un ottimo livello di fruizione e interazione e non necessita di particolari requisiti tecnici. \nAlcuni giorni prima dell’evento il partecipante riceve le istruzioni di accesso e sarà sufficiente selezionare il link ricevuto per accedere all’aula virtuale. \nGli interventi in diretta streaming sono supportati dalle slide predisposte dal docente. Ogni utente collegato potrà intervenire formulando domande o richieste di approfondimento attivando il proprio microfono o utilizzando la chat dedicata. \nModalità di iscrizione \nL’iscrizione si perfeziona al momento del ricevimento del modulo di registrazione\, da inviare via e-mail all’indirizzo info@paradigma.it\, integralmente compilato e sottoscritto. Il numero dei collegamenti disponibili è limitato e la priorità d’iscrizione è determinata dalla data di ricezione del modulo di registrazione. Si consiglia pertanto di effettuare una preiscrizione telefonica. \nModalità di pagamento \nLa quota di partecipazione deve essere versata all’atto della presentazione della richiesta di iscrizione e\, in ogni caso\, prima dell’effettuazione dell’evento formativo\, tramite bonifico bancario intestato a: \nParadigma Srl – Corso Vittorio Emanuele II\, 68 – 10121 Torino\nc/o Banco BPM Spa\nIBAN IT 14 V 05034 01017 000000002530 \nFormazione finanziata \nLa quota di partecipazione può essere completamente rimborsata tramite voucher promossi dai Fondi Paritetici Interprofessionali. Paradigma offre la completa e gratuita gestione delle spese di progettazione\, monitoraggio e rendicontazione. La possibilità di accedere alla formazione finanziata con partecipazione mediante diretta streaming può variare a seconda dell’Ente erogante. \nAttestato di frequenza \nL’attestato di partecipazione nominativo sarà inviato al termine dell’evento formativo ai partecipanti che si sono regolarmente collegati all’aula virtuale. \nDiritto di recesso e modalità di disdetta \nÈ attribuita ai partecipanti la facoltà di recedere ai sensi dell’art. 1373 c.c. Il recesso dovrà essere comunicato in forma scritta almeno sette giorni prima della data di inizio dell’evento formativo (escluso il sabato e la domenica). Qualora la disdetta pervenga oltre tale termine o si verifichi di fatto con il mancato collegamento alla diretta streaming\, la quota di partecipazione sarà addebitata per intero e sarà inviato al partecipante il materiale didattico e\, se disponibile e per un periodo limitato\, la registrazione dell’evento. In qualunque momento l’azienda o lo studio potranno comunque sostituire il partecipante\, comunicando il nuovo nominativo alla nostra Segreteria Organizzativa. \nVariazioni di programma \nParadigma\, per ragioni eccezionali e imprevedibili\, si riserva di annullare o modificare la data dell’evento formativo\, dandone comunicazione agli interessati entro tre giorni dalla data di inizio prevista. In tali casi le quote di partecipazione pervenute verranno rimborsate\, con esclusione di qualsivoglia onere o obbligo a carico di Paradigma. Paradigma si riserva inoltre\, per ragioni sopravvenute e per cause di forza maggiore\, di modificare l’articolazione del programma e di sostituire i docenti previsti con altri docenti di pari livello professionale. \nPer ulteriori informazioni è possibile contattare la Segreteria Organizzativa al numero 011.538686 o all’indirizzo e-mail info@paradigma.it. \n\n\n		\n	\n\n\n	\n		\n			Quota di partecipazione\n	\n		\n			€ 650 + Iva\n\n		\n	\n\n	\n		\n			In caso di videoconferenza con accessi multipli è necessario contattare la Segreteria organizzativa per un preventivo personalizzato. \n\n		\n	\n\n\n		\n	\n\n	\n		\n			\n\n\n\n\n\n\n	\n		\n			Early booking -20%\nInviando il modulo di iscrizione entro il 26 febbraio si avrà diritto a una riduzione del 20% sulla quota di partecipazione. \n\n		\n	\n\n\n\n		\n	\n\n	\n		\n			\n\n\n\n\n\n\n	\n		\n			Quota corporate\nIscrivi all’evento 5 o più risorse provenienti dalla stessa organizzazione con una riduzione del 50%. \n\n		\n	\n\n\n\n		\n	\n\n	\n		\n			\n\n		\n	\n\n	\n		\n			\n\n\n\n\n\n\n	\n		\n			Progetto Giovani Eccellenze -50%\nL’adesione all’evento formativo permette di iscrivere una seconda risorsa\, che non abbia compiuto il 30° anno di età e proveniente dalla stessa organizzazione\, con una riduzione del 50% sulla seconda quota di partecipazione. L’agevolazione è calcolata sulla quota ordinaria. \n\n		\n	\n\n\n\n		\n	\n\n	\n		\n			\n\n\n\n\n\n\n	\n		\n			Formazione finanziata\nLa quota di partecipazione all’iniziativa può essere completamente rimborsata tramite voucher promossi dai Fondi Paritetici Interprofessionali. Paradigma offre la completa e gratuita gestione delle spese di progettazione\, monitoraggio e rendiconto. \n\n		\n	\n\n\n\n		\n	\n\n	\n		\n			\n\n\n\n\n\n\n	\n		\n			Mercati elettronici della PA\nParadigma opera sul MePA e sui principali mercati elettronici di soggetti aggregatori e centrali di committenza. \n\n		\n	\n\n\n\n		\n	\n\n	\n		\n			\n	\n\n\n	I campi con (*) sono obbligatori\n	\n		\n		Dati relativi all'evento\n		\n		\n			Partecipazione in aula\n			Partecipazione in videoconferenza\n		\n		\n\n		Dati relativi al richiedente\n		\n		\n		\n		\n		\n		\n		\n		\n\n	\n\n	\n\n		Dati per eventuale partecipante under 30\n		\n		\n		\n\n	\n\n	\n\n		Dati per la fatturazione elettronica\n		\n		\n		\n		\n		\n		\n				\n		\n		\n		  Split Payment:\n          \n            \n              \n              Si \n            No\n          \n        \n		\n		\n		\n		\n	\n\n	\n\n		Per informazioni contattare\n		\n		\n		\n		\n		\n	\n	L'iscrizione all'evento formativo si intende perfezionata al momento del ricevimento\, da parte di Paradigma Srl\, del presente modulo di registrazione compilato in ogni sua parte\, stampato\, firmato e inviato via e-mail all'indirizzo info@paradigma.it. Riceverete via email conferma dell'avvenuta iscrizione. \n\n\n		\n	     Acconsento all'invio di comunicazioni sui servizi Paradigma Srl - Consenso finalizzato\, anche con modalità automatizzate\, all'invio di comunicazioni relative a prodotti e servizi di Paradigma Srl e al fine di ricevere materiale informativo o promozionale.\n	\n	     Acconsento alla personalizzazione delle offerte - Consenso finalizzato\, mediante modalità automatizzate\, a personalizzare i servizi forniti e meglio indirizzare le proposte promozionali grazie ad attività di profilazione.\n	\n	Inviando i dati autorizzi Paradigma Srl a utilizzare i tuoi dati personali per evadere la richiesta di partecipazione all’evento formativo e svolgere le attività a ciò connesse. I dati potranno essere trattati\, per conto di Paradigma Srl\, da dipendenti e collaboratori incaricati di svolgere specifici servizi necessari all’esecuzione delle tue richieste. Il conferimento dei tuoi dati\, pur essendo facoltativo\, si rende necessario per l’esecuzione del servizio richiesto.	\n\n\n\n\n		\n\n\n\n\n\n		\n	\n[/vc_column][/vc_row]
URL:https://paradigma.it/iniziativa/la-conduzione-delle-investigazioni-interne-aziendali-3/
CATEGORIES:Lavoro e Previdenza
END:VEVENT
END:VCALENDAR