BEGIN:VCALENDAR
VERSION:2.0
PRODID:-//Paradigma srl - ECPv5.2.1//NONSGML v1.0//EN
CALSCALE:GREGORIAN
METHOD:PUBLISH
X-WR-CALNAME:Paradigma srl
X-ORIGINAL-URL:https://paradigma.it
X-WR-CALDESC:Eventi per Paradigma srl
BEGIN:VTIMEZONE
TZID:Europe/Rome
BEGIN:DAYLIGHT
TZOFFSETFROM:+0100
TZOFFSETTO:+0200
TZNAME:CEST
DTSTART:20230326T010000
END:DAYLIGHT
BEGIN:STANDARD
TZOFFSETFROM:+0200
TZOFFSETTO:+0100
TZNAME:CET
DTSTART:20231029T010000
END:STANDARD
END:VTIMEZONE
BEGIN:VEVENT
DTSTART;TZID=Europe/Rome:20230131T093000
DTEND;TZID=Europe/Rome:20230131T180000
DTSTAMP:20260421T171731
CREATED:20221202T141536Z
LAST-MODIFIED:20230127T162229Z
UID:16836-1675157400-1675188000@paradigma.it
SUMMARY:La composizione degli organi sociali  delle imprese di assicurazione
DESCRIPTION:[vc_row][vc_column]\n	\n		\n			\n		\n	\n\n	\n		\n			\nRequisiti degli esponenti aziendali e strumenti di autovalutazione\n\nI docenti\, nel corso dell’evento formativo\, risponderanno alle domande e alle richieste di chiarimenti formulate dai partecipanti. Eventuali quesiti potranno essere anticipati inviando una email all’indirizzo asorba@paradigma.it \n \n\n		\n	\n\n	\n		\n			Evento in videoconferenza \n\n		\n	\n\n	\n		\n			31 gennaio 2023 \n\n		\n	\n\n	\n		\n			 \n\n		\n	\n\n	\n		\n			\n\n		\n	\nPresentazioneProgrammaDocentiBrochureIscrizioni e CondizioniPresentazione\n	\n		\n			Contenuti dell’evento \nNel corso della giornata di studi\, organizzata in modalità videoconferenza\, saranno analizzate le novità introdotte dal Decreto MISE 2 maggio 2022\, definendone i profili applicativi e gli aspetti più problematici. \nL’approfondimento riguarderà anche il processo di autovalutazione dell’organo amministrativo di un’impresa di assicurazione e del sistema di governance di impresa e di gruppo in coerenza alle previsioni del Regolamento IVASS n. 38 del 3 luglio 2018. \nEsponenti dei principali gruppi assicurativi e professionisti specializzati nella materia presenteranno i contenuti dei provvedimenti normativi\, proponendo soluzioni e modalità operative per una loro concreta applicazione. \nDestinatari dell’evento \nL’evento formativo è rivolto ai Componenti dei CdA\, ai Segretari dei Board\, ai General Counsel\, ai Responsabili del Servizio Legale e della Compliance\, ai Sindaci di compagnie di assicurazione e riassicurazione\, nonché ai professionisti e consulenti che seguono questi aspetti. \nObiettivi dell’evento \nObiettivo dell’incontro è la valutazione dell’impatto delle nuove disposizioni sull’operatività e sull’organizzazione del comparto assicurativo\, che impongono un aggiornamento delle procedure e della governance interna\, al fine di essere compliant con le nuove indicazioni normative e regolamentari\, nonché fornire una specifica panoramica sul complessivo processo di autovalutazione degli organi amministrativi e del sistema di governance delle compagnie di assicurazione. \n\n\n		\n	\nProgramma\n	\n		\n			Martedì 31 gennaio 2023 \nLa composizione degli organi sociali delle imprese di assicurazioni: disciplina e adempimenti alla luce della recente evoluzione normativa\nProf. Avv. Pierpaolo Marano\nUniversità Cattolica del Sacro Cuore di Milano\nIRSG EIOPA\nTLS Studio Legale e Commerciale \nI requisiti di professionalità e i criteri di competenza\nRequisiti di professionalità per i soggetti che svolgono funzioni di amministrazione e direzione\nRequisiti di professionalità per i componenti del collegio sindacale\nCriteri di competenza per gli esponenti e loro valutazione\nI criteri di adeguata composizione collettiva degli organi e la loro valutazione\nProf. Avv. Paolo Rainelli\nPolitecnico di Torino\nCleary Gottlieb Steen & Hamilton LLP \nDisponibilità di tempo e limiti al cumulo degli incarichi\nDisponibilità di tempo allo svolgimento degli incarichi\nLimiti al cumulo degli incarichi degli esponenti delle imprese di maggiori dimensioni o complessità operativa\nEsenzioni e modalità di aggregazione degli incarichi\nAssunzione di incarichi aggiuntivi\nAvv. Simona Fanuele\nGroupama Assicurazioni \nIl processo di autovalutazione ai sensi del Regolamento IVASS n. 38 del 3 luglio 2018\nLe previsioni del Regolamento IVASS n. 38 del 3 luglio 2018 in materia di autovalutazione dell’organo amministrativo\nL’autovalutazione dell’organo amministrativo della USCI\nIl concreto processo di autovalutazione dell’organo amministrativo\nIl processo di autovalutazione del sistema di governance della singola legal entity e del gruppo assicurativo\nAvv. Andrea Polizzi\nStudio Legale D’Argenio Polizzi e Associati \nValutazione di idoneità degli esponenti aziendali: impatto sulle compagnie assicurative e opportune attività di assesment\nValutazione da parte degli organi competenti\nNorme applicabili ai titolari di funzioni fondamentali e a coloro che svolgono funzioni fondamentali\nI principali impatti delle nuove disposizioni a livello di governo societario e sulle policies aziendali\nVerifica dell’Autorità di vigilanza competente\nLa disciplina transitoria\nAvv. Fabio Maniori\nUniversità Cattolica del Sacro Cuore di Milano\nStudio Maniori \nI requisiti di onorabilità\, i criteri di correttezza e i requisiti di indipendenza degli esponenti\nI requisiti di onorabilità degli esponenti\nI criteri di correttezza degli esponenti\nLa valutazione della correttezza\nLa sospensione dagli incarichi\nI requisiti di indipendenza di alcuni consiglieri di amministrazione\nI requisiti di indipendenza dei sindaci\nIndipendenza di giudizio e sua valutazione\nAvv. Flavia Artigiani\nGenerali Italia \n\n\n		\n	\nDocenti\n	\n		\n			Avv. Flavia Artigiani\nResponsabile Segreteria Societaria\nGenerali Italia \nAvv. Simona Fanuele\nHead of Legal and Compliance Department\nGroupama Assicurazioni \nAvv. Fabio Maniori\nDocente a contratto nel Master Digital Innovation & FinTech\nUniversità Cattolica del Sacro Cuore di Milano\nFounding Partner\nStudio Maniori \nProf. Avv. Pierpaolo Marano\nAssociato di Diritto delle Assicurazioni\nUniversità Cattolica del Sacro Cuore di Milano\nComponente dello IRSG EIOPA\nOf Counsel – TLS Studio Legale e Commerciale \nAvv. Andrea Polizzi\nFounding Partner\nStudio Legale D’Argenio Polizzi e Associati \nProf. Avv. Paolo Rainelli\nAssociato di Diritto Commerciale\nPolitecnico di Torino\nCounsel\nCleary Gottlieb Steen & Hamilton LLP \n\n\n		\n	\nBrochure\n	\n		\n			 Scarica la brochure\n\n		\n	\nIscrizioni e Condizioni\n	\n		\n			Quota di partecipazione \nLa quota di partecipazione in aula virtuale (diretta streaming) include l’invio del materiale didattico in formato elettronico e la possibilità di sottoporre ai relatori quesiti di specifico interesse a mezzo chat. È altresì possibile anticipare domande e richieste di approfondimento inviando una e-mail a info@paradigma.it entro il giorno antecedente l’evento. \nIn caso di videoconferenza con accessi multipli è necessario contattare la Segreteria organizzativa per un preventivo personalizzato. \nModalità di funzionamento della videoconferenza \nE’ possibile accedere all’aula virtuale da qualsiasi luogo\, utilizzando il proprio PC o tablet con una semplice connessione a Internet. La piattaforma informatica utilizzata da Paradigma (Adobe Connect) non necessita di requisiti tecnici particolari. \nNei giorni antecedenti l’evento il partecipante riceverà per posta elettronica le credenziali e le istruzioni di accesso. Il giorno dell’evento sarà sufficiente selezionare il link che troverà nella mail e inserire le credenziali per accedere all’aula virtuale. \nDurante gli interventi\, oltre a vedere e sentire i docenti\, è possibile consultare simultaneamente la documentazione predisposta dal relatore. Ogni utente collegato potrà porre domande sulle tematiche affrontate a mezzo chat\, alle quali il docente risponderà nel corso dell’intervento. \nModalità di iscrizione \nL’iscrizione si perfeziona al momento del ricevimento del modulo di registrazione\, da inviare via e-mail all’indirizzo info@paradigma.it\, integralmente compilato. Il numero dei collegamenti disponibili è limitato e la priorità d’iscrizione è determinata dalla data di ricezione del modulo di registrazione. Si consiglia pertanto di effettuare una preiscrizione telefonica. \nModalità di pagamento \nLa quota di partecipazione deve essere versata all’atto della presentazione della richiesta di iscrizione e\, in ogni caso\, prima dell’effettuazione dell’evento formativo\, tramite bonifico bancario intestato a: \nParadigma Srl – Corso Vittorio Emanuele II\, 68 – 10121 Torino\nc/o Banco BPM Spa\nIBAN IT 14 V 05034 01017 000000002530 \nFormazione finanziata \nLa quota di partecipazione può essere completamente rimborsata tramite voucher promossi dai Fondi Paritetici Interprofessionali. Paradigma offre la completa e gratuita gestione delle spese di progettazione\, monitoraggio e rendicontazione. La possibilità di accedere alla formazione finanziata con partecipazione mediante videoconferenza può variare a seconda dell’Ente erogante. \nAttestato di frequenza \nL’attestato di partecipazione nominativo sarà inviato al termine dell’evento formativo ai partecipanti che si sono regolarmente collegati all’aula virtuale. \nDiritto di recesso e modalità di disdetta \nÈ attribuita ai partecipanti la facoltà di recedere ai sensi dell’art. 1373 c.c. Il recesso dovrà essere comunicato in forma scritta almeno sette giorni prima della data di inizio dell’evento formativo (escluso il sabato e la domenica). Qualora la disdetta pervenga oltre tale termine o si verifichi di fatto con il mancato collegamento alla videoconferenza\, la quota di partecipazione sarà addebitata per intero e sarà inviato al partecipante il materiale didattico. In qualunque momento l’azienda o lo studio potranno comunque sostituire il partecipante\, comunicando il nuovo nominativo alla nostra Segreteria organizzativa. \nVariazioni di programma \nParadigma\, per ragioni eccezionali e imprevedibili\, si riserva di annullare o modificare la data dell’evento formativo\, dandone comunicazione agli interessati entro tre giorni dalla data di inizio prevista. In tali casi le quote di partecipazione pervenute verranno rimborsate\, con esclusione di qualsivoglia onere o obbligo a carico di Paradigma. Paradigma si riserva inoltre\, per ragioni sopravvenute e per cause di forza maggiore\, di modificare l’articolazione del programma e di sostituire i docenti previsti con altri docenti di pari livello professionale. \nPer ulteriori informazioni è possibile contattare la Segreteria organizzativa al numero 011.538686 o all’indirizzo e-mail info@paradigma.it. \n\n\n		\n	\n\n\n	\n		\n			Quota di partecipazione\n	\n		\n			€ 1.100 + Iva\n\n		\n	\n\n	\n		\n			In caso di videoconferenza con accessi multipli è necessario contattare la Segreteria organizzativa per un preventivo personalizzato. \n\n		\n	\n\n\n		\n	\n\n	\n		\n			\n\n\n\n\n\n\n	\n		\n			Early booking -20%\nInviando il modulo di iscrizione entro il 3 gennaio si avrà diritto a una riduzione del 20% sulla quota di partecipazione. \n\n		\n	\n\n\n\n		\n	\n\n	\n		\n			\n\n		\n	\n\n	\n		\n			\n\n		\n	\n\n	\n		\n			\n\n\n\n\n\n\n	\n		\n			Progetto Giovani Eccellenze -50%\nL’adesione all’evento formativo permette di iscrivere una seconda risorsa\, che non abbia compiuto il 30° anno di età e proveniente dalla stessa organizzazione\, con una riduzione del 50% sulla seconda quota di partecipazione. L’agevolazione è calcolata sulla quota ordinaria. \n\n		\n	\n\n\n\n		\n	\n\n	\n		\n			\n\n\n\n\n\n\n	\n		\n			Formazione finanziata\nLa quota di partecipazione all’iniziativa può essere completamente rimborsata tramite voucher promossi dai Fondi Paritetici Interprofessionali. Paradigma offre la completa e gratuita gestione delle spese di progettazione\, monitoraggio e rendiconto. \n\n		\n	\n\n\n\n		\n	\n\n	\n		\n			\n\n\n\n\n\n\n	\n		\n			Mercati elettronici della PA\nParadigma opera sul MePA e sui principali mercati elettronici di soggetti aggregatori e centrali di committenza. \n\n		\n	\n\n\n\n		\n	\n\n	\n		\n			\n	\n\n\n	I campi con (*) sono obbligatori\n	\n		\n		Dati relativi all'evento\n		\n		\n			Partecipazione in aula\n			Partecipazione in videoconferenza\n		\n		\n\n		Dati relativi al richiedente\n		\n		\n		\n		\n		\n		\n		\n		\n\n	\n\n	\n\n		Dati per eventuale partecipante under 30\n		\n		\n		\n\n	\n\n	\n\n		Dati per la fatturazione elettronica\n		\n		\n		\n		\n		\n		\n				\n		\n		\n		  Split Payment:\n          \n            \n              \n              Si \n            No\n          \n        \n		\n		\n		\n		\n	\n\n	\n\n		Per informazioni contattare\n		\n		\n		\n		\n		\n	\n	L'iscrizione all'evento formativo si intende perfezionata al momento del ricevimento\, da parte di Paradigma Srl\, del presente modulo di registrazione compilato in ogni sua parte\, stampato\, firmato e inviato via e-mail all'indirizzo info@paradigma.it. Riceverete via email conferma dell'avvenuta iscrizione. \n\n\n		\n	     Acconsento all'invio di comunicazioni sui servizi Paradigma Srl - Consenso finalizzato\, anche con modalità automatizzate\, all'invio di comunicazioni relative a prodotti e servizi di Paradigma Srl e al fine di ricevere materiale informativo o promozionale.\n	\n	     Acconsento alla personalizzazione delle offerte - Consenso finalizzato\, mediante modalità automatizzate\, a personalizzare i servizi forniti e meglio indirizzare le proposte promozionali grazie ad attività di profilazione.\n	\n	Inviando i dati autorizzi Paradigma Srl a utilizzare i tuoi dati personali per evadere la richiesta di partecipazione all’evento formativo e svolgere le attività a ciò connesse. I dati potranno essere trattati\, per conto di Paradigma Srl\, da dipendenti e collaboratori incaricati di svolgere specifici servizi necessari all’esecuzione delle tue richieste. Il conferimento dei tuoi dati\, pur essendo facoltativo\, si rende necessario per l’esecuzione del servizio richiesto.	\n\n\n\n\n		\n\n\n\n\n\n		\n	\n[/vc_column][/vc_row]
URL:https://paradigma.it/iniziativa/la-composizione-degli-organi-sociali-delle-imprese-di-assicurazione/
CATEGORIES:Governance e Diritto Societario
ORGANIZER;CN="Angela%20Siniscalchi":MAILTO:asiniscalchi@paradigma.it
END:VEVENT
END:VCALENDAR