BEGIN:VCALENDAR
VERSION:2.0
PRODID:-//Paradigma srl - ECPv5.2.1//NONSGML v1.0//EN
CALSCALE:GREGORIAN
METHOD:PUBLISH
X-WR-CALNAME:Paradigma srl
X-ORIGINAL-URL:https://paradigma.it
X-WR-CALDESC:Eventi per Paradigma srl
BEGIN:VTIMEZONE
TZID:Europe/Rome
BEGIN:DAYLIGHT
TZOFFSETFROM:+0100
TZOFFSETTO:+0200
TZNAME:CEST
DTSTART:20230326T010000
END:DAYLIGHT
BEGIN:STANDARD
TZOFFSETFROM:+0200
TZOFFSETTO:+0100
TZNAME:CET
DTSTART:20231029T010000
END:STANDARD
END:VTIMEZONE
BEGIN:VEVENT
DTSTART;TZID=Europe/Rome:20231024T093000
DTEND;TZID=Europe/Rome:20231024T173000
DTSTAMP:20260421T145801
CREATED:20230918T151308Z
LAST-MODIFIED:20231020T124646Z
UID:18699-1698139800-1698168600@paradigma.it
SUMMARY:La bonifica dei siti contaminati
DESCRIPTION:[vc_row][vc_column]\n	\n		\n			\n		\n	\n\n	\n		\n			\nSentenza Corte Costituzionale n. 160/2023 e D.L. n. 104/2023\nLa posizione del proprietario incolpevole\nLe contaminazioni storiche\nLe procedure semplificate\nGli interventi sui siti orfani\nLa revisione in corso della disciplina di terre e rocce da scavo\nLe nuove Linee Guida SNPA sui materiali di riporto\n\nI docenti\, nel corso dell’evento formativo\, risponderanno alle domande e alle richieste di chiarimenti formulate dai partecipanti. Eventuali quesiti potranno essere anticipati inviando una e-mail all’indirizzo info@paradigma.it \n \n\n		\n	\n\n	\n		\n			Evento in videoconferenza \n\n		\n	\n\n	\n		\n			24 ottobre 2023 \n\n		\n	\n\n	\n		\n			 \n\n		\n	\n\n	\n		\n			\n\n		\n	\nPresentazioneProgrammaDocentiBrochureIscrizioni e CondizioniPresentazione\n	\n		\n			Contenuti dell’evento \nLa messa in sicurezza e la bonifica dei siti inquinati rappresenta uno dei temi di maggiore rilevanza sotto il profilo ambientale. Nondimeno\, poiché un’area da bonificare necessita di essere ripensata nell’ottica dei suoi possibili utilizzi futuri (che\, in verità\, sono il più delle volte già definiti prima che l’attività di recupero abbia inizio)\, sono evidenti le implicazioni pratiche che la materia ha anche con riferimento alle attività urbanistiche ed edilizie e alle operazioni di M&A immobiliare. \nTra gli aspetti da tenere in maggiore considerazione in tale ambito vi sono senz’altro gli obblighi del proprietario incolpevole della contaminazione\, le modalità in cui ci si può avvalere delle semplificazioni procedimentali intervenute negli ultimi anni\, le cautele da adottare per mettere in sicurezza e quindi bonificare un sito inquinato\, la caratterizzazione dello stesso e le valutazioni di analisi del rischio. \nLa regolamentazione delle bonifiche contenuta nel Codice dell’Ambiente (Titolo V) è stata in più parti modificata dal D.L. n. 77/2021 (c.d. Decreto semplificazioni 2021\, convertito in L. n. 108/2021)\, con interventi volti a snellire e accelerare gli interventi di risanamento. Tra le novità introdotte\, particolarmente rilevante è il comma 7-bis dell’art. 242\, che consente\, a determinate condizioni\, il rilascio di una certificazione parziale di avvenuta bonifica\, limitatamente ad alcune matrici ambientali. \nGli ultimi mesi hanno visto l’emergere di problematiche operative di non scarsa rilevanza con riguardo alla titolarità delle competenze amministrative in materia di bonifiche\, dopo che la Corte costituzionale\, con la Sentenza n. 160/2023 del 24 luglio scorso\, ha dichiarato illegittima la legge regionale lombarda che trasferiva ai Comuni dette competenze. A tale declaratoria di incostituzionalità è seguita l’approvazione in Consiglio dei Ministri del D.L. n. 104/2023\, che ha fatto salvi analoghi trasferimenti di competenze ad opera dei legislatori regionali\, ma senza evidentemente poter incidere sulla situazione della Regione Lombardia\, la cui legge era stata oggetto della pronuncia menzionata. \nUlteriori\, importanti novità sono inoltre sopraggiunte\, nel corso dell’anno\, sul piano giurisprudenziale\, con rilevanti arresti della Corte di Cassazione e del Consiglio di Stato circa la distinzione tra obblighi di bonifica\, misure di prevenzione e obblighi di MISE relativi al sito inquinato (SS.UU. Cass.\, Sent. n. 3077/2023; CdS\, Sez. IV\, Sent. n. 6957/2023)\, e sul piano normativo e interpretativo\, con l’approvazione del Decreto MASE n. 45/2023 sugli interventi semplificati di bonifica di cui all’art. 242-ter e delle Linee Guida SNPA (agosto 2023) per la gestione dei materiali di riporto nell’ambito dei procedimenti di bonifica. \nDestinatari dell’evento \nL’evento formativo è rivolto ai Responsabili Ambiente e Sicurezza\, ai Responsabili dei Sistemi di Gestione Ambientale\, ai Responsabili dei Sistemi Integrati di Gestione Qualità Sicurezza Ambiente\, ai Responsabili degli Affari Legali\, ai Responsabili del Servizio Compliance\, nonché ad avvocati e consulenti in materia ambientale e urbanistica. \nObiettivi dell’evento \nObiettivo dell’incontro è presentare un quadro il più possibile completo delle tematiche di maggiore interesse per gli operatori in materia di bonifiche\, mettendo a disposizione dei partecipanti strumenti operativi e indicazioni pratiche per aggiornare le proprie competenze professionali e affrontare adeguatamente i casi pratici che l’esperienza quotidiana può offrire. \n\n\n		\n	\nProgramma\n	\n		\n			Martedì 24 ottobre 2023 \nLe competenze legislative e amministrative in materia di bonifiche: la recente giurisprudenza costituzionale e il successivo intervento “riparatore” del D.L. n. 104/2023\nL’assetto di competenze in materia di bonifiche desumibile dal Titolo V della Costituzione e dal Codice dell’Ambiente\nLa sentenza della Corte Costituzionale n. 160/2023 sulla disciplina della Regione Lombardia\nIl punto dirimente relativo al livello di competenze amministrative più adeguato alla gestione dei procedimenti di bonifica\nLa soluzione individuata dal D.L. n. 104/2023 per preservare il trasferimento di competenze amministrative ai Comuni\nProf. Avv. Marcello Cecchetti\nUniversità di Sassari \nIl trasferimento di un sito contaminato: gli obblighi e le facoltà del proprietario non responsabile\nLa posizione giuridica del cd. “proprietario incolpevole” e il principio “chi inquina paga”\nLa distinzione tra obblighi di bonifica\, misure di prevenzione e obblighi di MISE relativi al sito inquinato\, alla luce della giurisprudenza civile e amministrativa dell’ultimo anno: SS.UU. Cassazione\, sentenza n. 3077/2023; Consiglio di Stato\, Sez. IV\, sentenza n. 6957/2023\nLa Plenaria Consiglio di Stato n. 10/2019 e la prevedibilità delle misure riparatorie in materia ambientale\nL’obbligo di bonifica rispetto alle c.d. “contaminazioni storiche”: Consiglio di Stato\, Sez. IV\, sentenza n. 1397/2023\nLa nozione di onere reale\nLe garanzie nel trasferimento di siti contaminati nelle operazioni real estate e corporate (con riferimento a passività ambientali\, due diligence ambientali\, garanzie legali della vendita\, representations and warranties)\nLa “transazione ambientale”\nProf. Avv. Wladimiro Troise Mangoni\nUniversità degli Studi di Milano \nLe procedure operative e amministrative\nObblighi scaturenti dal verificarsi di un evento potenzialmente idoneo a contaminare un sito\nProcedimento di bonifica e conferenza dei servizi\nIl comma 7-bis dell’art. 242 e la certificazione parziale di avvenuta bonifica\nIl Decreto MASE n. 45/2023 sugli interventi semplificati di cui all’art. 242-ter\nAvv. Federico Vanetti\nChiomenti \nIl coordinamento tra le bonifiche e l’attività urbanistica e edilizia\nAttività edilizia e interventi in connessione con la bonifica\nLa restituzione agli usi legittimi e il riutilizzo delle aree\nI limiti allo scomputo dei costi di bonifica dagli oneri di urbanizzazione e gli incentivi per la bonifica dei siti contaminati\nLe indagini ambientali preliminari\nAvv. Antonio Papi Rossi\nStudio Legale Amministrativisti Associati \nI c.d. “siti orfani” e l’intervento della Pubblica Amministrazione\nLa definizione di sito orfano ai sensi del D.M. n. 269 del 29 dicembre 2020\nL’inserimento nel PNRR di una specifica misura per il risanamento dei siti orfani\nIl recente aggiornamento dell’elenco dei siti orfani candidabili al finanziamento con le risorse della misura M2C4\nL’individuazione in concreto dei siti oggetto di intervento e le riqualificazioni da attuare (tramite il Piano d’azione di cui all’art. 17 D.L. n. 152/2021)\nAvv. Xavier Santiapichi\nStudio Legale Santiapichi \nLa gestione delle terre e delle rocce da scavo\, tra normativa vigente e riforma in corso\nLa qualificazione normativa delle terre e rocce da scavo\nIl riordino e la semplificazione della disciplina a opera del DPR n. 120 del 13 giugno 2017\nDiritti e doveri dei diversi soggetti coinvolti\nQuali obblighi documentali?\nLe diverse fasi di gestione delle terre e rocce da scavo\nLinee Guida SNPA (maggio 2019)\nIl nuovo schema di Regolamento recante “Disposizioni per la semplificazione della disciplina inerente la gestione delle terre e rocce da scavo”\, posto in consultazione il 21 settembre u.s. e le principali novità che lo caratterizzano\nAvv. David Roettgen\nStudio Legale Ambientalex \nLa gestione dei materiali di riporto\nQualificazione normativa\nLa disciplina prevista dalla L. n. 108/2021\nLe Linee Guida SNPA (agosto 2023) per la gestione dei materiali di riporto nell’ambito dei procedimenti di bonifica\nAvv. Luca Prati\nStudio Legale Cardini\, Prati e Scotti \n\n\n		\n	\nDocenti\n	\n		\n			Prof. Avv. Marcello Cecchetti\nOrdinario di Istituzioni di Diritto Pubblico\nUniversità di Sassari\nSocio fondatore\nStudio Legale Marcello Cecchetti e Associati \nAvv. Antonio Papi Rossi\nPartner\nStudio Legale Amministrativisti Associati \nAvv. Luca Prati\nPartner\nStudio Legale Cardini\, Prati e Scotti \nAvv. David Roettgen\nPartner\nStudio Legale Ambientalex \nAvv. Xavier Santiapichi\nSocio Fondatore\nStudio Legale Santiapichi \nProf. Avv. Wladimiro Troise Mangoni\nOrdinario di Diritto Amministrativo\nUniversità degli Studi di Milano\nSocio fondatore\nTroise Mangoni Studio Legale Associato \nAvv. Federico Vanetti\nPartner\nChiomenti \n\n\n		\n	\nBrochure\n	\n		\n			 Scarica la brochure\n\n		\n	\nIscrizioni e Condizioni\n	\n		\n			Quota di partecipazione \nLa quota di partecipazione in aula virtuale (diretta streaming) include l’invio del materiale didattico in formato elettronico e la possibilità di sottoporre ai relatori quesiti di specifico interesse a mezzo chat. È altresì possibile anticipare domande e richieste di approfondimento inviando una e-mail a info@paradigma.it entro il giorno antecedente l’evento. \nIn caso di videoconferenza con accessi multipli è necessario contattare la Segreteria organizzativa per un preventivo personalizzato. \nModalità di funzionamento della videoconferenza \nE’ possibile accedere all’aula virtuale da qualsiasi luogo\, utilizzando il proprio PC o tablet con una semplice connessione a Internet. La piattaforma informatica utilizzata da Paradigma (Adobe Connect) non necessita di requisiti tecnici particolari. \nNei giorni antecedenti l’evento il partecipante riceverà per posta elettronica le credenziali e le istruzioni di accesso. Il giorno dell’evento sarà sufficiente selezionare il link che troverà nella mail e inserire le credenziali per accedere all’aula virtuale. \nDurante gli interventi\, oltre a vedere e sentire i docenti\, è possibile consultare simultaneamente la documentazione predisposta dal relatore. Ogni utente collegato potrà porre domande sulle tematiche affrontate a mezzo chat\, alle quali il docente risponderà nel corso dell’intervento. \nModalità di iscrizione \nL’iscrizione si perfeziona al momento del ricevimento del modulo di registrazione\, da inviare via e-mail all’indirizzo info@paradigma.it\, integralmente compilato. Il numero dei collegamenti disponibili è limitato e la priorità d’iscrizione è determinata dalla data di ricezione del modulo di registrazione. Si consiglia pertanto di effettuare una preiscrizione telefonica. \nModalità di pagamento \nLa quota di partecipazione deve essere versata all’atto della presentazione della richiesta di iscrizione e\, in ogni caso\, prima dell’effettuazione dell’evento formativo\, tramite bonifico bancario intestato a: \nParadigma Srl – Corso Vittorio Emanuele II\, 68 – 10121 Torino\nc/o Banco BPM Spa\nIBAN IT 14 V 05034 01017 000000002530 \nFormazione finanziata \nLa quota di partecipazione può essere completamente rimborsata tramite voucher promossi dai Fondi Paritetici Interprofessionali. Paradigma offre la completa e gratuita gestione delle spese di progettazione\, monitoraggio e rendicontazione. La possibilità di accedere alla formazione finanziata con partecipazione mediante videoconferenza può variare a seconda dell’Ente erogante. \nAttestato di frequenza \nL’attestato di partecipazione nominativo sarà inviato al termine dell’evento formativo ai partecipanti che si sono regolarmente collegati all’aula virtuale. \nDiritto di recesso e modalità di disdetta \nÈ attribuita ai partecipanti la facoltà di recedere ai sensi dell’art. 1373 c.c. Il recesso dovrà essere comunicato in forma scritta almeno sette giorni prima della data di inizio dell’evento formativo (escluso il sabato e la domenica). Qualora la disdetta pervenga oltre tale termine o si verifichi di fatto con il mancato collegamento alla videoconferenza\, la quota di partecipazione sarà addebitata per intero e sarà inviato al partecipante il materiale didattico. In qualunque momento l’azienda o lo studio potranno comunque sostituire il partecipante\, comunicando il nuovo nominativo alla nostra Segreteria organizzativa. \nVariazioni di programma \nParadigma\, per ragioni eccezionali e imprevedibili\, si riserva di annullare o modificare la data dell’evento formativo\, dandone comunicazione agli interessati entro tre giorni dalla data di inizio prevista. In tali casi le quote di partecipazione pervenute verranno rimborsate\, con esclusione di qualsivoglia onere o obbligo a carico di Paradigma. Paradigma si riserva inoltre\, per ragioni sopravvenute e per cause di forza maggiore\, di modificare l’articolazione del programma e di sostituire i docenti previsti con altri docenti di pari livello professionale. \nPer ulteriori informazioni è possibile contattare la Segreteria organizzativa al numero 011.538686 o all’indirizzo e-mail info@paradigma.it. \n\n\n		\n	\n\n\n	\n		\n			Quota di partecipazione\n	\n		\n			€ 1.100 + Iva\n\n		\n	\n\n	\n		\n			In caso di videoconferenza con accessi multipli è necessario contattare la Segreteria organizzativa per un preventivo personalizzato. \n\n		\n	\n\n\n		\n	\n\n	\n		\n			\n\n\n\n\n\n\n	\n		\n			Early booking -20%\nInviando il modulo di iscrizione entro il 3 ottobre si avrà diritto a una riduzione del 20% sulla quota di partecipazione. \n\n		\n	\n\n\n\n		\n	\n\n	\n		\n			\n\n		\n	\n\n	\n		\n			\n\n		\n	\n\n	\n		\n			\n\n\n\n\n\n\n	\n		\n			Progetto Giovani Eccellenze -50%\nL’adesione all’evento formativo permette di iscrivere una seconda risorsa\, che non abbia compiuto il 30° anno di età e proveniente dalla stessa organizzazione\, con una riduzione del 50% sulla seconda quota di partecipazione. L’agevolazione è calcolata sulla quota ordinaria. \n\n		\n	\n\n\n\n		\n	\n\n	\n		\n			\n\n\n\n\n\n\n	\n		\n			Formazione finanziata\nLa quota di partecipazione all’iniziativa può essere completamente rimborsata tramite voucher promossi dai Fondi Paritetici Interprofessionali. Paradigma offre la completa e gratuita gestione delle spese di progettazione\, monitoraggio e rendiconto. \n\n		\n	\n\n\n\n		\n	\n\n	\n		\n			\n\n\n\n\n\n\n	\n		\n			Mercati elettronici della PA\nParadigma opera sul MePA e sui principali mercati elettronici di soggetti aggregatori e centrali di committenza. \n\n		\n	\n\n\n\n		\n	\n\n	\n		\n			\n	\n\n\n	I campi con (*) sono obbligatori\n	\n		\n		Dati relativi all'evento\n		\n		\n			Partecipazione in aula\n			Partecipazione in videoconferenza\n		\n		\n\n		Dati relativi al richiedente\n		\n		\n		\n		\n		\n		\n		\n		\n\n	\n\n	\n\n		Dati per eventuale partecipante under 30\n		\n		\n		\n\n	\n\n	\n\n		Dati per la fatturazione elettronica\n		\n		\n		\n		\n		\n		\n				\n		\n		\n		  Split Payment:\n          \n            \n              \n              Si \n            No\n          \n        \n		\n		\n		\n		\n	\n\n	\n\n		Per informazioni contattare\n		\n		\n		\n		\n		\n	\n	L'iscrizione all'evento formativo si intende perfezionata al momento del ricevimento\, da parte di Paradigma Srl\, del presente modulo di registrazione compilato in ogni sua parte\, stampato\, firmato e inviato via e-mail all'indirizzo info@paradigma.it. Riceverete via email conferma dell'avvenuta iscrizione. \n\n\n		\n	     Acconsento all'invio di comunicazioni sui servizi Paradigma Srl - Consenso finalizzato\, anche con modalità automatizzate\, all'invio di comunicazioni relative a prodotti e servizi di Paradigma Srl e al fine di ricevere materiale informativo o promozionale.\n	\n	     Acconsento alla personalizzazione delle offerte - Consenso finalizzato\, mediante modalità automatizzate\, a personalizzare i servizi forniti e meglio indirizzare le proposte promozionali grazie ad attività di profilazione.\n	\n	Inviando i dati autorizzi Paradigma Srl a utilizzare i tuoi dati personali per evadere la richiesta di partecipazione all’evento formativo e svolgere le attività a ciò connesse. I dati potranno essere trattati\, per conto di Paradigma Srl\, da dipendenti e collaboratori incaricati di svolgere specifici servizi necessari all’esecuzione delle tue richieste. Il conferimento dei tuoi dati\, pur essendo facoltativo\, si rende necessario per l’esecuzione del servizio richiesto.	\n\n\n\n\n		\n\n\n\n\n\n		\n	\n[/vc_column][/vc_row]
URL:https://paradigma.it/iniziativa/la-bonifica-dei-siti-contaminati-5/
CATEGORIES:Ambiente, Sicurezza ed Energia
ORGANIZER;CN="Veronica%20Spiez":MAILTO:vspiez@paradigma.it
END:VEVENT
END:VCALENDAR