BEGIN:VCALENDAR
VERSION:2.0
PRODID:-//Paradigma srl - ECPv5.2.1//NONSGML v1.0//EN
CALSCALE:GREGORIAN
METHOD:PUBLISH
X-WR-CALNAME:Paradigma srl
X-ORIGINAL-URL:https://paradigma.it
X-WR-CALDESC:Eventi per Paradigma srl
BEGIN:VTIMEZONE
TZID:Europe/Rome
BEGIN:DAYLIGHT
TZOFFSETFROM:+0100
TZOFFSETTO:+0200
TZNAME:CEST
DTSTART:20230326T010000
END:DAYLIGHT
BEGIN:STANDARD
TZOFFSETFROM:+0200
TZOFFSETTO:+0100
TZNAME:CET
DTSTART:20231029T010000
END:STANDARD
END:VTIMEZONE
BEGIN:VEVENT
DTSTART;TZID=Europe/Rome:20230511T093000
DTEND;TZID=Europe/Rome:20230511T180000
DTSTAMP:20260421T130452
CREATED:20230324T155037Z
LAST-MODIFIED:20230509T135014Z
UID:17630-1683797400-1683828000@paradigma.it
SUMMARY:Il whistleblowing  nelle aziende private
DESCRIPTION:[vc_row][vc_column]\n	\n		\n			\n		\n	\n\n	\n		\n			\nGli impatti del Decreto Legislativo n. 24/2023 di recepimento della Direttiva UE 1937/2019\n\nI docenti\, nel corso dell’evento formativo\, risponderanno alle domande e alle richieste di chiarimenti formulate dai partecipanti. Eventuali quesiti potranno essere anticipati inviando una e-mail all’indirizzo info@paradigma.it \n \n\n		\n	\n\n	\n		\n			Evento in videoconferenza \n\n		\n	\n\n	\n		\n			11 maggio 2023 \n\n		\n	\n\n	\n		\n			 \n\n		\n	\n\n	\n		\n			\n\n		\n	\nPresentazioneProgrammaDocentiBrochureIscrizioni e CondizioniPresentazione\n	\n		\n			Contenuti dell’evento \nLa giornata di studio\, in ottica sistematica e immediatamente operativa\, esamina la disciplina del whistleblowing nel quadro del D. Lgs. n. 231/2001 della dirompente riforma portata dalla Direttiva UE 1937/2019 e dal corrispondente Decreto di recepimento\, Decreto Legislativo 10 marzo 2023\, n. 24. \nNel corso del seminario saranno approfonditi punti fermi e criticità applicative inerenti agli impatti della nuova disciplina sui vigenti Modelli organizzativi 231\, ai diversi canali della segnalazione\, agli interventi organizzativi e procedurali da implementare\, all’informatizzazione del whistleblowing\, alle tutele e alle responsabilità del segnalante\, alla vigilanza del sistema di gestione delle segnalazioni\, agli adempimenti in materia di tutela dei dati personali sino ai risvolti di rilevanza penale e alla integrazione con la disciplina del segreto. \nL’iniziativa intende offrire ai partecipanti una rappresentazione articolata delle azioni da attuare nel breve termine\, anche tenuto conto delle sanzioni previste\, e un tracciato di riferimento per la gestione e la vigilanza delle segnalazioni\, riflettendo su fattispecie concrete e maggiormente ricorrenti. \nDestinatari dell’evento \nL’evento formativo è rivolto ai Componenti e Presidenti dell’OdV\, ai Responsabili dell’Ufficio Legale\, ai Responsabili dell’Audit e della Compliance\, ai Responsabili Privacy nonché ai professionisti esterni che prestano consulenza sulle tematiche 231. L’iniziativa è altresì rivolta agli specialisti dell’auditing e del diritto penale operanti nelle materie trattate\, per i quali il convegno rappresenta una importante occasione di incontro e approfondimento. \nObiettivi dell’evento \nObiettivo della giornata di studio è fornire ai partecipanti una rappresentazione articolata di metodologie\, strumenti operativi\, esperienze e soluzioni pratiche in tema di whistleblowing\, nell’ottica di un pieno adeguamento dei sistemi di controllo interno quanto più tempestivo e aderente alla normativa recentemente varata. \n\n\n		\n	\nProgramma\n	\n		\n			Giovedì 11 maggio 2023 \nIl nuovo quadro normativo in tema di whistleblowing\nI principali temi di innovazione della riforma: l’estensione della platea dei segnalanti\, il ridimensionamento dell’oggetto delle segnalazioni\, la moltiplicazione dei canali\, l’introduzione di un impianto sanzionatorio\nL’ambito di applicazione della riforma: soggetti tenuti e regime temporale\nL’aggiornamento dei Modelli organizzativi 231\nAvv. Guglielmo Giordanengo\nStudio Giordanengo Avvocati Associati \nGli interventi prioritari per l’implementazione delle procedure interne\nLa necessità di dotarsi di una procedura interna\nLa perimetrazione delle “violazioni” rilevanti ai fini della segnalazione\nL’individuazione dei soggetti responsabili del sistema di gestione delle segnalazioni\nLa definizione di tempistiche procedimentali\nLe interlocuzioni con il segnalante\, con il segnalato e gli ulteriori soggetti coinvolti\nLa disciplina della istruttoria\nGli esiti della segnalazione\nLa rendicontazione\nAvv. Antonio Bana\nStudio Legale Bana \nIl ruolo dell’Organismo di Vigilanza nelle aziende private: esperienze pregresse\, cautele e e evoluzione del quadro normativo \nAvv. Andrea Milani\nStudio Legale Milani Avvocati Associati \nI profili giuslavoristici\nIl whistleblowing tra diritto di critica e obbligo di fedeltà del dipendente\nLe misure anti-retaliation\, i flussi informativi e il ruolo dell’Ispettorato Nazionale del Lavoro e delle organizzazioni sindacali\nLe sanzioni connesse all’applicazione di misure ritorsive\nLa violazione dei segreti e dell’obbligo di fedeltà datoriale\nAvv. Alessandro Paone\nLabLaw Studio Legale Rotondi & Partners \nLa Direttiva UE e il decreto di recepimento a confronto: profili di continuità e discontinuità\nAvv. Iole Anna Savini\nStudio Legale Savini \nLe cautele e gli adempimenti privacy e data protection\nI trattamenti dei dati correlati al whistleblowing\nL’implementazione della informativa\nLa conservazione dei dati trattati\nLa comunicazione dei dati\nLa gestione del rischio privacy\nL’informatizzazione della procedura e la valutazione di impatto\nAvv. Tommaso Mauro\nPanetta & Associati Studio Legale \nI facilitatori e il ruolo del Terzo Settore\nDott. Giorgio Fraschini\nTransparency International \nLe responsabilità del segnalante e del segnalato\nCons. Ciro Santoriello\nProcura della Repubblica di Torino \n\n\n		\n	\nDocenti\n	\n		\n			Avv. Antonio Bana\nFounding Partner\nStudio Legale Bana \nDott. Giorgio Fraschini\nTransparency International \nAvv. Guglielmo Giordanengo\nFounding Partner\nStudio Giordanengo Avvocati Associati \nAvv. Tommaso Mauro\nPartner\nPanetta & Associati Studio Legale \nAvv. Andrea Milani\nFounding Partner\nStudio Legale Milani Avvocati Associati\nComponente del Consiglio Direttivo AODV231 \nAvv. Alessandro Paone\nEquity Partner LabLaw Studio Legale Rotondi & Partners \nCons. Ciro Santoriello\nSostituto Procuratore\nProcura della Repubblica di Torino \nAvv. Iole Anna Savini\nFounding Partner\nStudio Legale Savini\nPresidente di Transparency International \n\n\n		\n	\nBrochure\n	\n		\n			 Scarica la brochure\n\n		\n	\nIscrizioni e Condizioni\n	\n		\n			Quota di partecipazione \nLa quota di partecipazione in aula virtuale (diretta streaming) include l’invio del materiale didattico in formato elettronico e la possibilità di sottoporre ai relatori quesiti di specifico interesse a mezzo chat. È altresì possibile anticipare domande e richieste di approfondimento inviando una e-mail a info@paradigma.it entro il giorno antecedente l’evento. \nIn caso di videoconferenza con accessi multipli è necessario contattare la Segreteria organizzativa per un preventivo personalizzato. \nModalità di funzionamento della videoconferenza \nE’ possibile accedere all’aula virtuale da qualsiasi luogo\, utilizzando il proprio PC o tablet con una semplice connessione a Internet. La piattaforma informatica utilizzata da Paradigma (Adobe Connect) non necessita di requisiti tecnici particolari. \nNei giorni antecedenti l’evento il partecipante riceverà per posta elettronica le credenziali e le istruzioni di accesso. Il giorno dell’evento sarà sufficiente selezionare il link che troverà nella mail e inserire le credenziali per accedere all’aula virtuale. \nDurante gli interventi\, oltre a vedere e sentire i docenti\, è possibile consultare simultaneamente la documentazione predisposta dal relatore. Ogni utente collegato potrà porre domande sulle tematiche affrontate a mezzo chat\, alle quali il docente risponderà nel corso dell’intervento. \nModalità di iscrizione \nL’iscrizione si perfeziona al momento del ricevimento del modulo di registrazione\, da inviare via e-mail all’indirizzo info@paradigma.it\, integralmente compilato. Il numero dei collegamenti disponibili è limitato e la priorità d’iscrizione è determinata dalla data di ricezione del modulo di registrazione. Si consiglia pertanto di effettuare una preiscrizione telefonica. \nModalità di pagamento \nLa quota di partecipazione deve essere versata all’atto della presentazione della richiesta di iscrizione e\, in ogni caso\, prima dell’effettuazione dell’evento formativo\, tramite bonifico bancario intestato a: \nParadigma Srl – Corso Vittorio Emanuele II\, 68 – 10121 Torino\nc/o Banco BPM Spa\nIBAN IT 14 V 05034 01017 000000002530 \nFormazione finanziata \nLa quota di partecipazione può essere completamente rimborsata tramite voucher promossi dai Fondi Paritetici Interprofessionali. Paradigma offre la completa e gratuita gestione delle spese di progettazione\, monitoraggio e rendicontazione. La possibilità di accedere alla formazione finanziata con partecipazione mediante videoconferenza può variare a seconda dell’Ente erogante. \nAttestato di frequenza \nL’attestato di partecipazione nominativo sarà inviato al termine dell’evento formativo ai partecipanti che si sono regolarmente collegati all’aula virtuale. \nDiritto di recesso e modalità di disdetta \nÈ attribuita ai partecipanti la facoltà di recedere ai sensi dell’art. 1373 c.c. Il recesso dovrà essere comunicato in forma scritta almeno sette giorni prima della data di inizio dell’evento formativo (escluso il sabato e la domenica). Qualora la disdetta pervenga oltre tale termine o si verifichi di fatto con il mancato collegamento alla videoconferenza\, la quota di partecipazione sarà addebitata per intero e sarà inviato al partecipante il materiale didattico. In qualunque momento l’azienda o lo studio potranno comunque sostituire il partecipante\, comunicando il nuovo nominativo alla nostra Segreteria organizzativa. \nVariazioni di programma \nParadigma\, per ragioni eccezionali e imprevedibili\, si riserva di annullare o modificare la data dell’evento formativo\, dandone comunicazione agli interessati entro tre giorni dalla data di inizio prevista. In tali casi le quote di partecipazione pervenute verranno rimborsate\, con esclusione di qualsivoglia onere o obbligo a carico di Paradigma. Paradigma si riserva inoltre\, per ragioni sopravvenute e per cause di forza maggiore\, di modificare l’articolazione del programma e di sostituire i docenti previsti con altri docenti di pari livello professionale. \nPer ulteriori informazioni è possibile contattare la Segreteria organizzativa al numero 011.538686 o all’indirizzo e-mail info@paradigma.it. \n\n\n		\n	\n\n\n	\n		\n			Quota di partecipazione\n	\n		\n			€ 1.100 + Iva\n\n		\n	\n\n	\n		\n			In caso di videoconferenza con accessi multipli è necessario contattare la Segreteria organizzativa per un preventivo personalizzato. \n\n		\n	\n\n\n		\n	\n\n	\n		\n			\n\n\n\n\n\n\n	\n		\n			Early booking -20%\nInviando il modulo di iscrizione entro il 20 aprile si avrà diritto a una riduzione del 20% sulla quota di partecipazione. \n\n		\n	\n\n\n\n		\n	\n\n	\n		\n			\n\n		\n	\n\n	\n		\n			\n\n		\n	\n\n	\n		\n			\n\n\n\n\n\n\n	\n		\n			Progetto Giovani Eccellenze -50%\nL’adesione all’evento formativo permette di iscrivere una seconda risorsa\, che non abbia compiuto il 30° anno di età e proveniente dalla stessa organizzazione\, con una riduzione del 50% sulla seconda quota di partecipazione. L’agevolazione è calcolata sulla quota ordinaria. \n\n		\n	\n\n\n\n		\n	\n\n	\n		\n			\n\n\n\n\n\n\n	\n		\n			Formazione finanziata\nLa quota di partecipazione all’iniziativa può essere completamente rimborsata tramite voucher promossi dai Fondi Paritetici Interprofessionali. Paradigma offre la completa e gratuita gestione delle spese di progettazione\, monitoraggio e rendiconto. \n\n		\n	\n\n\n\n		\n	\n\n	\n		\n			\n\n\n\n\n\n\n	\n		\n			Mercati elettronici della PA\nParadigma opera sul MePA e sui principali mercati elettronici di soggetti aggregatori e centrali di committenza. \n\n		\n	\n\n\n\n		\n	\n\n	\n		\n			\n	\n\n\n	I campi con (*) sono obbligatori\n	\n		\n		Dati relativi all'evento\n		\n		\n			Partecipazione in aula\n			Partecipazione in videoconferenza\n		\n		\n\n		Dati relativi al richiedente\n		\n		\n		\n		\n		\n		\n		\n		\n\n	\n\n	\n\n		Dati per eventuale partecipante under 30\n		\n		\n		\n\n	\n\n	\n\n		Dati per la fatturazione elettronica\n		\n		\n		\n		\n		\n		\n				\n		\n		\n		  Split Payment:\n          \n            \n              \n              Si \n            No\n          \n        \n		\n		\n		\n		\n	\n\n	\n\n		Per informazioni contattare\n		\n		\n		\n		\n		\n	\n	L'iscrizione all'evento formativo si intende perfezionata al momento del ricevimento\, da parte di Paradigma Srl\, del presente modulo di registrazione compilato in ogni sua parte\, stampato\, firmato e inviato via e-mail all'indirizzo info@paradigma.it. Riceverete via email conferma dell'avvenuta iscrizione. \n\n\n		\n	     Acconsento all'invio di comunicazioni sui servizi Paradigma Srl - Consenso finalizzato\, anche con modalità automatizzate\, all'invio di comunicazioni relative a prodotti e servizi di Paradigma Srl e al fine di ricevere materiale informativo o promozionale.\n	\n	     Acconsento alla personalizzazione delle offerte - Consenso finalizzato\, mediante modalità automatizzate\, a personalizzare i servizi forniti e meglio indirizzare le proposte promozionali grazie ad attività di profilazione.\n	\n	Inviando i dati autorizzi Paradigma Srl a utilizzare i tuoi dati personali per evadere la richiesta di partecipazione all’evento formativo e svolgere le attività a ciò connesse. I dati potranno essere trattati\, per conto di Paradigma Srl\, da dipendenti e collaboratori incaricati di svolgere specifici servizi necessari all’esecuzione delle tue richieste. Il conferimento dei tuoi dati\, pur essendo facoltativo\, si rende necessario per l’esecuzione del servizio richiesto.	\n\n\n\n\n		\n\n\n\n\n\n		\n	\n[/vc_column][/vc_row]
URL:https://paradigma.it/iniziativa/il-whistleblowing-nelle-aziende-private/
CATEGORIES:Compliance, controlli e internal audit
ORGANIZER;CN="Veronica%20Spiez":MAILTO:vspiez@paradigma.it
END:VEVENT
END:VCALENDAR