BEGIN:VCALENDAR
VERSION:2.0
PRODID:-//Paradigma srl - ECPv5.2.1//NONSGML v1.0//EN
CALSCALE:GREGORIAN
METHOD:PUBLISH
X-WR-CALNAME:Paradigma srl
X-ORIGINAL-URL:https://paradigma.it
X-WR-CALDESC:Eventi per Paradigma srl
BEGIN:VTIMEZONE
TZID:Europe/Rome
BEGIN:DAYLIGHT
TZOFFSETFROM:+0100
TZOFFSETTO:+0200
TZNAME:CEST
DTSTART:20250330T010000
END:DAYLIGHT
BEGIN:STANDARD
TZOFFSETFROM:+0200
TZOFFSETTO:+0100
TZNAME:CET
DTSTART:20251026T010000
END:STANDARD
END:VTIMEZONE
BEGIN:VEVENT
DTSTART;TZID=Europe/Rome:20250506T093000
DTEND;TZID=Europe/Rome:20250506T170000
DTSTAMP:20260421T164600
CREATED:20250703T125637Z
LAST-MODIFIED:20250703T125637Z
UID:23696-1746523800-1746550800@paradigma.it
SUMMARY:Il Regolamento UE sull’Intelligenza Artificiale
DESCRIPTION:[vc_row][vc_column]\n	\n		\n			\n		\n	\n\n	\n		\n			Regolamento UE n. 2024/1689\nLinee Guida della Commissione UE sulle pratiche di IA vietate\nAdempimenti organizzativi contrattuali e tecnici per le imprese \n \n\n		\n	\n\n	\n		\n			09.30 - 13.30  14.30 - 17.00 \n\n		\n	\n\n	\n		\n			Evento in diretta streaming \n\n		\n	\n\n	\n		\n			 \n\n		\n	\n\n	\n		\n			\n\n		\n	\nPresentazioneProgrammaDocentiBrochureIscrizioni e CondizioniPresentazione\n	\n		\n			Contenuti dell’evento \nIl workshop intende fornire un quadro completo per  gestire i numerosi adempimenti organizzativi e tecnici  previsti per sviluppatori\, distributori\, rivenditori e  deployer dei sistemi di IA ad alto rischio. \nSaranno analizzate\, in una prospettiva pratica\, tutte le norme del Regolamento UE n. 2024/1689 sull’Intelligenza Artificiale (EU AI Act)\, anche alla luce dei recenti orientamenti della Commissione UE. \nDal momento che in caso di impiego di sistemi IA “ad alto rischio” anche le aziende che acquistano tali sistemi\, definiti “deployer”\, sono chiamati a implementare obblighi e politiche organizzative e tecniche (alcuni dei quli già in vigore dal 2 febbraio 2025)\, il corso fornisce un quadro pratico di tali obblighi onde consentire agli operatori di farsi trovare pronti non appena le norme saranno integralmente applicabili (tra febbraio 2025 e agosto 2026\, salvi alcuni limitati casi di applicabilità a partire dal 2027). \nDestinatari dell’evento \nL’evento formativo è rivolto ai Responsabili della Compliance e degli Affari Legali\, Direttori ICT\, ai Responsabili per l’approvvigionamento di beni e servizi ICT\, ai Responsabili della Gestione e dello Sviluppo del Personale\, ai Responsabili della Privacy\, DPO\, Avvocati e consulenti in materia ICT. \nObiettivi dell’evento \nObiettivo dell’incontro è fornire ai partecipanti un quadro dettagliato e completo degli adempimenti in materia di impiego\, utilizzo e gestione dei sistemi di Intelligenza Artificiale\, fornendo indicazioni pratiche e immediatamente applicabili alle diverse realtà aziendali. \n\n\n		\n	\nProgramma\n	\n		\n			Martedì 6 maggio 2025 \n  \nEntrata in vigore e termini di applicabilità del Regolamento UE n. 2024/1689 sull’Intelligenza Artificiale \nL’oggetto e le finalità del nuovo Regolamento UE n. 2024/1689 sull’Intelligenza Artificiale \nLe diverse tipologie di IA e le modalità con cui l’IA viene addestrata: gli scenari attuali e le prospettive future. Modelli e sistemi di IA: le principali differenze \nAmbito di applicazione soggettivo ed efficacia delle nuove regole \nLe principali definizioni giuridiche\, tecnologiche\, commerciali (ed etiche)\nLe definizioni relative alla tecnologia IA\, alla progettazione\, utilizzo e operatività\nLe definizioni relative ai soggetti a vario titolo implicati dalla operatività dei sistemi IA\nLe definizioni pertinenti alle attività commerciali aventi a oggetto i sistemi IA\nLe definizioni relative a particolari sistemi di IA che utilizzano la biometria \nL’approccio risk based come scelta legislativa per la regolamentazione dei sistemi IA \nLe pratiche di Intelligenza Artificiale vietate: cenni alle Linee Guida applicative della Commissione UE \nLa classificazione dei sistemi di Intelligenza Artificiale ad alto rischio: l’articolo 6 e l’Allegato III del Regolamento UE n. 2024/1689 \nI requisiti di conformità di un sistema di IA ad alto rischio quale presupposto per la sua immissione sul mercato e messa in servizio: strutturare\, attuare\, documentare e manutenere un sistema di risk assessment\nRisk assessment e data governance: gli adempimenti pratici\nRisk assessment e documentazione tecnica da predisporre prima della immissione sul mercato o messa in uso di sistemi IA ad alto rischio \nL’obbligo di implementazione di un sistema di tracciamento\, registrazione e conservazione dei logs/eventi generati da sistemi IA alto rischio \nLa trasparenza verso gli utenti: le informazioni da fornire su tutti gli aspetti progettuali\, operativi\, tecnici e di sicurezza dei sistemi IA ad alto rischio \nGli aspetti cybersecurity: gli obblighi di accuratezza\, robustezza e resilienza dei sistemi IA ad alto rischio \nLa supervisione umana dei sistemi IA ad alto rischio e l’approccio antropocentrico all’Intelligenza Artificiale \nGli obblighi orizzontali per i fornitori di sistemi di IA ad alto rischio: implementazione del “sistema di gestione della qualità dei sistemi IA ad alto rischio” quale forma di accountability dell’Intelligenza Artificiale\nGli altri obblighi dei fornitori di sistemi di IA ad alto rischio: attuazione delle procedure di valutazione della conformità dei sistemi IA \nGli obblighi in capo agli altri soggetti coinvolti nella catena del valore dei sistemi di IA ad alto rischio\nIl caso particolare degli obblighi imposti ai deployer di sistemi di IA ad alto rischio\nGli obblighi gestionali e informativi e l’impatto sui contratti di fornitura \nLa redazione e la documentazione della Valutazione d’impatto sui diritti fondamentali per i sistemi di IA ad alto rischio \nI modelli IA a scopi generali o GPAI: gli obblighi gestionali e tecnici. Modelli GPAI e rischi sistemici \nLa tutela del diritto d’autore \nLa regolamentazione sui deepfakes e i nuovi diritti delle persone fisiche nell’ambito dell’interazione con sistemi di IA \nI regulatory sandboxes: nuovi strumenti giuridici di sperimentazione anticipata delle soluzioni tecnologiche di IA. Gli articoli 53-55 del Regolamento IA sui regulatory sandboxes \nLa governance europea dell’IA: Ufficio per l’IA\, il Comitato Europeo per l’Intelligenza Artificiale\, il ruolo degli esperti e del forume per l’IA e delle Autorità nazionali \nI codici di condotta sull’Intelligenza Artificiale \nIl sistema sanzionatorio per la violazione del Regolamento IA \nLe responsabilità e il risarcimento del danno da sistema di IA: le prospettive regolatorie \nCenni sulle norme italiane sull’IA \n  \nAvv. Alessandro Del Ninno\nFIVERS Studio Legale e Tributario \n\n\n		\n	\nDocenti\n	\n		\n			Avv. Alessandro del Ninno \n Avvocato del Foro di Roma – Partner dello Studio legale e tributario FIVERS. \nAppointed member del Pool of Experts europei di supporto e consulenza al Comitato Europeo per la Protezione dei Dati Personali. \nPresidente del Comitato Scientifico dell’Associazione Nazionale per la Protezione dei Dati Personali. \nMembro e Vicepresidente del Comitato Scientifico dell’Istituto Italiano Privacy. \nRelatore nell’ambito dei più importanti convegni nazionali e internazionali ove viene frequentemente invitato in qualità di esperto su tematiche legate all’Information & Communication Technology\, all’IP e alla Data Protection. \nNelle stesse materie è autore di oltre 150 tra libri\, trattati\, monografie\, saggi e articoli. \nPer Key Editore è Direttore delle due collane editoriali “GDPR: casi pratici risolti” e “Le Leggi del Decennio Digitale 2020-2030 della UE – I commentari pratici”. \n\n\n		\n	\nBrochure\n	\n		\n			 Scarica la brochure\n\n		\n	\nIscrizioni e Condizioni\n	\n		\n			Quota di partecipazione \nLa quota di partecipazione in diretta streaming include la fruizione degli interventi\, nonché la possibilità di scaricare\, in formato elettronico\, il materiale didattico che i relatori riterranno di mettere a disposizione. \nÈ inoltre prevista la possibilità di rivolgere contestualmente domande ai docenti (attivando il proprio microfono o tramite chat)\, oppure sottoporle in via preventiva\, inviando una e-mail a info@optime.it entro il giorno antecedente l’evento. \nIn caso di videoconferenza con accessi multipli è necessario contattare la Segreteria Organizzativa per un preventivo personalizzato. \nModalità di funzionamento della videoconferenza \nE’ possibile accedere all’aula virtuale da qualsiasi luogo\, utilizzando il proprio PC o tablet con una semplice connessione a Internet. La piattaforma informatica utilizzata da Optime non necessita di requisiti tecnici particolari. \nNei giorni antecedenti l’evento il partecipante riceverà per posta elettronica le credenziali e le istruzioni di accesso. Il giorno dell’evento sarà sufficiente selezionare il link che troverà nella mail e inserire le credenziali per accedere all’aula virtuale. \nDurante gli interventi\, oltre a vedere e sentire i docenti\, è possibile consultare simultaneamente la documentazione predisposta dal relatore. Ogni utente collegato potrà porre domande sulle tematiche affrontate (attivando il proprio microfono o tramite chat)\, alle quali il docente risponderà nel corso dell’intervento. \nModalità di iscrizione \nL’iscrizione si perfeziona al momento del ricevimento del modulo di registrazione\, da inviare via e-mail all’indirizzo info@optime.it\, integralmente compilato e sottoscritto. Il numero dei collegamenti disponibili è limitato e la priorità d’iscrizione è determinata dalla data di ricezione del modulo di registrazione. Si consiglia pertanto di effettuare una preiscrizione telefonica. \nModalità di pagamento \nLa quota di partecipazione deve essere versata all’atto della presentazione della richiesta di iscrizione e\, in ogni caso\, prima dell’effettuazione dell’evento formativo\, tramite bonifico bancario intestato a:\nParadigma Srl – Corso Vittorio Emanuele II\, 68 – 10121 Torino\nc/o Banco BPM Spa\nIBAN IT 14 V 05034 01017 000000002530 \nFormazione finanziata \nLa quota di partecipazione può essere completamente rimborsata tramite voucher promossi dai Fondi Paritetici Interprofessionali. Optime offre la completa e gratuita gestione delle spese di progettazione\, monitoraggio e rendicontazione. La possibilità di accedere alla formazione finanziata con partecipazione mediante videoconferenza può variare a seconda dell’Ente erogante. \nAttestato di frequenza \nL’attestato di partecipazione nominativo sarà inviato al termine dell’evento formativo ai partecipanti che si sono regolarmente collegati all’aula virtuale. \nDiritto di recesso e modalità di disdetta \nÈ attribuita ai partecipanti la facoltà di recedere ai sensi dell’art. 1373 c.c. Il recesso dovrà essere comunicato in forma scritta almeno sette giorni prima della data di inizio dell’evento formativo (escluso il sabato e la domenica). Qualora la disdetta pervenga oltre tale termine o si verifichi di fatto con il mancato collegamento alla videoconferenza\, la quota di partecipazione sarà addebitata per intero e sarà inviato al partecipante il materiale didattico e\, se disponibile e per un periodo limitato\, la registrazione dell’evento. In qualunque momento l’azienda o lo studio potranno comunque sostituire il partecipante\, comunicando il nuovo nominativo alla nostra Segreteria Oorganizzativa. \nVariazioni di programma \nParadigma\, per ragioni eccezionali e imprevedibili\, si riserva di annullare o modificare la data dell’evento formativo\, dandone comunicazione agli interessati entro tre giorni dalla data di inizio prevista. In tali casi le quote di partecipazione pervenute verranno rimborsate\, con esclusione di qualsivoglia onere o obbligo a carico di Paradigma. Paradigma si riserva inoltre\, per ragioni sopravvenute e per cause di forza maggiore\, di modificare l’articolazione del programma e di sostituire i docenti previsti con altri docenti di pari livello professionale. \nPer ulteriori informazioni è possibile contattare la Segreteria Organizzativa al numero 011.538686 o all’indirizzo e-mail info@optime.it. \n\n\n		\n	\n\n\n	\n		\n			Quota di partecipazione\n	\n		\n			€ 1.100 + Iva\n\n		\n	\n\n	\n		\n			In caso di videoconferenza con accessi multipli è necessario contattare la Segreteria organizzativa per un preventivo personalizzato. \n\n		\n	\n\n\n		\n	\n\n	\n		\n			\n\n\n\n\n\n\n	\n		\n			\n\n\n\n\nEarly booking -20%\nInviando il modulo di iscrizione entro il 15 aprile si avrà diritto a una riduzione del 20% sulla quota di partecipazione. \n\n\n\n\n\n\n		\n	\n\n\n\n		\n	\n\n	\n		\n			\n\n		\n	\n\n	\n		\n			\n\n		\n	\n\n	\n		\n			\n\n\n\n\n\n\n	\n		\n			Progetto Giovani Eccellenze -50%\nL’adesione all’evento formativo permette di iscrivere una seconda risorsa\, che non abbia compiuto il 30° anno di età e proveniente dalla stessa organizzazione\, con una riduzione del 50% sulla seconda quota di partecipazione. L’agevolazione è calcolata sulla quota ordinaria. \n\n		\n	\n\n\n\n		\n	\n\n	\n		\n			\n\n\n\n\n\n\n	\n		\n			Formazione finanziata\nLa quota di partecipazione all’iniziativa può essere completamente rimborsata tramite voucher promossi dai Fondi Paritetici Interprofessionali. Optime offre la completa e gratuita gestione delle spese di progettazione\, monitoraggio e rendiconto. \n\n		\n	\n\n\n\n		\n	\n\n	\n		\n			\n\n\n\n\n\n\n	\n		\n			\n\n\n\n\nMercati elettronici della PA\nParadigma opera sul MePA e sui principali mercati elettronici di soggetti aggregatori e centrali di committenza. \n\n\n\n\n\n\n		\n	\n\n\n\n		\n	\n\n	\n		\n			\n	\n\n\n	I campi con (*) sono obbligatori\n	\n		\n		Dati relativi all'evento\n		\n		\n			Partecipazione in aula\n			Partecipazione in videoconferenza\n		\n		\n\n		Dati relativi al richiedente\n		\n		\n		\n		\n		\n		\n		\n		\n\n	\n\n	\n\n		Dati per eventuale partecipante under 30\n		\n		\n		\n\n	\n\n	\n\n		Dati per la fatturazione elettronica\n		\n		\n		\n		\n		\n		\n				\n		\n		\n		  Split Payment:\n          \n            \n              \n              Si \n            No\n          \n        \n		\n		\n		\n		\n	\n\n	\n\n		Per informazioni contattare\n		\n		\n		\n		\n		\n	\n	L'iscrizione all'evento formativo si intende perfezionata al momento del ricevimento\, da parte di Paradigma Srl\, del presente modulo di registrazione compilato in ogni sua parte\, stampato\, firmato e inviato via e-mail all'indirizzo info@paradigma.it. Riceverete via email conferma dell'avvenuta iscrizione. \n\n\n		\n	     Acconsento all'invio di comunicazioni sui servizi Paradigma Srl - Consenso finalizzato\, anche con modalità automatizzate\, all'invio di comunicazioni relative a prodotti e servizi di Paradigma Srl e al fine di ricevere materiale informativo o promozionale.\n	\n	     Acconsento alla personalizzazione delle offerte - Consenso finalizzato\, mediante modalità automatizzate\, a personalizzare i servizi forniti e meglio indirizzare le proposte promozionali grazie ad attività di profilazione.\n	\n	Inviando i dati autorizzi Paradigma Srl a utilizzare i tuoi dati personali per evadere la richiesta di partecipazione all’evento formativo e svolgere le attività a ciò connesse. I dati potranno essere trattati\, per conto di Paradigma Srl\, da dipendenti e collaboratori incaricati di svolgere specifici servizi necessari all’esecuzione delle tue richieste. Il conferimento dei tuoi dati\, pur essendo facoltativo\, si rende necessario per l’esecuzione del servizio richiesto.	\n\n\n\n\n		\n\n\n\n\n\n		\n	\n[/vc_column][/vc_row]
URL:https://paradigma.it/iniziativa/il-regolamento-ue-sullintelligenza-artificiale/
CATEGORIES:Digitalizzazione
ORGANIZER;CN="Veronica%20Spiez":MAILTO:vspiez@paradigma.it
END:VEVENT
END:VCALENDAR