BEGIN:VCALENDAR
VERSION:2.0
PRODID:-//Paradigma srl - ECPv5.2.1//NONSGML v1.0//EN
CALSCALE:GREGORIAN
METHOD:PUBLISH
X-WR-CALNAME:Paradigma srl
X-ORIGINAL-URL:https://paradigma.it
X-WR-CALDESC:Eventi per Paradigma srl
BEGIN:VTIMEZONE
TZID:Europe/Rome
BEGIN:DAYLIGHT
TZOFFSETFROM:+0100
TZOFFSETTO:+0200
TZNAME:CEST
DTSTART:20260329T010000
END:DAYLIGHT
BEGIN:STANDARD
TZOFFSETFROM:+0200
TZOFFSETTO:+0100
TZNAME:CET
DTSTART:20261025T010000
END:STANDARD
END:VTIMEZONE
BEGIN:VEVENT
DTSTART;TZID=Europe/Rome:20260415T093000
DTEND;TZID=Europe/Rome:20260415T180000
DTSTAMP:20260421T130023
CREATED:20260216T142207Z
LAST-MODIFIED:20260413T122424Z
UID:27053-1776245400-1776276000@paradigma.it
SUMMARY:Il rapporto di lavoro  nelle società pubbliche
DESCRIPTION:[vc_row][vc_column]\n	\n		\n			\n		\n	\n\n	\n		\n			Gestione del personale \nProgressioni verticali e orizzontali\nModifiche a rapporto di lavoro\nTrattamento economico\nMobilità tra partecipate \nResponsabilità \nCodice MEPA: Lavoro_spa_1504 \n \n\n		\n	\n\n	\n		\n			09.30 - 13.30  14.30 - 18.00 \n\n		\n	\n\n	\n		\n			Evento in diretta streaming \n\n		\n	\n\n	\n		\n			 \n\n		\n	\n\n	\n		\n			\n\n		\n	\nPresentazioneProgrammaDocentiBrochureIscrizioni e CondizioniPresentazione\n	\n		\n			Contenuti dell’evento \nIl seminario esamina la disciplina in tema di rapporto di lavoro nelle società pubbliche\, con particolare riferimento al perimetro della gestione del personale\, alla luce delle recenti novità normative nonché di giurisprudenza e prassi. \nIn particolare\, nel corso della giornata saranno affrontati i temi inerenti alle procedure di assunzione\, alle progressioni verticali e orizzontali\, il contenimento degli oneri contrattuali\, procedure di mobilità\, del conferimento degli incarichi\, fino alle diverse forme di responsabilità\, compresa quella erariale in relazione alle società in house providing. \nDestinatari dell’evento \nIl convegno è destinato a Responsabili HR\, amministratori\, dirigenti e funzionari di tutte le società pubbliche (sia partecipate che controllate) in qualunque assetto societario (spa\, srl\, in house\, miste\, ecc.). \nAnche i professionisti del diritto d’impresa\, societario e del diritto amministrativo che si occupano di queste materie potranno trovare nel convegno sicuri spunti di interesse e occasioni di incontro e conoscenza. \nObiettivi dell’evento \nL’evento mira a rappresentare in dettaglio le principali novità normative e gli arresti della giurisprudenza in tema di rapporto di lavoro nelle società pubbliche. \n\n\n		\n	\nProgramma\n	\n		\n			Mercoledì 15 aprile 2026 \nLe misure relative alla gestione del personale nelle società a controllo pubblico\nL’ambito di applicazione dell’art. 19 del TUSP\nLa nozione di società a controllo pubblico congiunto nella più recente giurisprudenza amministrativa e contabile\nLa disciplina applicabile al rapporto di lavoro nelle società in controllo pubblico e l’applicazione delle regole del rapporto di lavoro privato\nLa giurisdizione ordinaria sulla validità dei provvedimenti e delle procedure di reclutamento\nLa selezione del personale nelle società in house\nAvv. Marco Martinelli\nLEXIA \nLe procedure di assunzione e gli inquadramenti in qualifiche superiori\nIl reclutamento del personale dipendente e il conferimento degli incarichi nelle società a partecipazione pubblica\nLe procedure selettive di cui all’art. 19 del D. Lgs n. 175/2016: campo di applicazione\, natura giuridica e conseguenze in caso di violazione\nRegime sanzionatorio e contratti flessibili\, convertibilità del rapporto di lavoro\nLo sviluppo del personale nel limbo della natura giuridica dei rapporti di lavoro\nLe progressioni di carriera e le recenti sentenze della Corte di Cassazione\nAvv. Manuela Rodio\nSviluppo Lavoro Italia \nIl contenimento degli oneri contrattuali\nContenimento della spesa e limiti ai trattamenti economici\nLe misure di contenimento della spesa in materia di personale\nI limiti alla retribuzione del personale\nI limiti ai compensi dovuti in occasione della cessazione del rapporto di lavoro\nGli adempimenti a carico delle amministrazioni controllanti e delle società controllate in materia di contenimento delle spese per il personale\nLe discipline limitative delle facoltà assunzionali\nAvv. Marco Conti\nStudio Legale Maresca\, Morrico\, Boccia & Associati \nLa mobilità del personale\nReinternalizzazioni\, passaggio di personale fra società controllate\, distacchi e protocolli di intesa ex art. 23 bis del D. Lgs. n. 165/2001\nAppalti e gestione delle eccedenze\nI limiti al conferimento di incarichi\, cariche e collaborazioni nelle società a controllo pubblico\nAvv. Valerio Berti\nStudio Legale Maresca\, Morrico\, Boccia & Associati \nLa responsabilità amministrativa e contabile\nL’evoluzione interpretativa compiuta dalla giurisprudenza della Corte di Cassazione\nL’art. 12 del D. Lgs. n. 175/2016:\n– la responsabilità di amministratori e dipendenti delle società in-house\n– la responsabilità degli amministratori e dipendenti delle altre società partecipate\n– i danni risarcibili: Il danno diretto e il danno all’ente pubblico partecipante; la diminuzione di valore della quota di partecipazione\nI punti di contatto con la responsabilità penale\nCons. Fabrizio Cerioni\nCorte dei Conti \n\n\n		\n	\nDocenti\n	\n		\n			Avv. Valerio Berti\nSocio\nStudio Legale Maresca\, Morrico\, Boccia & Associati \nCons. Fabrizio Cerioni\nMagistrato – Vice Procuratore Generale\nCorte dei Conti\nDottore di Ricerca in Giustizia Costituzionale e Diritti Fondamentali\nUniversità di Pisa \nAvv. Marco Conti\nSocio\nStudio Legale Maresca\, Morrico\, Boccia & Associati \nAvv. Marco Martinelli\nPartner\nLEXIA \nAvv. Manuela Rodio*\nDirigente\nSviluppo Lavoro Italia \n  \n* in attesa di autorizzazione dell’Ente di appartenenza \n\n\n		\n	\nBrochure\n	\n		\n			 Scarica la brochure\n\n		\n	\nIscrizioni e Condizioni\n	\n		\n			Quota di partecipazione \nLa quota di partecipazione in diretta streaming include la fruizione degli interventi\, nonché la possibilità di scaricare\, in formato elettronico\, il materiale didattico che i relatori riterranno di mettere a disposizione. \nÈ inoltre prevista la possibilità di rivolgere contestualmente domande ai docenti (attivando il proprio microfono o tramite chat)\, oppure sottoporle in via preventiva\, inviando una e-mail a info@paradigma.it entro il giorno antecedente l’evento. \nIn caso di diretta streaming con accessi multipli è necessario contattare la Segreteria Organizzativa per un preventivo personalizzato. \nModalità di funzionamento della diretta streaming \nLe iniziative formative sono fruibili in diretta streaming attraverso un semplice collegamento alla piattaforma dedicata. La piattaforma è strutturata per garantire un ottimo livello di fruizione e interazione e non necessita di particolari requisiti tecnici. \nAlcuni giorni prima dell’evento il partecipante riceve le istruzioni di accesso e sarà sufficiente selezionare il link ricevuto per accedere all’aula virtuale. \nGli interventi in diretta streaming sono supportati dalle slide predisposte dal docente. Ogni utente collegato potrà intervenire formulando domande o richieste di approfondimento attivando il proprio microfono o utilizzando la chat dedicata. \nModalità di iscrizione \nL’iscrizione si perfeziona al momento del ricevimento del modulo di registrazione\, da inviare via e-mail all’indirizzo info@paradigma.it\, integralmente compilato e sottoscritto. Il numero dei collegamenti disponibili è limitato e la priorità d’iscrizione è determinata dalla data di ricezione del modulo di registrazione. Si consiglia pertanto di effettuare una preiscrizione telefonica. \nModalità di pagamento \nLa quota di partecipazione deve essere versata all’atto della presentazione della richiesta di iscrizione e\, in ogni caso\, prima dell’effettuazione dell’evento formativo\, tramite bonifico bancario intestato a: \nParadigma Srl – Corso Vittorio Emanuele II\, 68 – 10121 Torino\nc/o Banco BPM Spa\nIBAN IT 14 V 05034 01017 000000002530 \nFormazione finanziata \nLa quota di partecipazione può essere completamente rimborsata tramite voucher promossi dai Fondi Paritetici Interprofessionali. Paradigma offre la completa e gratuita gestione delle spese di progettazione\, monitoraggio e rendicontazione. La possibilità di accedere alla formazione finanziata con partecipazione mediante diretta streaming può variare a seconda dell’Ente erogante. \nAttestato di frequenza \nL’attestato di partecipazione nominativo sarà inviato al termine dell’evento formativo ai partecipanti che si sono regolarmente collegati all’aula virtuale. \nDiritto di recesso e modalità di disdetta \nÈ attribuita ai partecipanti la facoltà di recedere ai sensi dell’art. 1373 c.c. Il recesso dovrà essere comunicato in forma scritta almeno sette giorni prima della data di inizio dell’evento formativo (escluso il sabato e la domenica). Qualora la disdetta pervenga oltre tale termine o si verifichi di fatto con il mancato collegamento alla diretta streaming\, la quota di partecipazione sarà addebitata per intero e sarà inviato al partecipante il materiale didattico e\, se disponibile e per un periodo limitato\, la registrazione dell’evento. In qualunque momento l’azienda o lo studio potranno comunque sostituire il partecipante\, comunicando il nuovo nominativo alla nostra Segreteria Organizzativa. \nVariazioni di programma \nParadigma\, per ragioni eccezionali e imprevedibili\, si riserva di annullare o modificare la data dell’evento formativo\, dandone comunicazione agli interessati entro tre giorni dalla data di inizio prevista. In tali casi le quote di partecipazione pervenute verranno rimborsate\, con esclusione di qualsivoglia onere o obbligo a carico di Paradigma. Paradigma si riserva inoltre\, per ragioni sopravvenute e per cause di forza maggiore\, di modificare l’articolazione del programma e di sostituire i docenti previsti con altri docenti di pari livello professionale. \nPer ulteriori informazioni è possibile contattare la Segreteria Organizzativa al numero 011.538686 o all’indirizzo e-mail info@paradigma.it. \n\n\n		\n	\n\n\n	\n		\n			Quota di partecipazione\n	\n		\n			€ 1.100 + Iva\n\n		\n	\n\n	\n		\n			In caso di videoconferenza con accessi multipli è necessario contattare la Segreteria organizzativa per un preventivo personalizzato. \n\n		\n	\n\n\n		\n	\n\n	\n		\n			\n\n\n\n\n\n\n	\n		\n			Early booking -20%\nInviando il modulo di iscrizione entro il 25 marzo si avrà diritto a una riduzione del 20% sulla quota di partecipazione. \n\n		\n	\n\n\n\n		\n	\n\n	\n		\n			\n\n\n\n\n\n\n	\n		\n			Quota corporate\nIscrivi all’evento 5 o più risorse provenienti dalla stessa organizzazione con una riduzione del 50%. \n\n		\n	\n\n\n\n		\n	\n\n	\n		\n			\n\n		\n	\n\n	\n		\n			\n\n\n\n\n\n\n	\n		\n			Progetto Giovani Eccellenze -50%\nL’adesione all’evento formativo permette di iscrivere una seconda risorsa\, che non abbia compiuto il 30° anno di età e proveniente dalla stessa organizzazione\, con una riduzione del 50% sulla seconda quota di partecipazione. L’agevolazione è calcolata sulla quota ordinaria. \n\n		\n	\n\n\n\n		\n	\n\n	\n		\n			\n\n\n\n\n\n\n	\n		\n			Formazione finanziata\nLa quota di partecipazione all’iniziativa può essere completamente rimborsata tramite voucher promossi dai Fondi Paritetici Interprofessionali. Paradigma offre la completa e gratuita gestione delle spese di progettazione\, monitoraggio e rendiconto. \n\n		\n	\n\n\n\n		\n	\n\n	\n		\n			\n\n\n\n\n\n\n	\n		\n			Mercati elettronici della PA\nParadigma opera sul MePA e sui principali mercati elettronici di soggetti aggregatori e centrali di committenza. \n\n		\n	\n\n\n\n		\n	\n\n	\n		\n			\n	\n\n\n	I campi con (*) sono obbligatori\n	\n		\n		Dati relativi all'evento\n		\n		\n			Partecipazione in aula\n			Partecipazione in videoconferenza\n		\n		\n\n		Dati relativi al richiedente\n		\n		\n		\n		\n		\n		\n		\n		\n\n	\n\n	\n\n		Dati per eventuale partecipante under 30\n		\n		\n		\n\n	\n\n	\n\n		Dati per la fatturazione elettronica\n		\n		\n		\n		\n		\n		\n				\n		\n		\n		  Split Payment:\n          \n            \n              \n              Si \n            No\n          \n        \n		\n		\n		\n		\n	\n\n	\n\n		Per informazioni contattare\n		\n		\n		\n		\n		\n	\n	L'iscrizione all'evento formativo si intende perfezionata al momento del ricevimento\, da parte di Paradigma Srl\, del presente modulo di registrazione compilato in ogni sua parte\, stampato\, firmato e inviato via e-mail all'indirizzo info@paradigma.it. Riceverete via email conferma dell'avvenuta iscrizione. \n\n\n		\n	     Acconsento all'invio di comunicazioni sui servizi Paradigma Srl - Consenso finalizzato\, anche con modalità automatizzate\, all'invio di comunicazioni relative a prodotti e servizi di Paradigma Srl e al fine di ricevere materiale informativo o promozionale.\n	\n	     Acconsento alla personalizzazione delle offerte - Consenso finalizzato\, mediante modalità automatizzate\, a personalizzare i servizi forniti e meglio indirizzare le proposte promozionali grazie ad attività di profilazione.\n	\n	Inviando i dati autorizzi Paradigma Srl a utilizzare i tuoi dati personali per evadere la richiesta di partecipazione all’evento formativo e svolgere le attività a ciò connesse. I dati potranno essere trattati\, per conto di Paradigma Srl\, da dipendenti e collaboratori incaricati di svolgere specifici servizi necessari all’esecuzione delle tue richieste. Il conferimento dei tuoi dati\, pur essendo facoltativo\, si rende necessario per l’esecuzione del servizio richiesto.	\n\n\n\n\n		\n\n\n\n\n\n		\n	\n[/vc_column][/vc_row]
URL:https://paradigma.it/iniziativa/il-rapporto-di-lavoro-nelle-societa-pubbliche-5/
CATEGORIES:Pubblico Impiego
END:VEVENT
END:VCALENDAR