BEGIN:VCALENDAR
VERSION:2.0
PRODID:-//Paradigma srl - ECPv5.2.1//NONSGML v1.0//EN
CALSCALE:GREGORIAN
METHOD:PUBLISH
X-WR-CALNAME:Paradigma srl
X-ORIGINAL-URL:https://paradigma.it
X-WR-CALDESC:Eventi per Paradigma srl
BEGIN:VTIMEZONE
TZID:Europe/Rome
BEGIN:DAYLIGHT
TZOFFSETFROM:+0100
TZOFFSETTO:+0200
TZNAME:CEST
DTSTART:20230326T010000
END:DAYLIGHT
BEGIN:STANDARD
TZOFFSETFROM:+0200
TZOFFSETTO:+0100
TZNAME:CET
DTSTART:20231029T010000
END:STANDARD
END:VTIMEZONE
BEGIN:VEVENT
DTSTART;TZID=Europe/Rome:20230918T093000
DTEND;TZID=Europe/Rome:20231003T180000
DTSTAMP:20260421T130535
CREATED:20230713T143007Z
LAST-MODIFIED:20230914T131333Z
UID:18479-1695029400-1696356000@paradigma.it
SUMMARY:Il nuovo Codice dei contratti pubblici - Percorso formativo
DESCRIPTION:[vc_row][vc_column]\n	\n		\n			\n		\n	\n\n	\n		\n			\nModulo I\nPrincipi della contrattualistica pubblica\nCapacità contrattuale delle PP.AA.\nDigitalizzazione del ciclo di vita del contratto\nQualificazione delle stazioni appaltanti\nLunedì 18 settembre 2023\nModulo II\nGestione del progetto \nSelezione del contraente\nGiudizio sull’anomalia delle offerte\nCause di esclusione e soccorso istruttorio\nMartedì 26 settembre 2023\nModulo III\nRiforma del sottosoglia\nEsecuzione del contratto\nMercoledì 27 settembre 2023\nModulo IV\nStrumenti per la gestione di criticità nella fase esecutiva\nPartenariati e concessioni\nLunedì 2 ottobre 2023\nModulo V\nProgettazione e svolgimento di funzioni tecniche\nVariazioni contrattuali e nuova revisione prezzi\nContenzioso giurisdizionale\nPoteri di ANAC alla luce del nuovo Codice\nMartedì 3 ottobre 2023\n\nI docenti\, nel corso dell’evento formativo\, risponderanno alle domande e alle richieste di chiarimenti formulate dai partecipanti. Eventuali quesiti potranno essere anticipati inviando una email all’indirizzo info@paradigma.it \n \n\n		\n	\n\n	\n		\n			Evento in videoconferenza \n\n		\n	\n\n	\n		\n			18\,26\,27 settembre 2\,3 ottobre 2023 \n\n		\n	\n\n	\n		\n			 \n\n		\n	\n\n	\n		\n			\n\n		\n	\nPresentazioneProgrammaDocentiBrochureIscrizioni e CondizioniPresentazione\n	\n		\n			Contenuti del percorso \nÈ stato pubblicato sulla Gazzetta Ufficiale del 31 marzo u.s.\, ed è pienamente efficace dal 1° luglio scorso (fatto salvo l’art. 140\, la cui efficacia è già in essere\, a seguito del D.L. “Alluvione”\, e fatta salva la parte relativa alla digitalizzazione\, che sarà invece pienamente efficace dal 1° gennaio 2024) il D. Lgs. n. 36/2023\, che dà attuazione alla delega di cui alla Legge n. 78/2022\, costituendo il nuovo testo di riferimento della contrattualistica pubblica. \nCome si ricava dalla relazione di accompagnamento predisposta dal Consiglio di Stato\, le finalità perseguite dal nuovo Codice dei contratti pubblici sono le seguenti: \nsemplificazione\, ottenuta aumentando la discrezionalità delle amministrazioni e rimuovendo il gold plating ovunque possibile; \naccelerazione\, intesa come massima velocizzazione possibile delle procedure\, avendo riguardo all’effettiva “fattibilità” del rispetto dei termini previsti e prevedendo specifiche forme di responsabilità a fronte di ritardi; \ncompleta digitalizzazione delle procedure e interoperabilità delle piattaforme\, secondo il principio dell’once only\, ossia dell’unicità dell’invio di dati\, documenti e informazioni alle stazioni appaltanti; \npotenziamento delle tutele per i lavoratori (tramite clausole sociali\, valorizzazione dei CCNL e lotta ai “contratti pirata”) e per le imprese (specie sul piano della rinegoziazione e revisione prezzi\, o della suddivisione in lotti). \nIl percorso formativo organizzato da Paradigma costituirà un’occasione di complessiva analisi delle innovazioni contenute nel nuovo Codice\, arricchita dal prezioso contributo di autorevoli membri della Giustizia Amministrativa che hanno fatto parte della Commissione speciale incaricata della redazione del relativo testo. \nI vantaggi del percorso \nla qualità dell’offerta formativa Paradigma in una soluzione agile\, articolata in cinque approfondimenti tematici\nla possibilità di seguire il ciclo di eventi in diretta streaming\nuna soluzione che consente la massima flessibilità nella sua fruizione: è infatti possibile iscriversi all’intero ciclo di incontri\, ad alcuni di essi o anche ad una singola giornata\nuna soluzione che permette\, scegliendo di partecipare a più giornate\, di coinvolgere diverse risorse della stessa azienda\, in base alle specifiche esigenze di approfondimento delle singole professionalità \nI destinatari del percorso \nIl ciclo di incontri è rivolto ai Responsabili Gare e agli Uffici Legali\, Compliance e Acquisti degli operatori economici; a tutte le stazioni appaltanti e in particolare ai loro Uffici Gare\, Appalti e Approvvigionamenti\, nonché ai loro Uffici Tecnici; a tutti i professionisti e consulenti che operano nell’ambito delle procedure a evidenza pubblica e a quanti\, più in generale\, desiderano acquisire prime nozioni sulla riforma dei contratti pubblici. \nGli obiettivi del percorso \nIl percorso formativo è mirato a fornire agli operatori economici che concorrono alle gare pubbliche\, e alle stazioni appaltanti\, una disamina approfondita del nuovo Codice dei contratti pubblici\, favorendo la graduale presa di conoscenza delle nuove disposizioni e consentendo per tempo di valutare gli ambiti della propria operatività su cui più impatteranno le novità introdotte. \n\n\n		\n	\nProgramma\n	\n		\n			Modulo I\nLunedì 18 settembre 2023 \nRelatori\nPres. Gabriele Carlotti\nConsiglio di Giustizia Amministrativa per la Regione Siciliana\nCons. Brunella Bruno\nConsiglio di Stato \nPRINCIPI DELLA CONTRATTUALISTICA PUBBLICA\nCAPACITÀ CONTRATTUALE DELLE PP.AA. \nIl principio del risultato e la ricalibrazione delle attività amministrative legate all’appalto\nL’accezione di “risultato” fatta propria dal Legislatore\nL’accresciuto peso assegnato a programmazione\, progettazione ed esecuzione rispetto alla fase di scelta del contraente\nL’importanza del fattore tempo \nIl principio di fiducia e il potenziamento degli ambiti di discrezionalità nell’attività negoziale pubblica\nDiscrezionalità amministrativa\, discrezionalità tecnica\, discrezionalità mista nel nuovo Codice\nFiducia dell’ordinamento nell’agire dei pubblici funzionari e ridisegno della responsabilità amministrativa\nFiducia e affidamento del privato \nIl principio di accesso al mercato\nLa riconsiderazione del principio concorrenziale nell’ottica della preminenza del “risultato”\nLa garanzia della concorrenzialità come precondizione delle procedure competitive\nIl principio di accesso al mercato quale “precipitato” della funzionalizzazione dei canoni del buon agire amministrativo\nPartecipazione alle gare degli operatori economici stranieri: ricostruzione alla luce del nuovo Codice\nLa nozione di interesse transfrontaliero applicata all’attività negoziale delle PA \nLa capacità contrattuale generale delle Pubbliche Amministrazioni. I contratti pubblici esclusi dall’ambito di applicazione del Codice\nLa portata dell’art. 8 del Codice dei contratti pubblici\nIl divieto tendenzialmente assoluto di prestazioni d’opera gratuite e il tema dei contratti a contenuto oneroso aventi un corrispettivo diverso dall’emolumento in danaro; gli orientamenti CGUE in materia\nL’affidamento di incarichi legali (e di altri incarichi a liberi professionisti) e l’applicazione dell’equo compenso\nIl “perimetro” di applicazione del Codice individuato all’art. 13\nLa collocazione della normativa relativa ai settori speciali e alle concessioni e le scelte di discontinuità rispetto al Codice previgente \nGli allegati del Codice e l’avvenuta delegificazione \nDIGITALIZZAZIONE DEL CICLO DI VITA DEL CONTRATTO\nQUALIFICAZIONE DELLE STAZIONI APPALTANTI \nLa digitalizzazione del ciclo di vita dei contratti pubblici\nPrincipi e diritti digitali\nUso di procedure automatizzate nel ciclo di vita dei contratti pubblici \nTrasparenza e pubblicità degli appalti pubblici e nuova disciplina dell’accesso\nGli art. 20 e 28 del Codice e il principio di unicità dell’invio delle informazioni\nLa pubblicità legale degli atti nel nuovo art. 27\nLa Delibera ANAC n. 263/2023 avente ad oggetto l’adozione del provvedimento attuativo dell’articolo 27 del Codice\nLa Banca Dati Nazionale dei Contratti Pubblici quale perno del sistema di trasparenza e la sua interoperabilità con la sezione “Amministrazione trasparente” dei siti istituzionali delle stazioni appaltanti\nAccesso agli atti e riservatezza\nLe norme procedimentali e processuali in materia di accesso \nLa qualificazione delle stazioni appaltanti\nI differenti livelli di qualificazione previsti\nI diversi presupposti di legittimità della qualificazione\nL’entrata a regime del sistema e le conseguenze in termini di assetto complessivo della committenza pubblica \n  \nModulo II\nMartedì 26 settembre 2023 \nRelatore\nPres. Claudio Contessa\nConsiglio di Stato \nGESTIONE DEL PROGETTO\nSELEZIONE DEL CONTRAENTE\nGIUDIZIO SULL’ANOMALIA DELLE OFFERTE\nCAUSE DI ESCLUSIONE E SOCCORSO ISTRUTTORIO \nI tempi dell’affidamento e la relativa gestione\nLa natura inderogabile dei termini di cui all’Allegato VI e il silenzio inadempimento a fronte del mancato rispetto \nIl ruolo e le responsabilità del Responsabile Unico del Progetto\nI rapporti tra il RUP e i responsabili di fase: competenze e responsabilità \nImporti a base di gara\, suddivisione in lotti e discrezionalità della stazione appaltante\nProcedure esperibili in funzione degli importi\nLe indicazioni del nuovo Codice e della giurisprudenza in ordine alla suddivisione in lotti\nLa nozione di “impresa di prossimità” \nI criteri di aggiudicazione e il giudizio sull’anomalia delle offerte\nL’aggiudicazione all’OEPV secondo il miglior rapporto qualità-prezzo quale criterio prevalente\nL’approccio innovativo in materia di gestione delle offerte anormalmente basse \nI requisiti di partecipazione alle procedure. La nuova disciplina delle cause di esclusione\nI requisiti di ordine generale\n• Le cause di esclusione automatica e di esclusione non automatica\n• Le esclusioni di partecipanti a raggruppamenti\n• Gli illeciti professionali\nI requisiti di ordine speciale\n• L’attuazione del principio di proporzionalità e pertinenza con riferimento ai requisiti esigibili\, anche alla luce della giurisprudenza prevalente\n• La nuova qualificazione per i lavori di importo superiore ai 150.000 euro \nLe novità in materia di partecipazione in forma associata alla gara\nConsorzi non necessari: le previsioni di cui all’art. 67 e\, in particolare\, la rilevanza del comma 4 in ordine alla partecipazione alla gara\, in altra forma\, del consorziato designato\nLe novità in materia di Raggruppamenti Temporanei di Imprese e Consorzi ordinari: in particolare\, il recepimento degli orientamenti CGUE in tema di non predeterminabilità delle modalità esecutive all’interno del raggruppamento\nQuestioni aperte \nLa nuova disciplina dell’avvalimento\nLa richiesta di specificazione della finalità dell’avvalimento utilizzato\nLa sostituibilità dell’ausiliaria responsabile di dichiarazione mendace\nI minori limiti alla partecipazione quali concorrenti\, nella stessa procedura\, di ausiliaria e ausiliata\nLe ulteriori previsioni a raffronto con la normativa previgente \nLa gestione procedimentale delle esclusioni e il soccorso istruttorio\nCasi di ammissibilità del soccorso istruttorio\nSoggetti deputati a disporre le esclusioni\nModalità di gestione\nIl soccorso istruttorio nelle gare telematiche\, anche alla luce della recente giurisprudenza \n  \nModulo III\nMercoledì 27 settembre 2023 \nRelatori\nPres. Luigi Carbone\nConsiglio di Stato\nCons. Giuseppina Luciana Barreca\nConsiglio di Stato \nCoordina i lavori\nPres. Luigi Carbone\nConsiglio di Stato \nRIFORMA DEL SOTTOSOGLIA \nLa disciplina degli affidamenti sottosoglia\nLa disciplina comune applicabile ai contratti di lavori\, servizi e forniture di importo inferiore alle soglie di rilevanza europea\nIl principio di rotazione degli affidamenti\nLe procedure di affidamento utilizzabili\nLa commissione aggiudicatrice\nLe verifiche sul possesso dei requisiti\nLe garanzie\nL’esclusione automatica delle offerte anomale\nLa sottrazione del sottosoglia alla disciplina dei termini dilatori di cui all’art. 18 \nESECUZIONE DEI CONTRATTI \nIl subappalto\nL’art. 119 a confronto con il previgente art. 105\, dopo gli ultimi aggiornamenti\nLa novità del comma 17 relativamente al subappalto a cascata: l’onere di motivazione della stazione appaltante \nLa modifica dei contratti d’appalto durante il periodo di validità (art. 120)\nLe condizioni per la praticabilità della modifica dei contratti di appalto senza che debba essere disposta una nuova procedura di affidamento \nI controlli sull’esecuzione\nI compiti del RUP e del direttore dell’esecuzione (art. 114)\nIl ruolo di direttori operativi e ispettori di cantiere\nIl controllo tecnico\, contabile e amministrativo (art. 115)\nIl collaudo e la verifica di conformità: requisiti e nomina dei soggetti incaricati (art. 116) \nLe cauzioni e le garanzie\nLe cauzioni e le garanzie per la partecipazione alla procedura\nLe garanzie per l’esecuzione\nLe garanzie per l’esecuzione relative a lavori di particolare valore \n  \nModulo IV\nLunedì 2 ottobre 2023 \nRelatori\nPres. Claudio Contessa\nConsiglio di Stato\nCons. Dario Simeoli\nConsiglio di Stato\nCons. Flavia Risso\nTAR Toscana \nSTRUMENTI PER LA GESTIONE DI CRITICITÀ NELLA FASE ESECUTIVA \nDisciplina e procedimento per l’apposizione delle riserve \nTransazione \nAccordo bonario \nCollegio Consultivo Tecnico \nPARTENARIATI E CONCESSIONI \nI tratti salienti della disciplina dei Partenariati Pubblico-Privato nel nuovo Codice \nLe fattispecie tipizzate di Partenariato Pubblico-Privato contrattuale\nL’affidamento in concessione con finanza di progetto\nLa concessione di costruzione e gestione\nLa concessione di servizi\nAltre forme speciali di PPP contrattuale \nIl Partenariato Pubblico-Privato istituzionalizzato\nLe società miste per la gestione di servizi pubblici locali \nLe concessioni\nLa definizione del rischio operativo\nI profili procedimentali dell’affidamento\nI requisiti di capacità tecnica ed economica per l’ammissione alle procedure di aggiudicazione delle concessioni\nI contratti misti di concessione\nLe concessioni escluse dall’applicazione del Codice\nGli affidamenti dei concessionari \nI controlli sull’esecuzione delle concessioni \nLe condizioni per la praticabilità della modifica dei contratti di concessione senza che debba essere disposta una nuova procedura di affidamento\nLe modifiche finalizzate al riequilibrio del piano economico-finanziario (art. 192)\nLa messa al riparo del concessionario dal rischio regolatorio \n  \nModulo V\nMartedì 3 ottobre 2023 \nRelatore\nPres. Claudio Contessa\nConsiglio di Stato \nPROGETTAZIONE E SVOLGIMENTO DI FUNZIONI TECNICHE\nVARIAZIONI CONTRATTUALI E NUOVA REVISIONE PREZZI\nCONTENZIOSO GIURISDIZIONALE\nPOTERI DI ANAC ALLA LUCE DEL NUOVO CODICE \nLa progettazione e gli incentivi per lo svolgimento di funzioni tecniche\nLe novità in materia di livelli della progettazione\nL’attività di verifica\nIl ricorso alla modellazione tramite BIM\nL’utilizzo dell’appalto integrato: gli oneri motivazionali da assolvere\, i soggetti qualificabili\, il criterio di aggiudicazione\nLa disciplina degli incentivi alle funzioni tecniche\nI concorsi di progettazione \nLe novità in materia di clausole sociali\nL’art. 57 comma 1 quale base normativa delle clausole sociali e la stretta connessione della previsione di cui all’art. 102 sugli impegni dell’operatore economico\nLe clausole sociali utilizzabili alla luce del nuovo Codice e della prassi maturata anche sotto la vigenza del precedente\nL’intervento del legislatore di correzione dell’art. 108\, comma 7 (certificazione della parità di genere in luogo di autocertificazione)\, in vista di un risultato comunque conseguibile ai sensi dell’art. 102\, comma 2 \nIl contratto e la sua stipulazione\nStand still sostanziale e processuale\nOrientamenti giurisprudenziali prevalenti in ordine al mancato rispetto dello stand still\, in assenza di altri vizi dell’aggiudicazione\nLa mancata stipula nei termini per fatto della stazione appaltante\nLa mancata stipula nei termini per fatto dell’aggiudicatario\nIl richiamo alla buona fede quale regola di condotta al comma 7 dell’art. 18 e le possibili implicazioni \nLe novità in materia di varianti e proroghe \nLa nuova disciplina della revisione dei prezzi\nL’obbligatorietà delle clausole\nIl ritorno a una generalizzazione dell’applicazione per tutte le tipologie di appalto\nL’applicazione della nuova disciplina e le problematiche sul fronte dei rincari nell’attuale contingenza \nLe modifiche al contenzioso giurisdizionale\nLe modifiche al “rito appalti” (art. 120 del CPA)\nLa declaratoria di inefficacia dei contratti di appalto per gravi violazioni (riformulazione dell’art. 121 CPA)\nIl nuovo art. 124 CPA sulla tutela in forma specifica e per equivalente \nRuolo e poteri di ANAC nell’ambito della contrattualistica pubblica alla luce del nuovo Codice \n\n\n		\n	\nDocenti\n	\n		\n			Pres. Luigi Carbone\nPresidente IV Sezione Giurisdizionale\nConsiglio di Stato\nVice Presidente e Coordinatore\nCommissione Speciale del Consiglio di Stato incaricata della formulazione del progetto di Codice dei contratti pubblici \nPres. Gabriele Carlotti\nPresidente Aggiunto\nConsiglio di Giustizia Amministrativa per la Regione Siciliana\nMembro e Co-Coordinatore di Gruppo di Lavoro\nCommissione Speciale del Consiglio di Stato incaricata della formulazione del progetto di Codice dei contratti pubblici \nPres. Claudio Contessa\nPresidente VI Sezione Giurisdizionale\nConsiglio di Stato\nMembro e Co-Coordinatore di Gruppo di Lavoro\nCommissione Speciale del Consiglio di Stato incaricata della formulazione del progetto di Codice dei contratti pubblici \nCons. Giuseppina Luciana Barreca\nConsigliere – V Sezione Giurisdizionale\nConsiglio di Stato\nMembro di Gruppo di Lavoro\nCommissione Speciale del Consiglio di Stato incaricata della formulazione del progetto di Codice dei contratti pubblici \nCons. Brunella Bruno\nConsigliere – VII Sezione Giurisdizionale\nConsiglio di Stato\nMembro di Gruppo di Lavoro\nCommissione Speciale del Consiglio di Stato incaricata della formulazione del progetto di Codice dei contratti pubblici \nCons. Dario Simeoli\nConsigliere – II Sezione Giurisdizionale\nConsiglio di Stato\nMembro di Gruppo di Lavoro\nCommissione Speciale del Consiglio di Stato incaricata della formulazione del progetto di Codice dei contratti pubblici \nCons. Flavia Risso\nConsigliere\nTAR Toscana\nMembro di Gruppo di Lavoro\nCommissione Speciale del Consiglio di Stato incaricata della formulazione del progetto di Codice dei contratti pubblici \n\n\n		\n	\nBrochure\n	\n		\n			 Scarica la brochure\n\n		\n	\nIscrizioni e Condizioni\n	\n		\n			Quota di partecipazione  \nLa quota di partecipazione in aula virtuale (diretta streaming) include l’invio del materiale didattico in formato elettronico e la possibilità di sottoporre ai relatori quesiti di specifico interesse a mezzo chat. È altresì possibile anticipare domande e richieste di approfondimento inviando una e-mail a info@paradigma.it entro il giorno antecedente l’evento. \nIn caso di videoconferenza con accessi multipli è necessario contattare la Segreteria organizzativa per un preventivo personalizzato. \nModalità di funzionamento della videoconferenza \nE’ possibile accedere all’aula virtuale da qualsiasi luogo\, utilizzando il proprio PC o tablet con una semplice connessione a Internet. La piattaforma informatica utilizzata da Paradigma (Adobe Connect) non necessita di requisiti tecnici particolari. \nNei giorni antecedenti l’evento il partecipante riceverà per posta elettronica le credenziali e le istruzioni di accesso. Il giorno dell’evento sarà sufficiente selezionare il link che troverà nella mail e inserire le credenziali per accedere all’aula virtuale. \nDurante gli interventi\, oltre a vedere e sentire i docenti\, è possibile consultare simultaneamente la documentazione predisposta dal relatore. Ogni utente collegato potrà porre domande sulle tematiche affrontate a mezzo chat\, alle quali il docente risponderà nel corso dell’intervento. \nModalità di iscrizione \nL’iscrizione si perfeziona al momento del ricevimento del modulo di registrazione\, da inviare via e-mail all’indirizzo info@paradigma.it\, integralmente compilato. Il numero dei collegamenti disponibili è limitato e la priorità d’iscrizione è determinata dalla data di ricezione del modulo di registrazione. Si consiglia pertanto di effettuare una preiscrizione telefonica. È possibile l’iscrizione anche a singole giornate del percorso. \nModalità di pagamento \nLa quota di partecipazione deve essere versata all’atto della presentazione della richiesta di iscrizione e\, in ogni caso\, prima dell’effettuazione dell’evento formativo\, tramite bonifico bancario intestato a: \nParadigma Srl – Corso Vittorio Emanuele II\, 68 – 10121 Torino\nc/o Banco BPM Spa\nIBAN IT 14 V 05034 01017 000000002530 \nFormazione finanziata \nLa quota di partecipazione può essere completamente rimborsata tramite voucher promossi dai Fondi Paritetici Interprofessionali. Paradigma offre la completa e gratuita gestione delle spese di progettazione\, monitoraggio e rendicontazione. La possibilità di accedere alla formazione finanziata con partecipazione mediante videoconferenza può variare a seconda dell’Ente erogante. \nAttestato di frequenza \nL’attestato di partecipazione nominativo sarà inviato al termine dell’evento formativo ai partecipanti che si sono regolarmente collegati all’aula virtuale. \nDiritto di recesso e modalità di disdetta \nÈ attribuita ai partecipanti la facoltà di recedere ai sensi dell’art. 1373 c.c. Il recesso dovrà essere comunicato in forma scritta almeno sette giorni prima della data di inizio dell’evento formativo (escluso il sabato e la domenica). Trattandosi di un percorso formativo\, tale termine è da intendersi riferito alla data di inizio dell’intero percorso\, quindi saranno ammesse eventuali disdette solo se esercitate entro l’ 11 settembre 2023. Qualora la disdetta pervenga oltre tale termine o qualora si verifichi di fatto con la mancata presenza al corso\, la quota di partecipazione sarà addebitata per intero e sarà inviato al partecipante il materiale didattico. In qualunque momento l’azienda o lo studio potranno comunque sostituire il partecipante\, anche in relazione a singoli moduli del percorso\, comunicando il nuovo nominativo alla nostra Segreteria organizzativa. \nVariazioni di programma \nParadigma\, per ragioni eccezionali e imprevedibili\, si riserva di annullare o modificare la data dell’evento formativo\, dandone comunicazione agli interessati entro tre giorni dalla data di inizio prevista. In tali casi le quote di partecipazione pervenute verranno rimborsate\, con esclusione di qualsivoglia onere o obbligo a carico di Paradigma. Paradigma si riserva inoltre\, per ragioni sopravvenute e per cause di forza maggiore\, di modificare l’articolazione del programma e di sostituire i docenti previsti con altri docenti di pari livello professionale. Per ulteriori informazioni è possibile contattare la Segreteria organizzativa al numero 011.538686 o all’indirizzo email info@paradigma.it \n\n\n		\n	\n\n\n	\n		\n			Quota di partecipazione\n	\n		\n			€ 1.000 + Iva prima giornata€ 1.000 + Iva seconda giornata€ 1.000 + Iva terza giornata€ 1.000 + Iva quarta giornata€ 1.000 + Iva quinta giornata€ 4.500 + Iva intero progetto\n\n		\n	\n\n	\n		\n			In caso di videoconferenza con accessi multipli è necessario contattare la Segreteria organizzativa per un preventivo personalizzato. \n\n		\n	\n\n\n		\n	\n\n	\n		\n			\n\n\n\n\n\n\n	\n		\n			Early booking -20%\nInviando il modulo di iscrizione entro il 28 agosto 2023 si avrà diritto a una riduzione del 20% sulla quota di partecipazione all’intero percorso o alle singole giornate. \nL’iscrizione all’intero percorso o a più giornate dello stesso non vincola l’ente\, l’azienda o lo studio a fare partecipare la medesima risorsa ad ogni modulo. Scegliendo di partecipare a più giornate è infatti possibile coinvolgere risorse provenienti da diverse aree\, in base alle specifiche esigenze di approfondimento delle singole professionalità. \n\n		\n	\n\n\n\n		\n	\n\n	\n		\n			\n\n		\n	\n\n	\n		\n			\n\n		\n	\n\n	\n		\n			\n\n\n\n\n\n\n	\n		\n			Progetto Giovani Eccellenze -50%\nL´adesione all’evento formativo permette di iscrivere una seconda risorsa che non abbia compiuto il 30° anno di età e proveniente dalla stessa organizzazione con una riduzione del 50% sulla seconda quota di partecipazione. L’agevolazione è calcolata sulla quota ordinaria. \n\n		\n	\n\n\n\n		\n	\n\n	\n		\n			\n\n\n\n\n\n\n	\n		\n			Formazione finanziata\nLa quota di partecipazione all’iniziativa può essere completamente rimborsata tramite voucher promossi dai Fondi Paritetici Interprofessionali. Paradigma offre la completa e gratuita gestione delle spese di progettazione\, monitoraggio e rendiconto. \n\n		\n	\n\n\n\n		\n	\n\n	\n		\n			\n\n\n\n\n\n\n	\n		\n			Mercati elettronici della PA\nParadigma Srl opera sul MePA e sui principali mercati elettronici di soggetti aggregatori e centrali di committenza. \n\n		\n	\n\n\n\n		\n	\n\n	\n		\n			\n	\n\n\n	I campi con (*) sono obbligatori\n	\n		\n		Dati relativi all'evento\n		\n		\n			Partecipazione in aula\n			Partecipazione in videoconferenza\n		\n		\n\n		Dati relativi al richiedente\n		\n		\n		\n		\n		\n		\n		\n		\n\n	\n\n	\n\n		Dati per eventuale partecipante under 30\n		\n		\n		\n\n	\n\n	\n\n		Dati per la fatturazione elettronica\n		\n		\n		\n		\n		\n		\n				\n		\n		\n		  Split Payment:\n          \n            \n              \n              Si \n            No\n          \n        \n		\n		\n		\n		\n	\n\n	\n\n		Per informazioni contattare\n		\n		\n		\n		\n		\n	\n	L'iscrizione all'evento formativo si intende perfezionata al momento del ricevimento\, da parte di Paradigma Srl\, del presente modulo di registrazione compilato in ogni sua parte\, stampato\, firmato e inviato via e-mail all'indirizzo info@paradigma.it. Riceverete via email conferma dell'avvenuta iscrizione. \n\n\n		\n	     Acconsento all'invio di comunicazioni sui servizi Paradigma Srl - Consenso finalizzato\, anche con modalità automatizzate\, all'invio di comunicazioni relative a prodotti e servizi di Paradigma Srl e al fine di ricevere materiale informativo o promozionale.\n	\n	     Acconsento alla personalizzazione delle offerte - Consenso finalizzato\, mediante modalità automatizzate\, a personalizzare i servizi forniti e meglio indirizzare le proposte promozionali grazie ad attività di profilazione.\n	\n	Inviando i dati autorizzi Paradigma Srl a utilizzare i tuoi dati personali per evadere la richiesta di partecipazione all’evento formativo e svolgere le attività a ciò connesse. I dati potranno essere trattati\, per conto di Paradigma Srl\, da dipendenti e collaboratori incaricati di svolgere specifici servizi necessari all’esecuzione delle tue richieste. Il conferimento dei tuoi dati\, pur essendo facoltativo\, si rende necessario per l’esecuzione del servizio richiesto.	\n\n\n\n\n		\n\n\n\n\n\n		\n	\n[/vc_column][/vc_row]
URL:https://paradigma.it/iniziativa/il-nuovo-codice-dei-contratti-pubblici-percorso-formativo/
CATEGORIES:Gare e Appalti
ORGANIZER;CN="Veronica%20Spiez":MAILTO:vspiez@paradigma.it
END:VEVENT
END:VCALENDAR