BEGIN:VCALENDAR
VERSION:2.0
PRODID:-//Paradigma srl - ECPv5.2.1//NONSGML v1.0//EN
CALSCALE:GREGORIAN
METHOD:PUBLISH
X-WR-CALNAME:Paradigma srl
X-ORIGINAL-URL:https://paradigma.it
X-WR-CALDESC:Eventi per Paradigma srl
BEGIN:VTIMEZONE
TZID:Europe/Rome
BEGIN:DAYLIGHT
TZOFFSETFROM:+0100
TZOFFSETTO:+0200
TZNAME:CEST
DTSTART:20230326T010000
END:DAYLIGHT
BEGIN:STANDARD
TZOFFSETFROM:+0200
TZOFFSETTO:+0100
TZNAME:CET
DTSTART:20231029T010000
END:STANDARD
END:VTIMEZONE
BEGIN:VEVENT
DTSTART;TZID=Europe/Rome:20230530T093000
DTEND;TZID=Europe/Rome:20230530T130000
DTSTAMP:20260421T151752
CREATED:20230427T103159Z
LAST-MODIFIED:20230526T095255Z
UID:17831-1685439000-1685451600@paradigma.it
SUMMARY:Il licenziamento disciplinare  alla luce delle più recenti pronunce  della Corte Costituzionale  e della Corte di Cassazione
DESCRIPTION:[vc_row][vc_column]\n	\n		\n			\n		\n	\n\n	\n		\n			Corte Costituzionale n. 125/2022 \nCassazione n. 7467/2023 \nCassazione n. 6669/2023 \n\nLe nozioni di giusta causa e giustificato motivo soggettivo\nIl rilievo delle clausole generali o elastiche\nLa corretta gestione della contestazione disciplinare\nLa redazione della contestazione e della lettera di licenziamento\nIl regime sanzionatorio\n\nI docenti\, nel corso dell’evento formativo\, risponderanno alle domande e alle richieste di chiarimenti formulate dai partecipanti. Eventuali quesiti potranno essere anticipati inviando una email all’indirizzo asorba@paradigma.it \n \n\n		\n	\n\n	\n		\n			Evento in videoconferenza \n\n		\n	\n\n	\n		\n			30 maggio 2023 \n\n		\n	\n\n	\n		\n			 \n\n		\n	\n\n	\n		\n			\n\n		\n	\nPresentazioneProgrammaDocentiBrochureIscrizioni e CondizioniPresentazione\n	\n		\n			Contenuti dell’evento \nNel corso della giornata di studi saranno esaminati i più significativi e recenti arresti giurisprudenziali della Corte Costituzionale e della Corte di Cassazione in materia di licenziamento disciplinare. \nIl c.d. diritto vivente impone\, infatti\, un approfondimento in ordine ad alcuni profili cruciali: la nozione di giusta causa e di giustificato motivo soggettivo; il rilievo delle clausole generali o elastiche contenute nelle previsioni contrattuali che tipizzando le condotte sanzionate; i principi di immediatezza\, specificità e immutabilità della contestazione e il regime sanzionatorio. \nCon riferimento a quest’ultimo tema si pongono diversi problemi che rendono incerta la previsione degli esiti di un eventuale contenzioso e che impongono una attenta valutazione in ordine all’esercizio dei poteri datoriali. \nLa recente giurisprudenza\, da un lato\, ha ampliato il campo di applicazione della reintegrazione per i lavoratori assunti prima del 7 marzo 2015\, tanto che la tutela risarcitoria appare ormai residuale tutte le volte in cui si discuta della proporzionalità del licenziamento disciplinare. Per i lavoratori in regime di Jobs Act\, invece\, dopo la sentenza della Corte Costituzionale n. 194/2018\, si pongono dubbi in ordine ai criteri da utilizzare per la corretta determinazione del risarcimento. \nLe incertezze collegate al regime sanzionatorio inducono a prevenire i rischi di illegittimità del licenziamento disciplinare a partire dalla contestazione. La reintegrazione è prevista\, infatti\, in caso di insussistenza del fatto contestato. \nE’ importante allora curare con molta attenzione la redazione della contestazione disciplinare\, prima\, e della successiva lettera di licenziamento\, poi\, al fine di poter convenientemente impostare anche la futura difesa giudiziale in caso di impugnazioni. \nDestinatari dell’evento \nL’evento formativo è rivolto ai Direttori del Personale\, ai Responsabili delle Relazioni Sindacali\, ai Responsabili della Gestione e dello Sviluppo del Personale\, Avvocati\, Consulenti del Lavoro e consulenti in materia lavoristica e previdenziale. \nObiettivi dell’evento \nObiettivo dell´incontro è mettere a disposizione dei partecipanti strumenti operativi e indicazioni pratiche per la corretta gestione dei licenziamenti disciplinari a partire dalla contestazione per arrivare\, all’esito del procedimento disciplinare\, alla lettera di licenziamento\, fino alla eventuale fase contenziosa in caso di impugnazioni. \n\n\n		\n	\nProgramma\n	\n		\n			Martedì 30 maggio 2023 \nLe nozioni di giusta causa e giustificato motivo soggettivo\nLe nozioni legali\nLa tipizzazione delle condotte da parte dei contratti collettivi\nIl rilievo delle clausole generali o elastiche\nLe condotte extra lavorative \nLa corretta gestione del procedimento disciplinare\nLa contestazione disciplinare: immediatezza\, specificità\, immutabilità\nLe fasi successive del procedimento disciplinare\nTecniche di redazione della contestazione e della lettera di licenziamento \nLa corretta determinazione del regime sanzionatorio\nI presupposti applicativi delle diverse discipline sanzionatorie\nL’insussistenza del fatto contestato\nLa tutela reintegratoria\nLa tutela risarcitoria \n  \nPres. Vincenzo Di Cerbo\nex Presidente Titolare della Sezione Lavoro \nCorte di Cassazione \nProf. Avv. Arturo Maresca\nSapienza Università di Roma\nStudio Legale Maresca\, Morrico\, Boccia & Associati \nProf. Avv. Domenico Mezzacapo\nSapienza Università di Roma \n\n\n		\n	\nDocenti\n	\n		\n			Pres. Vincenzo Di Cerbo\nex Presidente Titolare della Sezione Lavoro\nCorte di Cassazione \nProf. Avv. Arturo Maresca\nEmerito di Diritto del Lavoro\nSapienza Università di Roma\nFounding Partner\nStudio Legale Maresca\, Morrico\, Boccia & Associati \nProf. Avv. Domenico Mezzacapo\nOrdinario di Diritto del Lavoro\nSapienza Università di Roma \n\n\n		\n	\nBrochure\n	\n		\n			 Scarica la brochure\n\n		\n	\nIscrizioni e Condizioni\n	\n		\n			Quota di partecipazione \nLa quota di partecipazione in aula virtuale (diretta streaming) include l’invio del materiale didattico in formato elettronico e la possibilità di sottoporre ai relatori quesiti di specifico interesse a mezzo chat. È altresì possibile anticipare domande e richieste di approfondimento inviando una e-mail a info@paradigma.it entro il giorno antecedente l’evento. \nIn caso di videoconferenza con accessi multipli è necessario contattare la Segreteria organizzativa per un preventivo personalizzato. \nModalità di funzionamento della videoconferenza \nE’ possibile accedere all’aula virtuale da qualsiasi luogo\, utilizzando il proprio PC o tablet con una semplice connessione a Internet. La piattaforma informatica utilizzata da Paradigma (Adobe Connect) non necessita di requisiti tecnici particolari. \nNei giorni antecedenti l’evento il partecipante riceverà per posta elettronica le credenziali e le istruzioni di accesso. Il giorno dell’evento sarà sufficiente selezionare il link che troverà nella mail e inserire le credenziali per accedere all’aula virtuale. \nDurante gli interventi\, oltre a vedere e sentire i docenti\, è possibile consultare simultaneamente la documentazione predisposta dal relatore. Ogni utente collegato potrà porre domande sulle tematiche affrontate a mezzo chat\, alle quali il docente risponderà nel corso dell’intervento. \nModalità di iscrizione \nL’iscrizione si perfeziona al momento del ricevimento del modulo di registrazione\, da inviare via e-mail all’indirizzo info@paradigma.it\, integralmente compilato. Il numero dei collegamenti disponibili è limitato e la priorità d’iscrizione è determinata dalla data di ricezione del modulo di registrazione. Si consiglia pertanto di effettuare una preiscrizione telefonica. \nModalità di pagamento \nLa quota di partecipazione deve essere versata all’atto della presentazione della richiesta di iscrizione e\, in ogni caso\, prima dell’effettuazione dell’evento formativo\, tramite bonifico bancario intestato a: \nParadigma Srl – Corso Vittorio Emanuele II\, 68 – 10121 Torino\nc/o Banco BPM Spa\nIBAN IT 14 V 05034 01017 000000002530 \nFormazione finanziata \nLa quota di partecipazione può essere completamente rimborsata tramite voucher promossi dai Fondi Paritetici Interprofessionali. Paradigma offre la completa e gratuita gestione delle spese di progettazione\, monitoraggio e rendicontazione. La possibilità di accedere alla formazione finanziata con partecipazione mediante videoconferenza può variare a seconda dell’Ente erogante. \nAttestato di frequenza \nL’attestato di partecipazione nominativo sarà inviato al termine dell’evento formativo ai partecipanti che si sono regolarmente collegati all’aula virtuale. \nDiritto di recesso e modalità di disdetta \nÈ attribuita ai partecipanti la facoltà di recedere ai sensi dell’art. 1373 c.c. Il recesso dovrà essere comunicato in forma scritta almeno sette giorni prima della data di inizio dell’evento formativo (escluso il sabato e la domenica). Qualora la disdetta pervenga oltre tale termine o si verifichi di fatto con il mancato collegamento alla videoconferenza\, la quota di partecipazione sarà addebitata per intero e sarà inviato al partecipante il materiale didattico. In qualunque momento l’azienda o lo studio potranno comunque sostituire il partecipante\, comunicando il nuovo nominativo alla nostra Segreteria organizzativa. \nVariazioni di programma \nParadigma\, per ragioni eccezionali e imprevedibili\, si riserva di annullare o modificare la data dell’evento formativo\, dandone comunicazione agli interessati entro tre giorni dalla data di inizio prevista. In tali casi le quote di partecipazione pervenute verranno rimborsate\, con esclusione di qualsivoglia onere o obbligo a carico di Paradigma. Paradigma si riserva inoltre\, per ragioni sopravvenute e per cause di forza maggiore\, di modificare l’articolazione del programma e di sostituire i docenti previsti con altri docenti di pari livello professionale. \nPer ulteriori informazioni è possibile contattare la Segreteria organizzativa al numero 011.538686 o all’indirizzo e-mail info@paradigma.it. \n\n\n		\n	\n\n\n	\n		\n			Quota di partecipazione\n	\n		\n			€ 650 + Iva\n\n		\n	\n\n	\n		\n			In caso di videoconferenza con accessi multipli è necessario contattare la Segreteria organizzativa per un preventivo personalizzato. \n\n		\n	\n\n\n		\n	\n\n	\n		\n			\n\n\n\n\n\n\n	\n		\n			Early booking -20%\nInviando il modulo di iscrizione entro il 9 maggio 2023 si avrà diritto a una riduzione del 20% sulla quota di partecipazione.\n \n\n		\n	\n\n\n\n		\n	\n\n	\n		\n			\n\n		\n	\n\n	\n		\n			\n\n		\n	\n\n	\n		\n			\n\n\n\n\n\n\n	\n		\n			Progetto Giovani Eccellenze -50%\nL’adesione all’evento formativo permette di iscrivere una seconda risorsa\, che non abbia compiuto il 30° anno di età e proveniente dalla stessa organizzazione\, con una riduzione del 50% sulla seconda quota di partecipazione. L’agevolazione è calcolata sulla quota ordinaria. \n\n		\n	\n\n\n\n		\n	\n\n	\n		\n			\n\n\n\n\n\n\n	\n		\n			Formazione finanziata\nLa quota di partecipazione all’iniziativa può essere completamente rimborsata tramite voucher promossi dai Fondi Paritetici Interprofessionali. Paradigma offre la completa e gratuita gestione delle spese di progettazione\, monitoraggio e rendiconto. \n\n		\n	\n\n\n\n		\n	\n\n	\n		\n			\n\n\n\n\n\n\n	\n		\n			Mercati elettronici della PA\nParadigma opera sul MePA e sui principali mercati elettronici di soggetti aggregatori e centrali di committenza. \n\n		\n	\n\n\n\n		\n	\n\n	\n		\n			\n	\n\n\n	I campi con (*) sono obbligatori\n	\n		\n		Dati relativi all'evento\n		\n		\n			Partecipazione in aula\n			Partecipazione in videoconferenza\n		\n		\n\n		Dati relativi al richiedente\n		\n		\n		\n		\n		\n		\n		\n		\n\n	\n\n	\n\n		Dati per eventuale partecipante under 30\n		\n		\n		\n\n	\n\n	\n\n		Dati per la fatturazione elettronica\n		\n		\n		\n		\n		\n		\n				\n		\n		\n		  Split Payment:\n          \n            \n              \n              Si \n            No\n          \n        \n		\n		\n		\n		\n	\n\n	\n\n		Per informazioni contattare\n		\n		\n		\n		\n		\n	\n	L'iscrizione all'evento formativo si intende perfezionata al momento del ricevimento\, da parte di Paradigma Srl\, del presente modulo di registrazione compilato in ogni sua parte\, stampato\, firmato e inviato via e-mail all'indirizzo info@paradigma.it. Riceverete via email conferma dell'avvenuta iscrizione. \n\n\n		\n	     Acconsento all'invio di comunicazioni sui servizi Paradigma Srl - Consenso finalizzato\, anche con modalità automatizzate\, all'invio di comunicazioni relative a prodotti e servizi di Paradigma Srl e al fine di ricevere materiale informativo o promozionale.\n	\n	     Acconsento alla personalizzazione delle offerte - Consenso finalizzato\, mediante modalità automatizzate\, a personalizzare i servizi forniti e meglio indirizzare le proposte promozionali grazie ad attività di profilazione.\n	\n	Inviando i dati autorizzi Paradigma Srl a utilizzare i tuoi dati personali per evadere la richiesta di partecipazione all’evento formativo e svolgere le attività a ciò connesse. I dati potranno essere trattati\, per conto di Paradigma Srl\, da dipendenti e collaboratori incaricati di svolgere specifici servizi necessari all’esecuzione delle tue richieste. Il conferimento dei tuoi dati\, pur essendo facoltativo\, si rende necessario per l’esecuzione del servizio richiesto.	\n\n\n\n\n		\n\n\n\n\n\n		\n	\n[/vc_column][/vc_row]
URL:https://paradigma.it/iniziativa/il-licenziamento-disciplinare-alla-luce-delle-piu-recenti-pronunce-della-corte-costituzionale-e-della-corte-di-cassazione/
CATEGORIES:Lavoro e Previdenza
ORGANIZER;CN="Veronica%20Spiez":MAILTO:vspiez@paradigma.it
END:VEVENT
END:VCALENDAR