BEGIN:VCALENDAR
VERSION:2.0
PRODID:-//Paradigma srl - ECPv5.2.1//NONSGML v1.0//EN
CALSCALE:GREGORIAN
METHOD:PUBLISH
X-WR-CALNAME:Paradigma srl
X-ORIGINAL-URL:https://paradigma.it
X-WR-CALDESC:Eventi per Paradigma srl
BEGIN:VTIMEZONE
TZID:Europe/Rome
BEGIN:DAYLIGHT
TZOFFSETFROM:+0100
TZOFFSETTO:+0200
TZNAME:CEST
DTSTART:20230326T010000
END:DAYLIGHT
BEGIN:STANDARD
TZOFFSETFROM:+0200
TZOFFSETTO:+0100
TZNAME:CET
DTSTART:20231029T010000
END:STANDARD
END:VTIMEZONE
BEGIN:VEVENT
DTSTART;TZID=Europe/Rome:20231116T093000
DTEND;TZID=Europe/Rome:20231116T133000
DTSTAMP:20260421T130549
CREATED:20230905T152352Z
LAST-MODIFIED:20231114T112020Z
UID:18638-1700127000-1700141400@paradigma.it
SUMMARY:Il Direttore dei Lavori
DESCRIPTION:[vc_row][vc_column]\n	\n		\n			\n		\n	\n\n	\n		\n			\nNuovo Codice Appalti\nRequisiti\, nomina e competenze\nAdempimenti nelle diverse fasi\nResponsabilità\nFlussi informativi\n\nIl docente\, nel corso dell’evento formativo\, risponderà alle domande e alle richieste di chiarimenti formulate dai partecipanti. Eventuali quesiti potranno essere anticipati inviando una e-mail all’indirizzo info@paradigma.it \n \n\n		\n	\n\n	\n		\n			Evento in videoconferenza \n\n		\n	\n\n	\n		\n			16 novembre 2023 \n\n		\n	\n\n	\n		\n			 \n\n		\n	\n\n	\n		\n			\n\n		\n	\nPresentazioneProgrammaDocentiBrochureIscrizioni e CondizioniPresentazione\n	\n		\n			Contenuti dell’evento \nLa giornata di studio vuole approfondire\, trasversalmente e in maniera quanto più analitica\, il tracciato normativo e di prassi\, che disciplina il Direttore dei Lavori (DL) con particolare riguardo agli adempimenti operativi facenti capo al medesimo\, evidenziandone autonomia e limiti\, anche rispetto agli altri soggetti che intervengono nel processo di affidamento (RUP\, ufficio direzione lavori\, soggetti aggregatori\, dirigente/responsabile di struttura\, progettista\, commissione giudicatrice\, collaudatore\, sino ai direttori operativi e agli assistenti). \nL’analisi degli adempimenti relativi alle varie fasi dell’affidamento sarà accompagnata da puntuali riflessioni sui versanti dei flussi informativi (obblighi di comunicazione e segnalazione) e delle responsabilità del singolo e dell’Ente di appartenenza. \nDestinatari dell’evento \nL´evento formativo è rivolto a tutte le Stazioni Appaltanti (PA propriamente intese\, enti di diritto privato a rilevanza pubblicistica ed ulteriori soggetti tenuti all’applicazione del Codice)\, con particolare riferimento ai Direttore dei Lavori\, RUP\, agli Uffici Gare\, Appalti e Approvvigionamenti e agli Uffici Tecnici nonché a tutti i professionisti e consulenti che operano nell’ambito delle procedure a evidenza pubblica. \nObiettivi dell’evento \nObiettivo dell´incontro è fornire un quadro ampio e dettagliato dei requisiti di nomina\, delle funzioni e delle responsabilità del Direttore dei Lavori alla luce del nuovo quadro di disciplina della contrattualistica pubblica (appalti e concessioni). Saranno fornite ai partecipanti indicazioni pratiche utili ad aggiornare le proprie competenze professionali e a improntare ad adeguati criteri operativi la propria azione\, anche in termini di esonero di responsabilità. \n\n\n		\n	\nProgramma\n	\n		\n			Giovedì 16 novembre 2023 \nFonti normative e ambito di applicazione\nLa sede della disciplina: Codice dei contratti pubblici\, Linee Guida ANAC\, D.M. n. 49/2018\, d.P.R. n. 207/2010\, Codice civile\, contratto\nL’ambito oggettivo e soggettivo di applicazione della disciplina in materia di direzione lavori \nIl Direttore dei Lavori e l’ufficio di direzione lavori\nRequisiti\, nomina e competenze del DL\nI rapporti tra DL e Responsabile del Procedimento\nI coadiutori del DL e l’ufficio di direzione lavori \nDirezione lavori e fase preliminare all’esecuzione\nLo stato dei luoghi\nLe modalità e i tempi di consegna dei lavori\nLe previsioni di cui agli artt. 4 e 5 del D.M. n. 49/2018 sui compiti del DL nella fase preliminare\nLa consegna anticipata\, anche alla luce del c.d. decreto semplificazioni\nIl verbale di consegna\nLa sospensione della consegna dei lavori\nGli effetti della consegna\nL’anticipazione del prezzo \nDirezione dei lavori ed esecuzione del contratto\nGli strumenti per l’esercizio delle attività di direzione e controllo (ordini di servizio e verbali)\nMisure e contabilità\nLa revisione prezzi\nDL e modifiche contrattuali (varianti in corso d’opera)\nDL e sospensione dei lavori\nDL e disciplina dei subappalti e dei subcontratti\nDL e avvalimento\nRiserve e contenzioso in corso d’opera \nDirezione lavori e conclusione del contratto\nAccertamenti in contraddittorio con l’appaltatore\nUltimazione dei lavori e relativo certificato\nVerifica di conformità delle lavorazioni: certificato di regolare esecuzione e certificato di collaudo\nInadempimenti dell’appaltatore e risoluzione contrattuale: profili sostanziali e procedurali \n  \nAvv. Adriano Cavina\nP&I Studio Legale Guccione e Associati \n\n\n		\n	\nDocenti\n	\n		\n			Avv. Adriano Cavina \nAvvocato presso P&I Studio Legale Guccione e Associati\, ha pluriennale esperienza in materia di contratti pubblici; svolge attività in campo giudiziale e stragiudiziale in favore di diverse stazioni appaltanti e società private\, sia con riguardo alla fase di gara che alla successiva fase di esecuzione. \nCoordinatore scientifico e docente a contratto del Master TEMAP\, master universitario di II livello in Teoria e Management degli Appalti Pubblici\, presso la Libera Università Maria Ss. Assunta di Roma (Facoltà di Giurisprudenza). \nAutore di numerose pubblicazioni di carattere scientifico in materia di contratti pubblici. \n\n\n		\n	\nBrochure\n	\n		\n			 Scarica la brochure\n\n		\n	\nIscrizioni e Condizioni\n	\n		\n			Quota di partecipazione \nLa quota di partecipazione in aula virtuale (diretta streaming) include l’invio del materiale didattico in formato elettronico e la possibilità di sottoporre ai relatori quesiti di specifico interesse a mezzo chat. È altresì possibile anticipare domande e richieste di approfondimento inviando una e-mail a info@paradigma.it entro il giorno antecedente l’evento. \nIn caso di videoconferenza con accessi multipli è necessario contattare la Segreteria organizzativa per un preventivo personalizzato. \nModalità di funzionamento della videoconferenza \nE’ possibile accedere all’aula virtuale da qualsiasi luogo\, utilizzando il proprio PC o tablet con una semplice connessione a Internet. La piattaforma informatica utilizzata da Paradigma (Adobe Connect) non necessita di requisiti tecnici particolari. \nNei giorni antecedenti l’evento il partecipante riceverà per posta elettronica le credenziali e le istruzioni di accesso. Il giorno dell’evento sarà sufficiente selezionare il link che troverà nella mail e inserire le credenziali per accedere all’aula virtuale. \nDurante gli interventi\, oltre a vedere e sentire i docenti\, è possibile consultare simultaneamente la documentazione predisposta dal relatore. Ogni utente collegato potrà porre domande sulle tematiche affrontate a mezzo chat\, alle quali il docente risponderà nel corso dell’intervento. \nModalità di iscrizione \nL’iscrizione si perfeziona al momento del ricevimento del modulo di registrazione\, da inviare via e-mail all’indirizzo info@paradigma.it\, integralmente compilato. Il numero dei collegamenti disponibili è limitato e la priorità d’iscrizione è determinata dalla data di ricezione del modulo di registrazione. Si consiglia pertanto di effettuare una preiscrizione telefonica. \nModalità di pagamento \nLa quota di partecipazione deve essere versata all’atto della presentazione della richiesta di iscrizione e\, in ogni caso\, prima dell’effettuazione dell’evento formativo\, tramite bonifico bancario intestato a: \nParadigma Srl – Corso Vittorio Emanuele II\, 68 – 10121 Torino\nc/o Banco BPM Spa\nIBAN IT 14 V 05034 01017 000000002530 \nFormazione finanziata \nLa quota di partecipazione può essere completamente rimborsata tramite voucher promossi dai Fondi Paritetici Interprofessionali. Paradigma offre la completa e gratuita gestione delle spese di progettazione\, monitoraggio e rendicontazione. La possibilità di accedere alla formazione finanziata con partecipazione mediante videoconferenza può variare a seconda dell’Ente erogante. \nAttestato di frequenza \nL’attestato di partecipazione nominativo sarà inviato al termine dell’evento formativo ai partecipanti che si sono regolarmente collegati all’aula virtuale. \nDiritto di recesso e modalità di disdetta \nÈ attribuita ai partecipanti la facoltà di recedere ai sensi dell’art. 1373 c.c. Il recesso dovrà essere comunicato in forma scritta almeno sette giorni prima della data di inizio dell’evento formativo (escluso il sabato e la domenica). Qualora la disdetta pervenga oltre tale termine o si verifichi di fatto con il mancato collegamento alla videoconferenza\, la quota di partecipazione sarà addebitata per intero e sarà inviato al partecipante il materiale didattico. In qualunque momento l’azienda o lo studio potranno comunque sostituire il partecipante\, comunicando il nuovo nominativo alla nostra Segreteria organizzativa. \nVariazioni di programma \nParadigma\, per ragioni eccezionali e imprevedibili\, si riserva di annullare o modificare la data dell’evento formativo\, dandone comunicazione agli interessati entro tre giorni dalla data di inizio prevista. In tali casi le quote di partecipazione pervenute verranno rimborsate\, con esclusione di qualsivoglia onere o obbligo a carico di Paradigma. Paradigma si riserva inoltre\, per ragioni sopravvenute e per cause di forza maggiore\, di modificare l’articolazione del programma e di sostituire i docenti previsti con altri docenti di pari livello professionale. \nPer ulteriori informazioni è possibile contattare la Segreteria organizzativa al numero 011.538686 o all’indirizzo e-mail info@paradigma.it. \n\n\n		\n	\n\n\n	\n		\n			Quota di partecipazione\n	\n		\n			€ 650 + Iva\n\n		\n	\n\n	\n		\n			In caso di videoconferenza con accessi multipli è necessario contattare la Segreteria organizzativa per un preventivo personalizzato. \n\n		\n	\n\n\n		\n	\n\n	\n		\n			\n\n\n\n\n\n\n	\n		\n			Early booking -20%\nInviando il modulo di iscrizione entro il 26 ottobre si avrà diritto a una riduzione del 20% sulla quota di partecipazione. \n\n		\n	\n\n\n\n		\n	\n\n	\n		\n			\n\n		\n	\n\n	\n		\n			\n\n		\n	\n\n	\n		\n			\n\n\n\n\n\n\n	\n		\n			Progetto Giovani Eccellenze -50%\nL’adesione all’evento formativo permette di iscrivere una seconda risorsa\, che non abbia compiuto il 30° anno di età e proveniente dalla stessa organizzazione\, con una riduzione del 50% sulla seconda quota di partecipazione. L’agevolazione è calcolata sulla quota ordinaria. \n\n		\n	\n\n\n\n		\n	\n\n	\n		\n			\n\n\n\n\n\n\n	\n		\n			Formazione finanziata\nLa quota di partecipazione all’iniziativa può essere completamente rimborsata tramite voucher promossi dai Fondi Paritetici Interprofessionali. Paradigma offre la completa e gratuita gestione delle spese di progettazione\, monitoraggio e rendiconto. \n\n		\n	\n\n\n\n		\n	\n\n	\n		\n			\n\n\n\n\n\n\n	\n		\n			Mercati elettronici della PA\nParadigma opera sul MePA e sui principali mercati elettronici di soggetti aggregatori e centrali di committenza. \n\n		\n	\n\n\n\n		\n	\n\n	\n		\n			\n	\n\n\n	I campi con (*) sono obbligatori\n	\n		\n		Dati relativi all'evento\n		\n		\n			Partecipazione in aula\n			Partecipazione in videoconferenza\n		\n		\n\n		Dati relativi al richiedente\n		\n		\n		\n		\n		\n		\n		\n		\n\n	\n\n	\n\n		Dati per eventuale partecipante under 30\n		\n		\n		\n\n	\n\n	\n\n		Dati per la fatturazione elettronica\n		\n		\n		\n		\n		\n		\n				\n		\n		\n		  Split Payment:\n          \n            \n              \n              Si \n            No\n          \n        \n		\n		\n		\n		\n	\n\n	\n\n		Per informazioni contattare\n		\n		\n		\n		\n		\n	\n	L'iscrizione all'evento formativo si intende perfezionata al momento del ricevimento\, da parte di Paradigma Srl\, del presente modulo di registrazione compilato in ogni sua parte\, stampato\, firmato e inviato via e-mail all'indirizzo info@paradigma.it. Riceverete via email conferma dell'avvenuta iscrizione. \n\n\n		\n	     Acconsento all'invio di comunicazioni sui servizi Paradigma Srl - Consenso finalizzato\, anche con modalità automatizzate\, all'invio di comunicazioni relative a prodotti e servizi di Paradigma Srl e al fine di ricevere materiale informativo o promozionale.\n	\n	     Acconsento alla personalizzazione delle offerte - Consenso finalizzato\, mediante modalità automatizzate\, a personalizzare i servizi forniti e meglio indirizzare le proposte promozionali grazie ad attività di profilazione.\n	\n	Inviando i dati autorizzi Paradigma Srl a utilizzare i tuoi dati personali per evadere la richiesta di partecipazione all’evento formativo e svolgere le attività a ciò connesse. I dati potranno essere trattati\, per conto di Paradigma Srl\, da dipendenti e collaboratori incaricati di svolgere specifici servizi necessari all’esecuzione delle tue richieste. Il conferimento dei tuoi dati\, pur essendo facoltativo\, si rende necessario per l’esecuzione del servizio richiesto.	\n\n\n\n\n		\n\n\n\n\n\n		\n	\n[/vc_column][/vc_row]
URL:https://paradigma.it/iniziativa/il-direttore-dei-lavori-2/
CATEGORIES:Gare e Appalti
ORGANIZER;CN="Angela%20Siniscalchi":MAILTO:asiniscalchi@paradigma.it
END:VEVENT
END:VCALENDAR