BEGIN:VCALENDAR
VERSION:2.0
PRODID:-//Paradigma srl - ECPv5.2.1//NONSGML v1.0//EN
CALSCALE:GREGORIAN
METHOD:PUBLISH
X-WR-CALNAME:Paradigma srl
X-ORIGINAL-URL:https://paradigma.it
X-WR-CALDESC:Eventi per Paradigma srl
BEGIN:VTIMEZONE
TZID:Europe/Rome
BEGIN:DAYLIGHT
TZOFFSETFROM:+0100
TZOFFSETTO:+0200
TZNAME:CEST
DTSTART:20250330T010000
END:DAYLIGHT
BEGIN:STANDARD
TZOFFSETFROM:+0200
TZOFFSETTO:+0100
TZNAME:CET
DTSTART:20251026T010000
END:STANDARD
END:VTIMEZONE
BEGIN:VEVENT
DTSTART;TZID=Europe/Rome:20250611T110000
DTEND;TZID=Europe/Rome:20250611T130000
DTSTAMP:20260421T130008
CREATED:20250516T133120Z
LAST-MODIFIED:20250609T103136Z
UID:23168-1749639600-1749646800@paradigma.it
SUMMARY:Il corretto utilizzo delle firme elettroniche
DESCRIPTION:[vc_row][vc_column]\n	\n		\n			\n		\n	\n\n	\n		\n			Nozioni di base e principali criticità nella prassi operativa \nLa partecipazione al webinar è a titolo gratuito. E’ necessario formalizzare l’iscrizione compilando il modulo di registrazione e inviandolo all’indirizzo email info@paradigma.it entro il 3 giugno pv. \n \n\n		\n	\n\n	\n		\n			11.00 – 13.00 \n\n		\n	\n\n	\n		\n			Evento in diretta streaming \n\n		\n	\n\n	\n		\n			 \n\n		\n	\n\n	\n		\n			\n\n		\n	\nPresentazioneProgrammaDocentiBrochureIscrizioni e CondizioniPresentazione\n	\n		\n			Contenuti dell’evento \nNel corso del webinar saranno analizzate\, anche con un approccio operativo e orientato all’analisi di casi pratici\, le principali questioni giuridiche e le più diffuse criticità connesse all’utilizzo delle varie tipologie di firma elettronica. \nDestinatari dell’evento \nL’evento formativo è rivolto ai Responsabili della Compliance e del Servizio Legale\, ai Responsabili dei Sistemi Informativi\, ai Responsabili dell’Organizzazione\, Avvocati e Consulenti. \nObiettivi dell’evento \nObiettivo dell’incontro è fornire ai partecipanti un quadro generale sul corretto utilizzo delle firme elettroniche\, evidenziando le principali criticità emerse nella prassi operativa \n\n\n		\n	\nProgramma\n	\n		\n			Mercoledì 11 giugno 2025\n(11.00 – 13.00) \n  \nFIRME ELETTRONICHE\, IDENTIFICAZIONE A DISTANZA E IDENTITÀ DIGITALE \n  \nLa definizione delle firme informatiche\, caratteristiche e modalità di sottoscrizione\nLa firma digitale\nLa firma elettronica qualificata\nLa firma elettronica avanzata\nLa firma grafometrica\nLa firma elettronica semplice\nDisciplina\, principali differenze e applicazioni concrete \nGli effetti giuridici delle firme informatiche e le questioni giuridiche connesse \nIl documento informatico e la sua efficacia probatoria\nL’orientamento giurisprudenziale\nLa qualificazione dei messaggi di posta elettronica e di WhatsApp \nL’utilizzo della firma digitale e la disciplina delle deleghe \nLa normativa di riferimento \nLa conservazione e il Regolamento eIDAS \n  \nDott.ssa Patrizia Sormani\nPSC – Patrizia Sormani Consulting\nANORC Mercato \n\n\n		\n	\nDocenti\n	\n		\n			Dott.ssa Patrizia Sormani\nExpert Digital Manager\nPSC – Patrizia Sormani Consulting\nPresidente ANORC Mercato \n\n\n		\n	\nBrochure\n	\n		\n			 Scarica la brochure\n\n		\n	\nIscrizioni e Condizioni\n	\n		\n			Modalità di iscrizione \nLa partecipazione al webinar è a titolo gratuito. \nE’ necessario formalizzare l’iscrizione compilando il modulo di registrazione e inviandolo all’indirizzo info@paradigma.it entro il 3 giugno pv. \nModalità di funzionamento della videoconferenza \nE’ possibile accedere all’aula virtuale da qualsiasi luogo\, utilizzando il proprio PC o tablet con una semplice connessione a Internet. La piattaforma informatica utilizzata da Paradigma non necessita di requisiti tecnici particolari. \nNei giorni antecedenti l’evento il partecipante riceverà per posta elettronica le istruzioni di accesso. Il giorno dell’evento sarà sufficiente selezionare il link che troverà nella mail per accedere all’aula virtuale. \nDurante gli interventi\, oltre a vedere e sentire i docenti\, è possibile consultare simultaneamente la documentazione predisposta dal relatore. \nModalità di iscrizione \nL’iscrizione si perfeziona al momento del ricevimento del modulo di registrazione\, da inviare via e-mail all’indirizzo info@paradigma.it\, integralmente compilato e sottoscritto. Il numero dei collegamenti disponibili è limitato e la priorità d’iscrizione è determinata dalla data di ricezione del modulo di registrazione. \nVariazioni di programma \nParadigma\, per ragioni eccezionali e imprevedibili\, si riserva di annullare o modificare la data dell’evento formativo\, dandone comunicazione agli interessati entro tre giorni dalla data di inizio prevista. Paradigma si riserva inoltre\, per ragioni sopravvenute e per cause di forza maggiore\, di modificare l’articolazione del programma e di sostituire i docenti previsti con altri docenti di pari livello professionale. \nPer ulteriori informazioni è possibile contattare la Segreteria Organizzativa al numero 011.538686 o all’indirizzo e-mail info@paradigma.it. \n\n\n		\n	\n\n\n	\n		\n			Quota di partecipazione\n	\n		\n			La partecipazione al webinar è a titolo gratuito\n\n		\n	\n\n	\n		\n			In caso di videoconferenza con accessi multipli è necessario contattare la Segreteria organizzativa per un preventivo personalizzato. \n\n		\n	\n\n\n		\n	\n\n	\n		\n			\n\n		\n	\n\n	\n		\n			\n\n		\n	\n\n	\n		\n			\n\n		\n	\n\n	\n		\n			\n\n		\n	\n\n	\n		\n			\n\n		\n	\n\n	\n		\n			\n\n		\n	\n\n	\n		\n			\n	\n\n\n	I campi con (*) sono obbligatori\n	\n		\n		Dati relativi all'evento\n		\n		\n			Partecipazione in aula\n			Partecipazione in videoconferenza\n		\n		\n\n		Dati relativi al richiedente\n		\n		\n		\n		\n		\n		\n		\n		\n\n	\n\n	\n\n		Dati per eventuale partecipante under 30\n		\n		\n		\n\n	\n\n	\n\n		Dati per la fatturazione elettronica\n		\n		\n		\n		\n		\n		\n				\n		\n		\n		  Split Payment:\n          \n            \n              \n              Si \n            No\n          \n        \n		\n		\n		\n		\n	\n\n	\n\n		Per informazioni contattare\n		\n		\n		\n		\n		\n	\n	L'iscrizione all'evento formativo si intende perfezionata al momento del ricevimento\, da parte di Paradigma Srl\, del presente modulo di registrazione compilato in ogni sua parte\, stampato\, firmato e inviato via e-mail all'indirizzo info@paradigma.it. Riceverete via email conferma dell'avvenuta iscrizione. \n\n\n		\n	     Acconsento all'invio di comunicazioni sui servizi Paradigma Srl - Consenso finalizzato\, anche con modalità automatizzate\, all'invio di comunicazioni relative a prodotti e servizi di Paradigma Srl e al fine di ricevere materiale informativo o promozionale.\n	\n	     Acconsento alla personalizzazione delle offerte - Consenso finalizzato\, mediante modalità automatizzate\, a personalizzare i servizi forniti e meglio indirizzare le proposte promozionali grazie ad attività di profilazione.\n	\n	Inviando i dati autorizzi Paradigma Srl a utilizzare i tuoi dati personali per evadere la richiesta di partecipazione all’evento formativo e svolgere le attività a ciò connesse. I dati potranno essere trattati\, per conto di Paradigma Srl\, da dipendenti e collaboratori incaricati di svolgere specifici servizi necessari all’esecuzione delle tue richieste. Il conferimento dei tuoi dati\, pur essendo facoltativo\, si rende necessario per l’esecuzione del servizio richiesto.	\n\n\n\n\n		\n\n\n\n\n\n		\n	\n[/vc_column][/vc_row]
URL:https://paradigma.it/iniziativa/il-corretto-utilizzo-delle-firme-elettroniche/
CATEGORIES:Digitalizzazione
ORGANIZER;CN="Veronica%20Spiez":MAILTO:vspiez@paradigma.it
END:VEVENT
END:VCALENDAR