BEGIN:VCALENDAR
VERSION:2.0
PRODID:-//Paradigma srl - ECPv5.2.1//NONSGML v1.0//EN
CALSCALE:GREGORIAN
METHOD:PUBLISH
X-WR-CALNAME:Paradigma srl
X-ORIGINAL-URL:https://paradigma.it
X-WR-CALDESC:Eventi per Paradigma srl
BEGIN:VTIMEZONE
TZID:Europe/Rome
BEGIN:DAYLIGHT
TZOFFSETFROM:+0100
TZOFFSETTO:+0200
TZNAME:CEST
DTSTART:20220327T010000
END:DAYLIGHT
BEGIN:STANDARD
TZOFFSETFROM:+0200
TZOFFSETTO:+0100
TZNAME:CET
DTSTART:20221030T010000
END:STANDARD
END:VTIMEZONE
BEGIN:VEVENT
DTSTART;TZID=Europe/Rome:20220411T093000
DTEND;TZID=Europe/Rome:20220411T163000
DTSTAMP:20260421T150649
CREATED:20220316T110940Z
LAST-MODIFIED:20220407T105118Z
UID:15041-1649669400-1649694600@paradigma.it
SUMMARY:Il Collegio Consultivo Tecnico  alla luce delle Linee Guida MIMS
DESCRIPTION:[vc_row][vc_column]\n	\n		\n			\n		\n	\n\n	\n		\n			\nDecreto 17 gennaio 2022 e relativo allegato\nDecreto 1 febbraio 2022 n. 23 istitutivo dell’Osservatorio sui CCT\n\nI docenti\, nel corso del Webinar\, risponderanno alle domande e alle richieste di chiarimenti formulate dai partecipanti. Eventuali quesiti potranno essere anticipati inviando una email all’indirizzo info@paradigma.it \n \n\n		\n	\n\n	\n		\n			Evento in videoconferenza \n\n		\n	\n\n	\n		\n			11 aprile 2022 \n\n		\n	\n\n	\n		\n			 \n\n		\n	\n\n	\n		\n			\n\n		\n	\nPresentazioneProgrammaDocentiBrochureIscrizioni e CondizioniPresentazione\n	\n		\n			Contenuti dell’evento \nNel corso del workshop verrà effettuata un’ampia e articolata trattazione delle Linee Guida MIMS sul Collegio Consultivo Tecnico\, le quali\, ai sensi dell’art. 6 del D.L. n.76/2020\, ne prevedono la costituzione obbligatoria con riferimento alle fattispecie di affidamenti di lavori di ammontare superiore alla soglia comunitaria\, compresi i lavori di manutenzione straordinaria e i contratti misti (relativamente alla componente di lavori che supera la soglia comunitaria)\, i contratti stipulati attraverso accordi quadro\, i lotti di importo pari o superiore alle soglie di comunitarie. \nLe stazioni appaltanti sono inoltre facoltizzate ad adottare tale organo già nella fase precedente l’esecuzione\, per ottenere pareri tecnici sulla scelta dell’iter di gara e su bando ed elaborati contrattuali. Le Linee Guida ministeriali raccomandano inoltre la costituzione del Collegio ante operam per le opere finanziate con risorse PNRR e PNC. \nSarà inoltre esaminato il contenuto del Decreto n. 23/2022\, istitutivo dell’Osservatorio permanente per il monitoraggio delle attività dei Collegi Consultivi Tecnici. Tra le attività di quest’organo\, la tenuta di un elenco dei soggetti esperti idonei ad essere nominati presidenti dei CCT e il compito di garantire l’accesso ai dati in proprio possesso da parte dei soggetti interessati ex L. n. 241/1990\, nonchè l’accesso civico ex D. Lgs. n. 33/2013. \nDestinatari dell’evento \nL’evento formativo è rivolto ai Responsabili Gare e agli Uffici Legali\, Compliance e Acquisti degli operatori economici; a tutte le stazioni appaltanti e in particolare ai loro Uffici Gare\, Appalti e Approvvigionamenti\, nonché ai loro Uffici Tecnici; a tutti i professionisti e consulenti che operano nell’ambito delle procedure a evidenza pubblica e a quanti\, più in generale\, abbisognano di un approfondimento mirato sulle tematiche oggetto del convegno. \nObiettivi dell’evento \nObiettivo dell’incontro è fornire alle stazioni appaltanti e agli operatori economici\, in particolar modo quelli attivi nel settore dei lavori pubblici\, un quadro il più possibile dettagliato ed esaustivo dell’operatività del Collegio Consultivo Tecnico\, dedicando adeguata attenzione a tutti le questioni che potrebbero essere foriere di incertezze applicative o altre criticità. \n\n\n		\n	\nProgramma\n	\n		\n			Lunedì 11 aprile 2022 \nAmbito di operatività\, casi di obbligatorietà e di facoltatività della costituzione del Collegio Consultivo Tecnico\nAmbito soggettivo\nAmbito oggettivo\nObbligatorietà e facoltatività\nRapporti tra CCT ante operam e in fase di esecuzione \nLa costituzione del Collegio\nLa scelta dei componenti e del Presidente (e la titolarità del relativo potere)\nI requisiti soggettivi\nLe incompatibilità\nLa durata nella carica\nInottemperanza dei termini di costituzione \nAvv. Daniela Anselmi\nAnselmi & Associati Law Lab \n  \nInsediamento\, funzioni\, competenze\nLa funzione consultiva: i pareri del CCT\nLa natura di lodo contrattuale delle decisioni del Collegio in determinati ambiti\nCondizioni affinchè il CCT possa operare come collegio arbitrale ai sensi e per gli effetti dell’art. 808-ter CPC\nDocumenti da fornire al CCT (e poteri sostitutivi)\nTempi per le determinazioni del CCT\nCTT e soggetti dell’esecuzione contrattuale: rapporti e cooperazione\nI pareri obbligatori non vincolanti del CCT e le competenze decisionali di RUP e stazione appaltante in materia di sospensioni e risoluzione del contratto\nIn quali casi le determinazioni del CCT assumono carattere dispositivo\nLe determinazioni del CCT facoltativo \nProf. Avv. Mariano Protto\nUniversità di Torino \n  \nIl CCT nel quadro delle ADR sull’esecuzione dell’appalto\nIl CCT tra prima versione del Codice dei Contratti Pubblici e sua reintroduzione (2020): confronto con il modello del Dispute Board dei contratti d’appalto internazionali\nCCT\, accordo bonario\, transazione: pro e contro di ciascuna modalità di risoluzione delle controversie \nProf. Avv. Alessandro Botto\nLUISS Guido Carli \n  \nGli oneri di funzionamento del CCT\nDeterminazione e liquidazione del compenso \nIl ruolo dell’Osservatorio e la trasmissione dei dati \nLe responsabilità del CCT\, anche alla luce degli orientamenti giurisprudenziali maturati in relazione alle responsabilità di altri soggetti della fase esecutiva \nProf. Avv. Fabio G. Angelini\nUniversità Uninettuno di Roma \n  \nLABORATORIO\nIndicazioni operative e casi pratici inerenti le attività del Collegio Consultivo Tecnico \nAvv. Adriano Cavina\nP&I – Studio Legale Guccione e Associati \n\n\n		\n	\nDocenti\n	\n		\n			Prof. Avv. Fabio G. Angelini\nStraordinario di Diritto Amministrativo\nUniversità Uninettuno di Roma\nLipani Catricalà & Partners – LC&P \nDott. Avv. Daniela Anselmi\nAnselmi & Associati Law Lab \nProf. Avv. Alessandro Botto\nDocente di Diritto dei Contratti Pubblici\nLUISS Guido Carli di Roma\nLegance Avvocati Associati \nAvv. Adriano Cavina\nP&I – Studio Legale Guccione e Associati \nProf. Avv. Mariano Protto\nOrdinario di Diritto Amministrativo\nUniversità di Torino \n\n\n		\n	\nBrochure\n	\n		\n			 Scarica la brochure\n\n		\n	\nIscrizioni e Condizioni\n	\n		\n			Quota di partecipazione \nLa quota di partecipazione in aula virtuale (diretta streaming) include la consegna del materiale didattico in formato elettronico e la possibilità di sottoporre ai relatori quesiti di specifico interesse a mezzo chat. E’ altresì possibile anticipare domande e richieste di approfondimento inviando una email a info@paradigma.it entro il giorno antecedente l’evento. \nIn caso di videoconferenza con accessi multipli è necessario contattare la Segreteria organizzativa per un preventivo personalizzato. \nModalità di funzionamento della videoconferenza \nE’ possibile accedere all’aula virtuale da qualsiasi luogo\, utilizzando il proprio PC o tablet con una semplice connessione a Internet. La piattaforma informatica utilizzata da Paradigma (Adobe Connect) non necessita di requisiti tecnici particolari. \nNei giorni antecedenti l’evento il partecipante riceverà per posta elettronica le credenziali e le istruzioni di accesso. Il giorno dell’evento sarà sufficiente selezionare il link che troverà nella mail e inserire le credenziali per accedere all’aula virtuale. \nDurante gli interventi\, oltre a vedere e sentire i docenti\, è possibile consultare simultaneamente la documentazione predisposta dal relatore. Ogni utente collegato potrà porre domande sulle tematiche affrontate a mezzo chat\, alle quali il docente risponderà nel corso dell’intervento. \nModalità di iscrizione \nL’iscrizione si perfeziona al momento del ricevimento del modulo di registrazione\, da inviare via email all’indirizzo info@paradigma.it\, integralmente compilato. Il numero dei collegamenti disponibili è limitato e la priorità d’iscrizione è determinata dalla data di ricezione del modulo di registrazione. Si consiglia pertanto di effettuare una preiscrizione telefonica. \nModalità di pagamento \nLa quota di partecipazione deve essere versata all’atto della presentazione della richiesta di iscrizione e\, in ogni caso\, prima dell’effettuazione dell’intervento formativo\, tramite bonifico bancario intestato a: \nParadigma Srl – Corso Vittorio Emanuele II\, 68 – 10121 Torino\nc/o Banco BPM Spa\nIBAN IT14V0503401017000000002530 \nFormazione finanziata \nLa quota di partecipazione può essere completamente rimborsata tramite voucher promossi dai Fondi Paritetici Interprofessionali. Paradigma offre la completa e gratuita gestione delle spese di progettazione\, monitoraggio e rendicontazione. La possibilità di accedere alla formazione finanziata con partecipazione mediante videoconferenza può variare a seconda dell’Ente erogante. \nAttestato di frequenza \nL’attestato di partecipazione nominativo sarà inviato al termine dell’intervento formativo ai partecipanti che si sono regolarmente collegati all’aula virtuale. \nDiritto di recesso e modalità di disdetta \nE´ attribuita ai partecipanti la facoltà di recedere ai sensi dell’art. 1373 c.c. Il recesso dovrà essere comunicato in forma scritta almeno sette giorni prima della data di inizio dell’evento formativo (escluso il sabato e la domenica). Qualora la disdetta pervenga oltre tale termine o si verifichi di fatto con il mancato collegamento alla videoconferenza\, la quota di partecipazione sarà addebitata per intero e sarà inviato al partecipante il materiale didattico. In qualunque momento l’azienda o lo studio potranno comunque sostituire il partecipante\, comunicando il nuovo nominativo alla nostra Segreteria organizzativa. \nVariazioni di programma \nParadigma\, per ragioni eccezionali e imprevedibili\, si riserva di annullare o modificare la data dell’intervento formativo\, dandone comunicazione agli interessati entro tre giorni dalla data di inizio prevista. In tali casi le quote di partecipazione pervenute verranno rimborsate\, con esclusione di qualsivoglia onere o obbligo a carico di Paradigma. Paradigma si riserva inoltre\, per ragioni sopravvenute e per cause di forza maggiore\, di modificare l’articolazione del programma e di sostituire i docenti previsti con altri docenti di pari livello professionale. \nPer ulteriori informazioni è possibile contattare la Segreteria organizzativa al numero 011.538686 o all’indirizzo email info@paradigma.it. \n\n\n		\n	\n\n\n	\n		\n			Quota di partecipazione\n	\n		\n			€ 1.100 + Iva\n\n		\n	\n\n	\n		\n			In caso di videoconferenza con accessi multipli è necessario contattare la Segreteria organizzativa per un preventivo personalizzato. \n\n		\n	\n\n\n		\n	\n\n	\n		\n			\n\n\n\n\n\n\n	\n		\n			Early booking -20%\nInviando il modulo di iscrizione entro il 21 marzo si avrà diritto a una riduzione del 20% sulla quota di partecipazione.\n \n\n		\n	\n\n\n\n		\n	\n\n	\n		\n			\n\n		\n	\n\n	\n		\n			\n\n		\n	\n\n	\n		\n			\n\n\n\n\n\n\n	\n		\n			Progetto Giovani Eccellenze -50%\nL’adesione all’evento formativo permette di iscrivere una seconda risorsa\, che non abbia compiuto il 30° anno di età e proveniente dalla stessa organizzazione\, con una riduzione del 50% sulla seconda quota di partecipazione. L’agevolazione è calcolata sulla quota ordinaria. \n\n		\n	\n\n\n\n		\n	\n\n	\n		\n			\n\n\n\n\n\n\n	\n		\n			Formazione finanziata\nLa quota di partecipazione all’iniziativa può essere completamente rimborsata tramite voucher promossi dai Fondi Paritetici Interprofessionali. Paradigma offre la completa e gratuita gestione delle spese di progettazione\, monitoraggio e rendiconto. \n\n		\n	\n\n\n\n		\n	\n\n	\n		\n			\n\n\n\n\n\n\n	\n		\n			Mercati elettronici della PA\nParadigma opera sul MePA e sui principali mercati elettronici di soggetti aggregatori e centrali di committenza. \n\n		\n	\n\n\n\n		\n	\n\n	\n		\n			\n	\n\n\n	I campi con (*) sono obbligatori\n	\n		\n		Dati relativi all'evento\n		\n		\n			Partecipazione in aula\n			Partecipazione in videoconferenza\n		\n		\n\n		Dati relativi al richiedente\n		\n		\n		\n		\n		\n		\n		\n		\n\n	\n\n	\n\n		Dati per eventuale partecipante under 30\n		\n		\n		\n\n	\n\n	\n\n		Dati per la fatturazione elettronica\n		\n		\n		\n		\n		\n		\n				\n		\n		\n		  Split Payment:\n          \n            \n              \n              Si \n            No\n          \n        \n		\n		\n		\n		\n	\n\n	\n\n		Per informazioni contattare\n		\n		\n		\n		\n		\n	\n	L'iscrizione all'evento formativo si intende perfezionata al momento del ricevimento\, da parte di Paradigma Srl\, del presente modulo di registrazione compilato in ogni sua parte\, stampato\, firmato e inviato via e-mail all'indirizzo info@paradigma.it. Riceverete via email conferma dell'avvenuta iscrizione. \n\n\n		\n	     Acconsento all'invio di comunicazioni sui servizi Paradigma Srl - Consenso finalizzato\, anche con modalità automatizzate\, all'invio di comunicazioni relative a prodotti e servizi di Paradigma Srl e al fine di ricevere materiale informativo o promozionale.\n	\n	     Acconsento alla personalizzazione delle offerte - Consenso finalizzato\, mediante modalità automatizzate\, a personalizzare i servizi forniti e meglio indirizzare le proposte promozionali grazie ad attività di profilazione.\n	\n	Inviando i dati autorizzi Paradigma Srl a utilizzare i tuoi dati personali per evadere la richiesta di partecipazione all’evento formativo e svolgere le attività a ciò connesse. I dati potranno essere trattati\, per conto di Paradigma Srl\, da dipendenti e collaboratori incaricati di svolgere specifici servizi necessari all’esecuzione delle tue richieste. Il conferimento dei tuoi dati\, pur essendo facoltativo\, si rende necessario per l’esecuzione del servizio richiesto.	\n\n\n\n\n		\n\n\n\n\n\n		\n	\n[/vc_column][/vc_row]
URL:https://paradigma.it/iniziativa/il-collegio-consultivo-tecnico-alla-luce-delle-linee-guida-mims/
CATEGORIES:Gare e Appalti
ORGANIZER;CN="Veronica%20Spiez":MAILTO:vspiez@paradigma.it
END:VEVENT
END:VCALENDAR