BEGIN:VCALENDAR
VERSION:2.0
PRODID:-//Paradigma srl - ECPv5.2.1//NONSGML v1.0//EN
CALSCALE:GREGORIAN
METHOD:PUBLISH
X-WR-CALNAME:Paradigma srl
X-ORIGINAL-URL:https://paradigma.it
X-WR-CALDESC:Eventi per Paradigma srl
BEGIN:VTIMEZONE
TZID:Europe/Rome
BEGIN:DAYLIGHT
TZOFFSETFROM:+0100
TZOFFSETTO:+0200
TZNAME:CEST
DTSTART:20240331T010000
END:DAYLIGHT
BEGIN:STANDARD
TZOFFSETFROM:+0200
TZOFFSETTO:+0100
TZNAME:CET
DTSTART:20241027T010000
END:STANDARD
END:VTIMEZONE
BEGIN:VEVENT
DTSTART;TZID=Europe/Rome:20240509T093000
DTEND;TZID=Europe/Rome:20240509T133000
DTSTAMP:20260421T140916
CREATED:20240322T150023Z
LAST-MODIFIED:20240507T121056Z
UID:20217-1715247000-1715261400@paradigma.it
SUMMARY:Il Codice di condotta per telemarketing e teleselling
DESCRIPTION:[vc_row][vc_column]\n	\n		\n			\n		\n	\n\n	\n		\n			\nNatura giuridica del Codice e rapporto con il GDPR\nAdempimenti e obblighi previsti\nRuolo dell’Organismo di monitoraggio e sistema sanzionatorio\nImpatto sui contratti di esternalizzazione\n\nI docenti\, nel corso dell’evento formativo\, risponderanno alle domande e alle richieste di chiarimenti formulate dai partecipanti. Eventuali quesiti potranno essere anticipati inviando una email all’indirizzo info@paradigma.it \n \n\n		\n	\n\n	\n		\n			Evento in videoconferenza \n\n		\n	\n\n	\n		\n			9 maggio 2024 \n\n		\n	\n\n	\n		\n			 \n\n		\n	\n\n	\n		\n			\n\n		\n	\nPresentazioneProgrammaDocentiBrochureIscrizioni e CondizioniPresentazione\n	\n		\n			Contenuti dell’evento \nNel corso del webinar verrà effettuata una disamina dei contenuti di una delle principali innovazioni degli ultimi anni per l’ambito del telemarketing e del teleselling\, e cioè il Codice di condotta promosso da associazioni di committenti\, call center\, teleseller\, list provider e associazioni di consumatori. \nAd un anno di distanza dal provvedimento del 9 marzo 2023\, n. 70 con il quale il Garante Privacy aveva approvato tale Codice\, subordinandone tuttavia l’efficacia all’accreditamento dell’Organismo di monitoraggio preposto a verificarne il rispetto\, la stessa Autorità\, alla luce della richiesta formale di accreditamento dell’Odm da parte delle associazioni proponenti\, formulata il 13 ottobre 2023\, ha da poco accreditato (con provvedimento del 7 marzo 2024) tale organismo. Pertanto\, si è così completato l’iter per la piena applicazione del Codice\, che acquisterà piena efficacia dal giorno successivo alla sua pubblicazione nella Gazzetta Ufficiale. \nL’approfondimento prenderà le mosse dalla cornice normativa data protection di rango primario applicabile alle attività anzidette\, per poi concentrarsi sulle degenerazioni applicative del telemarketing e sulle problematiche giuridiche antecedenti all’adozione del Codice e\, a seguire\, trattando diffusamente i profili più significativi che caratterizzano il nuovo strumento di regolazione degli operatori del settore. \nDestinatari dell’evento \nL’evento formativo è rivolto ai Responsabili Legali\, ai DPO\, ai Responsabili e agli incaricati Data Protection delle aziende di call center\, nonché alle medesime figure professionali operanti presso le aziende committenti\, unitamente ai Responsabili Marketing e ai Responsabili Customer Care presenti all’interno di queste ultime. \nObiettivi dell’evento \nObiettivo dell’incontro è fornire ai partecipanti un quadro complessivo dei principali impatti del codice di condotta per telemarketing e teleselling\, segnalando gli adempimenti che dovranno conseguirne\, il ruolo dell’Organismo di monitoraggio e le tipologie di sanzioni previste. \n\n\n		\n	\nProgramma\n	\n		\n			Giovedì 9 maggio 2024 \nLa normativa privacy di riferimento per l’attività di telemarketing e teleselling\nIl trattamento dei dati personali svolto dai call center: i principi generali alla luce del Codice della privacy e del Regolamento Generale UE sulla protezione dei dati\nInformativa e consensi: modalità di resa e di documentazione\nI diritti degli interessati\nLa gestione dei database: conservazione dei dati\, tempistica e misure di sicurezza \nIl telemarketing illegale: caratteristiche e vicende applicative\nLa definizione di telemarketing illegale\nOrigini e cause delle prassi contra legem\nLe azioni di contrasto avviate dall’Autorità Garante per la Protezione dei Dati Personali\nIl registro pubblico delle opposizioni\nIl funzionamento del mercato illegale di dati\nL’apparato sanzionatorio previsto dal legislatore\nL’insufficienza dei rimedi sanzionatori e la necessità di un diverso meccanismo di orientamento delle condotte \nIl Codice di condotta in materia di telemarketing e teleselling \nI codici di condotta come peculiari fonti di regolazione\nL’elaborazione e l’approvazione del Codice di condotta sul telemarketing\nDefinizioni e ambito di applicazione\nI soggetti coinvolti\nGli impegni della filiera\nI contenuti più innovativi\nLe agevolazioni e le sanzioni\nL’Organismo di monitoraggio\nIl funzionamento\, a regime\, del microsistema \nL’esternalizzazione dell’attività di telemarketing e teleselling\nRuoli data protection in rilievo\nLe clausole sostanziali e processuali da prevedere\nI requisiti formativi\, sotto il profilo data protection\, delle figure professionali preposte allo svolgimento delle prestazioni e il grado di diligenza esigibile\nIl monitoraggio dell’impresa committente sulle attività esternalizzate \n  \nDott. Riccardo Acciai\nGarante per la Protezione dei Dati Personali \nAvv. Rocco Panetta\nPanetta & Associati \n\n\n		\n	\nDocenti\n	\n		\n			Dott. Riccardo Acciai\nDirettore\nServizio Relazioni internazionali e con l’UE\ngià Direttore\nDipartimento Reti Telematiche e Marketing\nGarante per la Protezione dei Dati Personali \nAvv. Rocco Panetta\nManaging Partner\nPanetta & Associati\nIAPP Country Leader Italia \n\n\n		\n	\nBrochure\n	\n		\n			 Scarica la brochure\n\n		\n	\nIscrizioni e Condizioni\n	\n		\n			Quota di partecipazione \nLa quota di partecipazione in aula virtuale (diretta streaming) include l’invio del materiale didattico in formato elettronico e la possibilità di sottoporre ai relatori quesiti di specifico interesse a mezzo chat. È altresì possibile anticipare domande e richieste di approfondimento inviando una e-mail a info@paradigma.it entro il giorno antecedente l’evento. \nIn caso di videoconferenza con accessi multipli è necessario contattare la Segreteria organizzativa per un preventivo personalizzato. \nModalità di funzionamento della videoconferenza \nE’ possibile accedere all’aula virtuale da qualsiasi luogo\, utilizzando il proprio PC o tablet con una semplice connessione a Internet. La piattaforma informatica utilizzata da Paradigma (Adobe Connect) non necessita di requisiti tecnici particolari. \nNei giorni antecedenti l’evento il partecipante riceverà per posta elettronica le credenziali e le istruzioni di accesso. Il giorno dell’evento sarà sufficiente selezionare il link che troverà nella mail e inserire le credenziali per accedere all’aula virtuale. \nDurante gli interventi\, oltre a vedere e sentire i docenti\, è possibile consultare simultaneamente la documentazione predisposta dal relatore. Ogni utente collegato potrà porre domande sulle tematiche affrontate a mezzo chat\, alle quali il docente risponderà nel corso dell’intervento. \nModalità di iscrizione \nL’iscrizione si perfeziona al momento del ricevimento del modulo di registrazione\, da inviare via e-mail all’indirizzo info@paradigma.it\, integralmente compilato. Il numero dei collegamenti disponibili è limitato e la priorità d’iscrizione è determinata dalla data di ricezione del modulo di registrazione. Si consiglia pertanto di effettuare una preiscrizione telefonica. \nModalità di pagamento \nLa quota di partecipazione deve essere versata all’atto della presentazione della richiesta di iscrizione e\, in ogni caso\, prima dell’effettuazione dell’evento formativo\, tramite bonifico bancario intestato a: \nParadigma Srl – Corso Vittorio Emanuele II\, 68 – 10121 Torino\nc/o Banco BPM Spa\nIBAN IT 14 V 05034 01017 000000002530 \nFormazione finanziata \nLa quota di partecipazione può essere completamente rimborsata tramite voucher promossi dai Fondi Paritetici Interprofessionali. Paradigma offre la completa e gratuita gestione delle spese di progettazione\, monitoraggio e rendicontazione. La possibilità di accedere alla formazione finanziata con partecipazione mediante videoconferenza può variare a seconda dell’Ente erogante. \nAttestato di frequenza \nL’attestato di partecipazione nominativo sarà inviato al termine dell’evento formativo ai partecipanti che si sono regolarmente collegati all’aula virtuale. \nDiritto di recesso e modalità di disdetta \nÈ attribuita ai partecipanti la facoltà di recedere ai sensi dell’art. 1373 c.c. Il recesso dovrà essere comunicato in forma scritta almeno sette giorni prima della data di inizio dell’evento formativo (escluso il sabato e la domenica). Qualora la disdetta pervenga oltre tale termine o si verifichi di fatto con il mancato collegamento alla videoconferenza\, la quota di partecipazione sarà addebitata per intero e sarà inviato al partecipante il materiale didattico. In qualunque momento l’azienda o lo studio potranno comunque sostituire il partecipante\, comunicando il nuovo nominativo alla nostra Segreteria organizzativa. \nVariazioni di programma \nParadigma\, per ragioni eccezionali e imprevedibili\, si riserva di annullare o modificare la data dell’evento formativo\, dandone comunicazione agli interessati entro tre giorni dalla data di inizio prevista. In tali casi le quote di partecipazione pervenute verranno rimborsate\, con esclusione di qualsivoglia onere o obbligo a carico di Paradigma. Paradigma si riserva inoltre\, per ragioni sopravvenute e per cause di forza maggiore\, di modificare l’articolazione del programma e di sostituire i docenti previsti con altri docenti di pari livello professionale. \nPer ulteriori informazioni è possibile contattare la Segreteria organizzativa al numero 011.538686 o all’indirizzo e-mail info@paradigma.it. \n\n\n		\n	\n\n\n	\n		\n			Quota di partecipazione\n	\n		\n			€ 650 + Iva\n\n		\n	\n\n	\n		\n			In caso di videoconferenza con accessi multipli è necessario contattare la Segreteria organizzativa per un preventivo personalizzato. \n\n		\n	\n\n\n		\n	\n\n	\n		\n			\n\n\n\n\n\n\n	\n		\n			Early booking -20%\nInviando il modulo di iscrizione entro il 18 aprile si avrà diritto a una riduzione del 20% sulla quota di partecipazione. \n\n		\n	\n\n\n\n		\n	\n\n	\n		\n			\n\n		\n	\n\n	\n		\n			\n\n		\n	\n\n	\n		\n			\n\n\n\n\n\n\n	\n		\n			Progetto Giovani Eccellenze -50%\nL’adesione all’evento formativo permette di iscrivere una seconda risorsa\, che non abbia compiuto il 30° anno di età e proveniente dalla stessa organizzazione\, con una riduzione del 50% sulla seconda quota di partecipazione. L’agevolazione è calcolata sulla quota ordinaria. \n\n		\n	\n\n\n\n		\n	\n\n	\n		\n			\n\n\n\n\n\n\n	\n		\n			Formazione finanziata\nLa quota di partecipazione all’iniziativa può essere completamente rimborsata tramite voucher promossi dai Fondi Paritetici Interprofessionali. Paradigma offre la completa e gratuita gestione delle spese di progettazione\, monitoraggio e rendiconto. \n\n		\n	\n\n\n\n		\n	\n\n	\n		\n			\n\n\n\n\n\n\n	\n		\n			Mercati elettronici della PA\nParadigma opera sul MePA e sui principali mercati elettronici di soggetti aggregatori e centrali di committenza. \n\n		\n	\n\n\n\n		\n	\n\n	\n		\n			\n	\n\n\n	I campi con (*) sono obbligatori\n	\n		\n		Dati relativi all'evento\n		\n		\n			Partecipazione in aula\n			Partecipazione in videoconferenza\n		\n		\n\n		Dati relativi al richiedente\n		\n		\n		\n		\n		\n		\n		\n		\n\n	\n\n	\n\n		Dati per eventuale partecipante under 30\n		\n		\n		\n\n	\n\n	\n\n		Dati per la fatturazione elettronica\n		\n		\n		\n		\n		\n		\n				\n		\n		\n		  Split Payment:\n          \n            \n              \n              Si \n            No\n          \n        \n		\n		\n		\n		\n	\n\n	\n\n		Per informazioni contattare\n		\n		\n		\n		\n		\n	\n	L'iscrizione all'evento formativo si intende perfezionata al momento del ricevimento\, da parte di Paradigma Srl\, del presente modulo di registrazione compilato in ogni sua parte\, stampato\, firmato e inviato via e-mail all'indirizzo info@paradigma.it. Riceverete via email conferma dell'avvenuta iscrizione. \n\n\n		\n	     Acconsento all'invio di comunicazioni sui servizi Paradigma Srl - Consenso finalizzato\, anche con modalità automatizzate\, all'invio di comunicazioni relative a prodotti e servizi di Paradigma Srl e al fine di ricevere materiale informativo o promozionale.\n	\n	     Acconsento alla personalizzazione delle offerte - Consenso finalizzato\, mediante modalità automatizzate\, a personalizzare i servizi forniti e meglio indirizzare le proposte promozionali grazie ad attività di profilazione.\n	\n	Inviando i dati autorizzi Paradigma Srl a utilizzare i tuoi dati personali per evadere la richiesta di partecipazione all’evento formativo e svolgere le attività a ciò connesse. I dati potranno essere trattati\, per conto di Paradigma Srl\, da dipendenti e collaboratori incaricati di svolgere specifici servizi necessari all’esecuzione delle tue richieste. Il conferimento dei tuoi dati\, pur essendo facoltativo\, si rende necessario per l’esecuzione del servizio richiesto.	\n\n\n\n\n		\n\n\n\n\n\n		\n	\n[/vc_column][/vc_row]
URL:https://paradigma.it/iniziativa/il-codice-di-condotta-per-telemarketing-e-teleselling-2/
CATEGORIES:Privacy e tutela dei Dati Personali
ORGANIZER;CN="Veronica%20Spiez":MAILTO:vspiez@paradigma.it
END:VEVENT
END:VCALENDAR