BEGIN:VCALENDAR
VERSION:2.0
PRODID:-//Paradigma srl - ECPv5.2.1//NONSGML v1.0//EN
CALSCALE:GREGORIAN
METHOD:PUBLISH
X-WR-CALNAME:Paradigma srl
X-ORIGINAL-URL:https://paradigma.it
X-WR-CALDESC:Eventi per Paradigma srl
BEGIN:VTIMEZONE
TZID:Europe/Rome
BEGIN:DAYLIGHT
TZOFFSETFROM:+0100
TZOFFSETTO:+0200
TZNAME:CEST
DTSTART:20220327T010000
END:DAYLIGHT
BEGIN:STANDARD
TZOFFSETFROM:+0200
TZOFFSETTO:+0100
TZNAME:CET
DTSTART:20221030T010000
END:STANDARD
END:VTIMEZONE
BEGIN:VEVENT
DTSTART;TZID=Europe/Rome:20221117T093000
DTEND;TZID=Europe/Rome:20221118T180000
DTSTAMP:20260421T165117
CREATED:20220706T154609Z
LAST-MODIFIED:20221116T092118Z
UID:15763-1668677400-1668794400@paradigma.it
SUMMARY:Il bilancio Ias/Ifrs
DESCRIPTION:[vc_row][vc_column]\n	\n		\n			\n		\n	\n\n	\n		\n			\nRaccomandazioni delle Autorità di Vigilanza ed esiti dell’attività di verifica\nNovità del bilancio 2022 ed effetti connessi alla guerra in Ucraina e all’emergenza COViD-19\n\nI docenti\, nel corso dell’evento formativo\, risponderanno alle domande e alle richieste di chiarimenti formulate dai partecipanti. Eventuali quesiti potranno essere anticipati inviando una email all’indirizzo asorba@paradigma.it \n \n\n		\n	\n\n	\n		\n			Evento in videoconferenza \n\n		\n	\n\n	\n		\n			17 e 18 novembre 2022 \n\n		\n	\n\n	\n		\n			 \n\n		\n	\n\n	\n		\n			\n\n		\n	\nPresentazioneProgrammaDocentiBrochureIscrizioni e CondizioniPresentazione\n	\n		\n			Contenuti dell’evento \nNel corso delle giornate di studio saranno analizzate le principali problematiche e le recenti novità nella redazione dei bilanci Ias/Ifrs compliant. \nSaranno presentati i recenti orientamenti delle Autorità di Vigilanza nazionali e internazionali\, saranno analizzate le novità Ias/Ifrs applicabili ai bilanci 2022 (in vigore e in corso di omologa) e saranno analizzati gli effetti connessi all’emergenza COViD19 e alla guerra in Ucraina. \nI docenti coinvolti rappresentano i principali esperti in materia e rivestono ruoli di vertice in Autorità di controllo (Consob)\, istituzioni italiane (Organismo Italiano di Contabilità) e internazionali (EFRAG). \nDestinatari dell’evento \nL’evento formativo è rivolto ai Direttori Amministrativi e ai Responsabili del Servizio Bilancio dei principali gruppi industriali e finanziari italiani\, Commercialisti e Revisori Contabili. \nObiettivi dell’evento \nObiettivo dell’incontro è fornire ai partecipanti un quadro dettagliato e completo delle problematiche e delle recenti novità in materia di principi contabili internazionali\, presentando strumenti operativi per adeguarsi alle nuove disposizioni\, attraverso l’analisi di casi concreti e problematiche operative. \n\n\n		\n	\nProgramma\n	\n		\n			Prima giornata\nGiovedì 17 novembre 2022 \nRACCOMANDAZIONI DELLE AUTORITA’ DI VIGILANZA E NOVITA’ PER LE SEMESTRALI 2022 \nLe raccomandazioni dell’Autorità di Vigilanza sull’informativa di bilancio e dichiarazione non finanziaria\nLe priorità e le aree di interesse per i bilanci 2022\nGli orientamenti Consob ed ESMA relativi al COViD-19 e alla guerra in Ucraina\nI recenti orientamenti relativi alla dichiarazione non finanziaria\nI controlli dell’Autorità di Vigilanza\nDott. Pierluigi Capuano\nConsob \nL’informativa di bilancio sul climate change\nLe fonti dei requisiti\nOsservazione di evidenze empiriche\nDott. Gianpiero Tedesco\nEY \nEFFETTI DEL CONFLITTO IN UCRAINA E AGGIORNAMENTI COViD-19 \nI principi di riferimento per la predisposizione dei bilanci 2022 in presenza di incertezze derivanti dal conflitto in Ucraina: focus sull’impairment\nI criteri generali di applicazione dello IAS 36\nLe raccomandazioni dell’OIV\nProf. Andrea Amaduzzi\nUniversità di Milano Bicocca\nDott. Marco Volante\nDottore Commercialista in Milano\n \nI principi di riferimento per la predisposizione dei bilanci 2022 in presenza di incertezze derivanti dal conflitto in Ucraina: focus su consolidato e partecipazioni\nI criteri generali di applicazione dell’IFRS10\, IFRS11 e IAS28\nDott. Francesco Ronco\nPwC Italia \nI principi di riferimento per la predisposizione dei bilanci 2022 in presenza di incertezze derivanti dal conflitto in Ucraina: focus sull’impairment degli strumenti finanziari\nI criteri generali di applicazione dell’IFRS 9\nLe raccomandazioni dell’ESMA e delle Autorità di Vigilanza\nDott. Massimiliano Semprini\nDeloitte\nOrganismo Italiano di Contabilità \nLe modalità di presentazione degli impatti COViD-19 e da guerra in Ucraina\nPresentazione e informativa fuori e dentro il bilancio\nIndicatori alternativi di performance\nEsempi dei bilanci annuali 2021 e delle semestrali 2022\nDott. Marco Vavassori\nEY \n  \nSeconda giornata\nVenerdì 18 novembre 2022 \nALTRE NOVITA’ IAS/IFRS \nLe altre novità IAS/IFRS in vigore dal 1 gennaio 2022 e 2023\nContratti onerosi – costi necessari all’adempimento di un contratto (modifiche allo IAS 37)\nImmobili\, impianti e macchinari – proventi prima dell’uso previsto (modifiche allo IAS 16)\nMiglioramenti agli IFRS (ciclo 2018-2020)\nRiferimento al Quadro Concettuale (modifiche all’IFRS 3)\nInformativa sui principi contabili (modifiche allo IAS 1)\nDefinizione di stime contabili (modifiche allo IAS 8)\nDott. Francesco Caligiore\nKPMG \nAssirevi \nLe recenti decisioni dell’IFRS Interpretation Committee\nPrincipal versus Agent: Software reseller – IFRS 15\nDemand Deposits with Restrictions on Use – IAS 7\nTLTRO III Transactions – IFRS 9 and IAS 20\nEconomic Benefits from Use of a Windfarm – IFRS 16\nAccounting for Warrants that are Classified as Financial Liabilities on Initial Recognition – IAS 32\nNon-refundable Value Added Tax on Lease Payments – IFRS 16\nCosts Necessary to Sell Inventories – IAS 2\nPreparation of Financial Statements when an Entity is No Longer a Going Concern – IAS 10\nAttributing Benefit to Periods of Service – IAS 19\nHedging Variability in Cash Flows due to Real Interest Rates – IFRS 9\nConfiguration or Customisation Costs in a Cloud Computing Arrangement – IAS 38\nSupply Chain Financing Arrangements – Reverse Factoring – IAS 1\, IAS 7\, IFRS 7 e IFRS 9\nDott. Ettore Abate\nEY \nLo stato di avanzamento dei progetti in ambito IASB\nED Primary Financial Statement\nIl DP Business Combinations – Disclosures\, Goodwill and Impairment\nBusiness Combination Under Common Control (BCUCC) – linee guida per il progetto\nDott. Leonardo Piombino \nOrganismo Italiano di Contabilità \nGli sviluppi del sistema di reporting: European Single Electronic Format (ESEF)\nLa Direttiva UE 2004/109 e successivi emendamenti\nIl Regolamento UE 815/2019 e il formato unico elettronico europeo\nCosa cambia nella comunicazione finanziaria degli emittenti quotati\nxHTML e iXBRL: cosa sono?\nGli obblighi per gli emittenti\nL’evoluzione del quadro normativo\nI riflessi sui responsabili delle attività di governance\nImpatti organizzativi sulle società quotate\nAvv. Leonardo Benvenuto\nAssonime \nI nuovi requisiti di informativa derivanti dalla direttiva CSRD\, la Taxonomy e attività di standard setting di EFRAG e di ISSB\nDott.ssa Roberta Fazi\nEY\nDott. Giorgio Alessio Acunzo\nEY\nICHEC – LUMSA\nEFRAG \n\n\n		\n	\nDocenti\n	\n		\n			Dott. Ettore Abate\nPartner\nResponsabile IFRS Desk\nEY \nDott. Giorgio Alessio Acunzo\nAssociate Partner – IFRS Desk\nEY\nDocente a contratto in IFRS (ICHEC – LUMSA)\nComponente\nRate-Regulated Activities Working Group\nEFRAG\nComponente Gruppo Internazionale\nOrganismo Italiano di Contabilità \nProf. Andrea Amaduzzi\nOrdinario di Economia Aziendale\nUniversità di Milano Bicocca \nAvv. Leonardo Benvenuto\nDirigente\nArea Diritto Societario\nAssonime \nDott. Francesco Caligiore\nKPMG\nComponente Commissione IFRS\nAssirevi \nDott. Pierluigi Capuano *\nDivisione Informazione Emittenti\nUfficio Vigilanza Informazione Emittenti\nConsob \nDott.ssa Roberta Fazi\nSenior Manager\nClimate Change and Sustainability Services\nEY \nDott. Leonardo Piombino\nTechnical Principal\nOrganismo Italiano di Contabilità \nDott. Francesco Ronco\nPartner\nPwC Italia \nDott. Massimiliano Semprini\nPartner\nProfessional Practice Director Office\nDeloitte\nComponente Gruppo Internazionale\nOrganismo Italiano di Contabilità \nDott. Gianpiero Tedesco\nEY \nDott. Marco Vavassori\nAssociate Partner\nEY \nDott. Marco Volante\nDottore Commercialista in Milano \n\n* La relazione è presentata a titolo personale e non impegna l’Ente di appartenenza. In attesa di autorizzazione. \n\n\n		\n	\nBrochure\n	\n		\n			 Scarica la brochure\n\n		\n	\nIscrizioni e Condizioni\n	\n		\n			Quota di partecipazione \nLa quota di partecipazione in aula virtuale (diretta streaming) include l’invio del materiale didattico in formato elettronico e la possibilità di sottoporre ai relatori quesiti di specifico interesse a mezzo chat. E’ altresì possibile anticipare domande e richieste di approfondimento inviando una email a info@paradigma.it entro il giorno antecedente l’evento. \nIn caso di videoconferenza con accessi multipli è necessario contattare la Segreteria organizzativa per un preventivo personalizzato. \nModalità di funzionamento della videoconferenza \nE’ possibile accedere all’aula virtuale da qualsiasi luogo\, utilizzando il proprio PC o tablet con una semplice connessione a Internet. La piattaforma informatica utilizzata da Paradigma (Adobe Connect) non necessita di requisiti tecnici particolari. \nNei giorni antecedenti l’evento il partecipante riceverà per posta elettronica le credenziali e le istruzioni di accesso. Il giorno dell’evento sarà sufficiente selezionare il link che troverà nella mail e inserire le credenziali per accedere all’aula virtuale. \nDurante gli interventi\, oltre a vedere e sentire i docenti\, è possibile consultare simultaneamente la documentazione predisposta dal relatore. Ogni utente collegato potrà porre domande sulle tematiche affrontate a mezzo chat\, alle quali il docente risponderà nel corso dell’intervento. \nModalità di iscrizione \nL’iscrizione si perfeziona al momento del ricevimento del modulo di registrazione\, da inviare via email all’indirizzo info@paradigma.it\, integralmente compilato. Il numero dei collegamenti disponibili è limitato e la priorità d’iscrizione è determinata dalla data di ricezione del modulo di registrazione. Si consiglia pertanto di effettuare una preiscrizione telefonica. \nModalità di pagamento \nLa quota di partecipazione deve essere versata all’atto della presentazione della richiesta di iscrizione e\, in ogni caso\, prima dell’effettuazione dell’intervento formativo\, tramite bonifico bancario intestato a: \nParadigma Srl – Corso Vittorio Emanuele II\, 68 – 10121 Torino\nc/o Banco BPM Spa\nIBAN IT 14 V 05034 01017 000000002530 \nFormazione finanziata \nLa quota di partecipazione può essere completamente rimborsata tramite voucher promossi dai Fondi Paritetici Interprofessionali. Paradigma offre la completa e gratuita gestione delle spese di progettazione\, monitoraggio e rendicontazione. La possibilità di accedere alla formazione finanziata con partecipazione mediante videoconferenza può variare a seconda dell’Ente erogante. \nAttestato di frequenza \nL’attestato di partecipazione nominativo sarà inviato al termine dell’intervento formativo ai partecipanti che si sono regolarmente collegati all’aula virtuale. \nDiritto di recesso e modalità di disdetta \nE´ attribuita ai partecipanti la facoltà di recedere ai sensi dell’art. 1373 c.c. Il recesso dovrà essere comunicato in forma scritta almeno sette giorni prima della data di inizio dell’evento formativo (escluso il sabato e la domenica). Qualora la disdetta pervenga oltre tale termine o si verifichi di fatto con il mancato collegamento alla videoconferenza\, la quota di partecipazione sarà addebitata per intero e sarà inviato al partecipante il materiale didattico. In qualunque momento l’azienda o lo studio potranno comunque sostituire il partecipante\, comunicando il nuovo nominativo alla nostra Segreteria organizzativa. \nVariazioni di programma \nParadigma\, per ragioni eccezionali e imprevedibili\, si riserva di annullare o modificare la data dell’evento formativo\, dandone comunicazione agli interessati entro tre giorni dalla data di inizio prevista. In tali casi le quote di partecipazione pervenute verranno rimborsate\, con esclusione di qualsivoglia onere o obbligo a carico di Paradigma. Paradigma si riserva inoltre\, per ragioni sopravvenute e per cause di forza maggiore\, di modificare l’articolazione del programma e di sostituire i docenti previsti con altri docenti di pari livello professionale. \nPer ulteriori informazioni è possibile contattare la Segreteria organizzativa al numero 011.538686 o all’indirizzo email info@paradigma.it. \n\n\n		\n	\n\n\n	\n		\n			Quota di partecipazione\n	\n		\n			€ 1.100 + Iva una giornata€ 2.050 + Iva due giornate\n\n		\n	\n\n	\n		\n			In caso di videoconferenza con accessi multipli è necessario contattare la Segreteria organizzativa per un preventivo personalizzato. \n\n		\n	\n\n\n		\n	\n\n	\n		\n			\n\n\n\n\n\n\n	\n		\n			Early booking -20%\nInviando il modulo di iscrizione entro il 27 ottobre si avrà diritto a una riduzione del 20% sulla quota di partecipazione. \n\n		\n	\n\n\n\n		\n	\n\n	\n		\n			\n\n		\n	\n\n	\n		\n			\n\n		\n	\n\n	\n		\n			\n\n\n\n\n\n\n	\n		\n			Progetto Giovani Eccellenze -50%\nL’adesione all’evento formativo permette di iscrivere una seconda risorsa\, che non abbia compiuto il 30° anno di età e proveniente dalla stessa organizzazione\, con una riduzione del 50% sulla seconda quota di partecipazione. L’agevolazione è calcolata sulla quota ordinaria. \n\n		\n	\n\n\n\n		\n	\n\n	\n		\n			\n\n\n\n\n\n\n	\n		\n			Formazione finanziata\nLa quota di partecipazione all’iniziativa può essere completamente rimborsata tramite voucher promossi dai Fondi Paritetici Interprofessionali. Paradigma offre la completa e gratuita gestione delle spese di progettazione\, monitoraggio e rendiconto. \n\n		\n	\n\n\n\n		\n	\n\n	\n		\n			\n\n\n\n\n\n\n	\n		\n			Mercati elettronici della PA\nParadigma opera sul MePA e sui principali mercati elettronici di soggetti aggregatori e centrali di committenza. \n\n		\n	\n\n\n\n		\n	\n\n	\n		\n			\n	\n\n\n	I campi con (*) sono obbligatori\n	\n		\n		Dati relativi all'evento\n		\n		\n			Partecipazione in aula\n			Partecipazione in videoconferenza\n		\n		\n\n		Dati relativi al richiedente\n		\n		\n		\n		\n		\n		\n		\n		\n\n	\n\n	\n\n		Dati per eventuale partecipante under 30\n		\n		\n		\n\n	\n\n	\n\n		Dati per la fatturazione elettronica\n		\n		\n		\n		\n		\n		\n				\n		\n		\n		  Split Payment:\n          \n            \n              \n              Si \n            No\n          \n        \n		\n		\n		\n		\n	\n\n	\n\n		Per informazioni contattare\n		\n		\n		\n		\n		\n	\n	L'iscrizione all'evento formativo si intende perfezionata al momento del ricevimento\, da parte di Paradigma Srl\, del presente modulo di registrazione compilato in ogni sua parte\, stampato\, firmato e inviato via e-mail all'indirizzo info@paradigma.it. Riceverete via email conferma dell'avvenuta iscrizione. \n\n\n		\n	     Acconsento all'invio di comunicazioni sui servizi Paradigma Srl - Consenso finalizzato\, anche con modalità automatizzate\, all'invio di comunicazioni relative a prodotti e servizi di Paradigma Srl e al fine di ricevere materiale informativo o promozionale.\n	\n	     Acconsento alla personalizzazione delle offerte - Consenso finalizzato\, mediante modalità automatizzate\, a personalizzare i servizi forniti e meglio indirizzare le proposte promozionali grazie ad attività di profilazione.\n	\n	Inviando i dati autorizzi Paradigma Srl a utilizzare i tuoi dati personali per evadere la richiesta di partecipazione all’evento formativo e svolgere le attività a ciò connesse. I dati potranno essere trattati\, per conto di Paradigma Srl\, da dipendenti e collaboratori incaricati di svolgere specifici servizi necessari all’esecuzione delle tue richieste. Il conferimento dei tuoi dati\, pur essendo facoltativo\, si rende necessario per l’esecuzione del servizio richiesto.	\n\n\n\n\n		\n\n\n\n\n\n		\n	\n[/vc_column][/vc_row]
URL:https://paradigma.it/iniziativa/il-bilancio-ias-ifrs/
CATEGORIES:Bilancio
ORGANIZER;CN="Veronica%20Spiez":MAILTO:vspiez@paradigma.it
END:VEVENT
END:VCALENDAR