BEGIN:VCALENDAR
VERSION:2.0
PRODID:-//Paradigma srl - ECPv5.2.1//NONSGML v1.0//EN
CALSCALE:GREGORIAN
METHOD:PUBLISH
X-WR-CALNAME:Paradigma srl
X-ORIGINAL-URL:https://paradigma.it
X-WR-CALDESC:Eventi per Paradigma srl
BEGIN:VTIMEZONE
TZID:Europe/Rome
BEGIN:DAYLIGHT
TZOFFSETFROM:+0100
TZOFFSETTO:+0200
TZNAME:CEST
DTSTART:20250330T010000
END:DAYLIGHT
BEGIN:STANDARD
TZOFFSETFROM:+0200
TZOFFSETTO:+0100
TZNAME:CET
DTSTART:20251026T010000
END:STANDARD
END:VTIMEZONE
BEGIN:VEVENT
DTSTART;TZID=Europe/Rome:20250123T093000
DTEND;TZID=Europe/Rome:20250123T160000
DTSTAMP:20260421T145639
CREATED:20241113T163401Z
LAST-MODIFIED:20250121T141404Z
UID:21842-1737624600-1737648000@paradigma.it
SUMMARY:I trust  dopo  la Riforma fiscale
DESCRIPTION:[vc_row][vc_column]\n	\n		\n			\n		\n	\n\n	\n		\n			\nPrime valutazioni alla luce del D. Lgs. n. 139/2024\nAdempimenti necessari\nQuestioni aperte\n\nI docenti\, nel corso dell’evento formativo\, risponderanno alle domande e alle richieste di chiarimenti formulate dai partecipanti. Eventuali quesiti potranno essere anticipati inviando una email all’indirizzo info@paradigma.it \n \n\n		\n	\n\n	\n		\n			Evento in videoconferenza \n\n		\n	\n\n	\n		\n			23 gennaio 2025 \n\n		\n	\n\n	\n		\n			 \n\n		\n	\n\n	\n		\n			\n\n		\n	\nPresentazioneProgrammaDocentiBrochureIscrizioni e CondizioniPresentazione\n	\n		\n			Contenuti dell’evento \nIl trust\, istituto giuridico che costituisce\, nelle sue varie declinazioni e finalità\, uno dei principali strumenti di pianificazione e protezione patrimoniale\, è da sempre oggetto di grande interesse tanto sul piano civilistico che tributario. \nLa riforma fiscale (Legge Delega n. 111/2023)\, che ha trovato attuazione\, per i profili riguardanti tale istituto\, nel recente D. Lgs. n. 139/2024\, ne ha\, se possibile\, aumentato ulteriormente le necessità di approfondimento e di dibattito. L’intervento del Legislatore in materia è consistito essenzialmente nell’introdurre\, nel relativo Testo Unico (D. Lgs. n. 346/1990) un articolo\, il 4-bis\, specificamente dedicato ai trust e agli altri vincoli di destinazione. \nL’esigenza di una precisa sedes materiae era da tempo avvertita da tutti gli operatori\, specie dopo l’incertezza sul trattamento fiscale dei trust che era derivata\, negli anni\, dalle non convergenti letture di Amministrazione Finanziaria e Corte di Cassazione\, cui ha cercato di porre almeno parziale rimedio la Circolare dell’Agenzia delle Entrate n. 34/E/2022. \nNel corso del webinar verranno esaminate le questioni di maggiore attualità e rilevanza in materia di fiscalità dei trust\, a partire dalla nuova disciplina e avendo altresì riguardo anche alle implicazioni che essa avrà sul piano dell’applicazione civilistica dell’istituto. \nSaranno inoltre posti a confronto il regime fiscale italiano con i regimi vigenti in altri Paesi europei\, fornendo elementi di valutazione delle opportunità di pianificazione patrimoniale tramite trust in chiave internazionale. \nDestinatari dell’evento \nL’evento è rivolto ai Responsabili dei Servizi di Private Banking e Wealth Management\, ai Responsabili del Servizio Fiscale e ai Responsabili della Compliance di banche\, assicurazioni e intermediari finanziari\, trust e fiduciarie\, ai Notai\, agli Avvocati\, ai Commercialisti e ai Consulenti che si occupano di pianificazione patrimoniale nei suoi profili civilisitici e fiscali. \nObiettivi dell’evento \nObiettivo dell’incontro è fornire ai partecipanti un esame approfondito dei profili fiscali dei trust\, mediante l’analisi della normativa\, della giurisprudenza e della prassi applicativa\, nonché attraverso i contributi interpretativi che i relatori\, grazie alla loro significativa competenza e esperienza in materia\, saranno in grado di offrire. \n\n\n		\n	\nProgramma\n	\n		\n			Giovedì 23 gennaio 2025 \nImpatti della Riforma fiscale sulla pianificazione patrimoniale tramite trust \nNotaio Daniele Muritano\nNotaio in Empoli \nIl regime fiscale dei trust in alcuni Paesi europei e le implicazioni per i beneficiari italiani\nLussemburgo\nCipro\nIrlanda\nRepubblica ceca\nProf. Paolo Panico\nUniversité du Luxembourg \nL’imposizione diretta dei trust alla luce della Riforma fiscale e dei più recenti orientamenti giurisprudenziali \nLa residenza dei trust\nI trust trasparenti\nI trust opachi\nDott. Marco Piazza\nStudio Associato Piazza \nTrust e obblighi di monitoraggio fiscale\nDott. Marco Piazza\nStudio Associato Piazza \nL’imposizione indiretta dei trust alla luce della Riforma fiscale e dei più recenti orientamenti giurisprudenziali\nL’imposta sulle successioni e sulle donazioni\nLe imposte ipotecarie e catastali\nLa Legge sul “Dopo di Noi”\nAvv. Marco Cerrato\nMaisto e Associati \nPianificazione patrimoniale degli HNWIs stranieri e nuova disciplina fiscale del trust italiano\nDott. Andrea Tavecchio\nTavecchio & Associati \n\n\n		\n	\nDocenti\n	\n		\n			Avv. Marco Cerrato\nPartner\nMaisto e Associati \nNotaio Daniele Muritano\nNotaio in Empoli \nDott. Paolo Panico\nProfesseur vacataire\nUniversité du Luxembourg\nAvocat à la Cour (Luxembourg)\nSolicitor (Scotland)\nDirector – Private Trustees SA\nChair – STEP Europe\nBoard Member – STEP \nDott. Marco Piazza\nFounding Partner\nStudio Associato Piazza \nDott. Andrea Tavecchio\nFounding Partner\nTavecchio & Associati \n\n\n		\n	\nBrochure\n	\n		\n			 Scarica la brochure\n\n		\n	\nIscrizioni e Condizioni\n	\n		\n			Quota di partecipazione \nLa quota di partecipazione in aula virtuale (diretta streaming) include la fruizione in diretta delle docenze\, nonché l’invio\, in formato elettronico\, del materiale didattico che i relatori riterranno di mettere a disposizione. È inoltre prevista la possibilità di presentare in diretta domande e quesiti di specifico interesse a mezzo chat\, nonché di sottoporli in via preventiva\, inviando una email a info@paradigma.it entro il giorno antecedente l’evento. \nIn caso di videoconferenza con accessi multipli è necessario contattare la Segreteria organizzativa per un preventivo personalizzato. \nModalità di funzionamento della videoconferenza \nE’ possibile accedere all’aula virtuale da qualsiasi luogo\, utilizzando il proprio PC o tablet con una semplice connessione a Internet. La piattaforma informatica utilizzata da Paradigma (Adobe Connect) non necessita di requisiti tecnici particolari. \nNei giorni antecedenti l’evento il partecipante riceverà per posta elettronica le credenziali e le istruzioni di accesso. Il giorno dell’evento sarà sufficiente selezionare il link che troverà nella mail e inserire le credenziali per accedere all’aula virtuale. \nDurante gli interventi\, oltre a vedere e sentire i docenti\, è possibile consultare simultaneamente la documentazione predisposta dal relatore. Ogni utente collegato potrà porre domande sulle tematiche affrontate a mezzo chat\, alle quali il docente risponderà nel corso dell’intervento. \nModalità di iscrizione \nL’iscrizione si perfeziona al momento del ricevimento del modulo di registrazione\, da inviare via e-mail all’indirizzo info@paradigma.it\, integralmente compilato. Il numero dei collegamenti disponibili è limitato e la priorità d’iscrizione è determinata dalla data di ricezione del modulo di registrazione. Si consiglia pertanto di effettuare una preiscrizione telefonica. \nModalità di pagamento \nLa quota di partecipazione deve essere versata all’atto della presentazione della richiesta di iscrizione e\, in ogni caso\, prima dell’effettuazione dell’evento formativo\, tramite bonifico bancario intestato a: \nParadigma Srl – Corso Vittorio Emanuele II\, 68 – 10121 Torino\nc/o Banco BPM Spa\nIBAN IT 14 V 05034 01017 000000002530 \nFormazione finanziata \nLa quota di partecipazione può essere completamente rimborsata tramite voucher promossi dai Fondi Paritetici Interprofessionali. Paradigma offre la completa e gratuita gestione delle spese di progettazione\, monitoraggio e rendicontazione. La possibilità di accedere alla formazione finanziata con partecipazione mediante videoconferenza può variare a seconda dell’Ente erogante. \nAttestato di frequenza \nL’attestato di partecipazione nominativo sarà inviato al termine dell’evento formativo ai partecipanti che si sono regolarmente collegati all’aula virtuale. \nDiritto di recesso e modalità di disdetta \nÈ attribuita ai partecipanti la facoltà di recedere ai sensi dell’art. 1373 c.c. Il recesso dovrà essere comunicato in forma scritta almeno sette giorni prima della data di inizio dell’evento formativo (escluso il sabato e la domenica). Qualora la disdetta pervenga oltre tale termine o si verifichi di fatto con il mancato collegamento alla videoconferenza\, la quota di partecipazione sarà addebitata per intero e sarà inviato al partecipante il materiale didattico. In qualunque momento l’azienda o lo studio potranno comunque sostituire il partecipante\, comunicando il nuovo nominativo alla nostra Segreteria organizzativa. \nVariazioni di programma \nParadigma\, per ragioni eccezionali e imprevedibili\, si riserva di annullare o modificare la data dell’evento formativo\, dandone comunicazione agli interessati entro tre giorni dalla data di inizio prevista. In tali casi le quote di partecipazione pervenute verranno rimborsate\, con esclusione di qualsivoglia onere o obbligo a carico di Paradigma. Paradigma si riserva inoltre\, per ragioni sopravvenute e per cause di forza maggiore\, di modificare l’articolazione del programma e di sostituire i docenti previsti con altri docenti di pari livello professionale. \nPer ulteriori informazioni è possibile contattare la Segreteria organizzativa al numero 011.538686 o all’indirizzo e-mail info@paradigma.it. \n\n\n		\n	\n\n\n	\n		\n			Quota di partecipazione\n	\n		\n			€ 1.100 + Iva\n\n		\n	\n\n	\n		\n			In caso di videoconferenza con accessi multipli è necessario contattare la Segreteria organizzativa per un preventivo personalizzato. \n\n		\n	\n\n\n		\n	\n\n	\n		\n			\n\n\n\n\n\n\n	\n		\n			Early booking -20%\nInviando il modulo di iscrizione entro il 3 gennaio si avrà diritto a una riduzione del 20% sulla quota di partecipazione. \n\n		\n	\n\n\n\n		\n	\n\n	\n		\n			\n\n		\n	\n\n	\n		\n			\n\n		\n	\n\n	\n		\n			\n\n\n\n\n\n\n	\n		\n			Progetto Giovani Eccellenze -50%\nL’adesione all’evento formativo permette di iscrivere una seconda risorsa\, che non abbia compiuto il 30° anno di età e proveniente dalla stessa organizzazione\, con una riduzione del 50% sulla seconda quota di partecipazione. L’agevolazione è calcolata sulla quota ordinaria. \n\n		\n	\n\n\n\n		\n	\n\n	\n		\n			\n\n\n\n\n\n\n	\n		\n			Formazione finanziata\nLa quota di partecipazione all’iniziativa può essere completamente rimborsata tramite voucher promossi dai Fondi Paritetici Interprofessionali. Paradigma offre la completa e gratuita gestione delle spese di progettazione\, monitoraggio e rendiconto. \n\n		\n	\n\n\n\n		\n	\n\n	\n		\n			\n\n\n\n\n\n\n	\n		\n			Mercati elettronici della PA\nParadigma opera sul MePA e sui principali mercati elettronici di soggetti aggregatori e centrali di committenza. \n\n		\n	\n\n\n\n		\n	\n\n	\n		\n			\n	\n\n\n	I campi con (*) sono obbligatori\n	\n		\n		Dati relativi all'evento\n		\n		\n			Partecipazione in aula\n			Partecipazione in videoconferenza\n		\n		\n\n		Dati relativi al richiedente\n		\n		\n		\n		\n		\n		\n		\n		\n\n	\n\n	\n\n		Dati per eventuale partecipante under 30\n		\n		\n		\n\n	\n\n	\n\n		Dati per la fatturazione elettronica\n		\n		\n		\n		\n		\n		\n				\n		\n		\n		  Split Payment:\n          \n            \n              \n              Si \n            No\n          \n        \n		\n		\n		\n		\n	\n\n	\n\n		Per informazioni contattare\n		\n		\n		\n		\n		\n	\n	L'iscrizione all'evento formativo si intende perfezionata al momento del ricevimento\, da parte di Paradigma Srl\, del presente modulo di registrazione compilato in ogni sua parte\, stampato\, firmato e inviato via e-mail all'indirizzo info@paradigma.it. Riceverete via email conferma dell'avvenuta iscrizione. \n\n\n		\n	     Acconsento all'invio di comunicazioni sui servizi Paradigma Srl - Consenso finalizzato\, anche con modalità automatizzate\, all'invio di comunicazioni relative a prodotti e servizi di Paradigma Srl e al fine di ricevere materiale informativo o promozionale.\n	\n	     Acconsento alla personalizzazione delle offerte - Consenso finalizzato\, mediante modalità automatizzate\, a personalizzare i servizi forniti e meglio indirizzare le proposte promozionali grazie ad attività di profilazione.\n	\n	Inviando i dati autorizzi Paradigma Srl a utilizzare i tuoi dati personali per evadere la richiesta di partecipazione all’evento formativo e svolgere le attività a ciò connesse. I dati potranno essere trattati\, per conto di Paradigma Srl\, da dipendenti e collaboratori incaricati di svolgere specifici servizi necessari all’esecuzione delle tue richieste. Il conferimento dei tuoi dati\, pur essendo facoltativo\, si rende necessario per l’esecuzione del servizio richiesto.	\n\n\n\n\n		\n\n\n\n\n\n		\n	\n[/vc_column][/vc_row]
URL:https://paradigma.it/iniziativa/i-trust-dopo-la-riforma-fiscale/
CATEGORIES:Gestione e Tutela dei Patrimoni, Successioni e Diritto di Famiglia
ORGANIZER;CN="Veronica%20Spiez":MAILTO:vspiez@paradigma.it
END:VEVENT
END:VCALENDAR