BEGIN:VCALENDAR
VERSION:2.0
PRODID:-//Paradigma srl - ECPv5.2.1//NONSGML v1.0//EN
CALSCALE:GREGORIAN
METHOD:PUBLISH
X-WR-CALNAME:Paradigma srl
X-ORIGINAL-URL:https://paradigma.it
X-WR-CALDESC:Eventi per Paradigma srl
BEGIN:VTIMEZONE
TZID:Europe/Rome
BEGIN:DAYLIGHT
TZOFFSETFROM:+0100
TZOFFSETTO:+0200
TZNAME:CEST
DTSTART:20250330T010000
END:DAYLIGHT
BEGIN:STANDARD
TZOFFSETFROM:+0200
TZOFFSETTO:+0100
TZNAME:CET
DTSTART:20251026T010000
END:STANDARD
END:VTIMEZONE
BEGIN:VEVENT
DTSTART;TZID=Europe/Rome:20250129T093000
DTEND;TZID=Europe/Rome:20250129T153000
DTSTAMP:20260421T130623
CREATED:20241217T151307Z
LAST-MODIFIED:20250127T155413Z
UID:22170-1738143000-1738164600@paradigma.it
SUMMARY:I sistemi di videosorveglianza
DESCRIPTION:[vc_row][vc_column]\n	\n		\n			\n		\n	\n\n	\n		\n			\nBasi giuridiche e condizioni di liceità\nIndirizzi applicativi di EDPB e Garante Privacy\nApplicazioni settoriali\nUtilizzo probatorio dei dati raccolti\n\nI docenti\, nel corso dell’evento formativo\, risponderanno alle domande e alle richieste di chiarimenti formulate dai partecipanti. Eventuali quesiti potranno essere anticipati inviando una email all’indirizzo info@paradigma.it \n \n\n		\n	\n\n	\n		\n			Evento in videoconferenza \n\n		\n	\n\n	\n		\n			29 gennaio 2025 \n\n		\n	\n\n	\n		\n			 \n\n		\n	\n\n	\n		\n			\n\n		\n	\nPresentazioneProgrammaDocentiBrochureIscrizioni e CondizioniPresentazione\n	\n		\n			Contenuti dell’evento \nIl trattamento di dati personali attraverso dispositivi video è tema di rilevante portata e significativi impatti operativi per molti soggetti. Se\, per un verso\, la diffusione di dispositivi e software idonei alla ripresa di immagini\, e quindi potenzialmente all’acquisizione anche di dati personali\, già crescente negli ultimi anni\, sta ora conoscendo una capillarità davvero significativa\, con campi d’azione che spaziano dalla vita privata e dalla salute di ciascuno di noi alle nostre attività di lavoro e ai controlli di sicurezza urbana\, per altro verso è da considerare che i sistemi di Intelligenza Artificiale offrono possibilità di rielaborazione delle immagini prima inimmaginabili e\, dunque\, il tema della conformità al GDPR (e al Regolamento UE sull’Intelligenza Artificiale) dei trattamenti effettuati per tale via è senz’altro di primaria urgenza. \nÈ quindi del tutto comprensibile che l’attenzione delle Autorità Garanti della Privacy sia massima intorno a tale fenomeno\, con la produzione di indicazioni interpretative utili a non incorrere in possibili violazioni. \nSignificativa è stata\, negli ultimi anni\, l’attività di indirizzo in materia dell’European Data Protection Board (EDPB) e del Garante per la Protezione dei Dati Personali italiano. \nSe le Linee Guida EDPB in materia risalgono al gennaio 2020 e le FAQs del Garante nazionale al dicembre dello stesso anno\, è piuttosto recente l’Opinion EDPB riguardante l’uso delle tecnologie di riconoscimento facciale negli aeroporti (n.11 del 24 maggio 2024) resa su richiesta del Garante nazionale francese. \nAl già complesso quadro disegnato dalla normativa data protection si sommano poi le peculiari problematiche connesse alla videosorveglianza urbana\, nel cui ambito\, per effetto del D.L. n. 113/2018 (Decreto “Sicurezza”) è stato reso possibile l’utilizzo\, anche per finalità pubbliche\, di immagini raccolte da impianti privati di videosorveglianza\, nonchè le sempre vive questioni applicative in ordine all’impiego della videosorveglianza sui luoghi di lavoro\, che trovano ulteriore alimento nella giurisprudenza degli ultimi anni della Corte di Cassazione (in particolare\, nelle sentenze nn. 32683\, 33809 e 34092 del 2021). \nDi sicuro interesse sono\, infine\, tutti gli aspetti connessi alla corretta acquisizione\, per un successivo utilizzo in sede di contenzioso\, della prova di condotte illecite mediante dispositivi video. \nDestinatari dell’evento \nIl convegno è rivolto ai Data Protection Officer\, ai Responsabili del Trattamento dei Dati\, ai Privacy Officer\, alle persone autorizzate al trattamento dei dati e ai referenti per la privacy comunque denominati di imprese e pubbliche amministrazioni\, ai Responsabili dell’Area Marketing\, agli IT Manager\, ai Security Officer\, ai Responsabili dei Servizi di Compliance\, Affari Legali\, Affari Istituzionali e Regolamentari\, nonchè a tutti i professionisti che si occupano di TMT\, IP\, ICT\, Privacy e Data Protection. \nObiettivi dell’evento \nL’incontro mira a fornire ai partecipanti un’analisi dettagliata e aggiornata degli indirizzi interpretativi sulla normativa data protection applicabile ai sistemi di videosorveglianza\, al fine di consentire un check di conformità delle proprie policies e delle modalità adottate per la segnalazione della presenza di impianti di videosorveglianza\, nonché un’analisi sul rapporto finalità/mezzi in ordine a tutti i casi in cui è stato finora effettuato il trattamento di dati tramite dispositivi video. Verranno inoltre analizzati casi concreti e problematiche di diffusa percezione. \n\n\n		\n	\nProgramma\n	\n		\n			Mercoledì 29 gennaio 2025 \nCompliance al GDPR e alle indicazioni di EDPB e Garante Privacy dei sistemi di videosorveglianza e dei software per la loro gestione\nLe basi giuridiche del legittimo utilizzo dei dispositivi video: in particolare\, individuazione dei casi di invocabilità del legittimo interesse\nI segnali\, le informative\, l’esercizio dei diritti degli interessati in ordine alle immagini raccolte\nTipologie dei dispositivi utilizzati e loro conformità\nI problemi connessi alla diffusione di droni e smart glasses e ai potenziali impieghi impropri dei medesimi\, anche in chiave di videosorveglianza\nApplicazioni per la gestione delle immagini e loro potenzialità (e rischi) anche alla luce delle capacità di rielaborazione offerte dall’Intelligenza Artificiale\nAvv. Nadia Martini\nRödl & Partner \nI dati biometrici raccolti con dispositivi video e il riconoscimento facciale: ammissibilità e limiti\nIl riconoscimento facciale quale strumento potenzialmente invasivo delle libertà civili\nL’impatto delle indicazioni delle Linee Guida EDPB e il ruolo del DPIA\nI sistemi di FaceBoarding nelle procedure di imbarco\nI più recenti interventi del Garante Privacy in materia\nAvv. Adriano D’Ottavio\nBird & Bird \nL’utilizzo della videosorveglianza nell’ambito del rapporto di lavoro tra Statuto dei lavoratori\, GDPR\, Linee Guida EDPB e orientamenti giurisprudenziali\nL’esatta ricostruzione della normativa applicabile\nLa rilevanza dell’“aspettativa” del lavoratore ad essere monitorato (par. 3 delle Linee Guida EDPB sulla videosorveglianza che rinvia\, sul punto\, al Parere n. 2/2017 del Gruppo di lavoro Articolo 29\, adottato l’8 giugno 2017)\nL’utilizzo della videosorveglianza in ambito lavorativo alla luce della distinzione tra controlli a difesa del patrimonio aziendale e controlli difensivi in senso stretto\, rimarcata dalla recente giurisprudenza di legittimità e di merito\nL’inderogabilità della “procedura codeterminativa” ai fini del rispetto delle condizioni di cui all’art. 4\, L. n. 300/1970\nDispositivi video e controlli datoriali nel lavoro svolto da remoto\nAvv. Aldo Bottini\nToffoletto De Luca Tamajo e Soci \nGli obblighi dei privati nel quadro del sistema di videosorveglianza integrata. L’idoneità probatoria delle immagini raccolte tramite sistemi di videosorveglianza\nL’utilizzo per finalità di pubblico interesse di immagini raccolte da sistemi privati di videosorveglianza e il contegno dei privati rispetto alle richieste della pubblica autorità\nL’efficacia probatoria delle immagini raccolte tramite sistemi di videosorveglianza\nIl privato che si avvale di riprese effettuate da sistemi pubblici: acquisizione e utilizzabilità delle stesse nei contenziosi civili\nL’utilizzabilità delle riprese nell’ambito dei procedimenti disciplinari e nel successivo giudizio di impugnazione\nAcquisizione e utilizzabilità delle riprese dei sistemi privati in processi penali\nAvv. Fabio Valerini\nStudio Legale Valerini\nUniversità di Roma Tor Vergata \n\n\n		\n	\nDocenti\n	\n		\n			Avv. Aldo Bottini\nPartner\nToffoletto De Luca Tamajo e Soci \nAvv. Adriano D’Ottavio\nCounsel\nco-Head of the Italian Privacy and Data Protection Team\nBird & Bird \nAvv. Nadia Martini\nHead of Data Protection Italy\ne Responsabile Privacy\, Cyber & Innovation Team\nCertified Privacy Officer\nPartner\nRödl & Partner \nAvv. Fabio Valerini\nProfessore a contratto di Diritto Processuale Civile\nUniversità di Roma Tor Vergata\nStudio Legale Valerini \n\n\n		\n	\nBrochure\n	\n		\n			 Scarica la brochure\n\n		\n	\nIscrizioni e Condizioni\n	\n		\n			Quota di partecipazione \nLa quota di partecipazione in aula virtuale (diretta streaming) include la fruizione in diretta delle docenze\, nonché l’invio\, in formato elettronico\, del materiale didattico che i relatori riterranno di mettere a disposizione. È inoltre prevista la possibilità di presentare in diretta domande e quesiti di specifico interesse a mezzo chat\, nonché di sottoporli in via preventiva\, inviando una email a info@paradigma.it entro il giorno antecedente l’evento. \nIn caso di videoconferenza con accessi multipli è necessario contattare la Segreteria organizzativa per un preventivo personalizzato. \nModalità di funzionamento della videoconferenza \nE’ possibile accedere all’aula virtuale da qualsiasi luogo\, utilizzando il proprio PC o tablet con una semplice connessione a Internet. La piattaforma informatica utilizzata da Paradigma (Adobe Connect) non necessita di requisiti tecnici particolari. \nNei giorni antecedenti l’evento il partecipante riceverà per posta elettronica le credenziali e le istruzioni di accesso. Il giorno dell’evento sarà sufficiente selezionare il link che troverà nella mail e inserire le credenziali per accedere all’aula virtuale. \nDurante gli interventi\, oltre a vedere e sentire i docenti\, è possibile consultare simultaneamente la documentazione predisposta dal relatore. Ogni utente collegato potrà porre domande sulle tematiche affrontate a mezzo chat\, alle quali il docente risponderà nel corso dell’intervento. \nModalità di iscrizione \nL’iscrizione si perfeziona al momento del ricevimento del modulo di registrazione\, da inviare via e-mail all’indirizzo info@paradigma.it\, integralmente compilato. Il numero dei collegamenti disponibili è limitato e la priorità d’iscrizione è determinata dalla data di ricezione del modulo di registrazione. Si consiglia pertanto di effettuare una preiscrizione telefonica. \nModalità di pagamento \nLa quota di partecipazione deve essere versata all’atto della presentazione della richiesta di iscrizione e\, in ogni caso\, prima dell’effettuazione dell’evento formativo\, tramite bonifico bancario intestato a: \nParadigma Srl – Corso Vittorio Emanuele II\, 68 – 10121 Torino\nc/o Banco BPM Spa\nIBAN IT 14 V 05034 01017 000000002530 \nFormazione finanziata \nLa quota di partecipazione può essere completamente rimborsata tramite voucher promossi dai Fondi Paritetici Interprofessionali. Paradigma offre la completa e gratuita gestione delle spese di progettazione\, monitoraggio e rendicontazione. La possibilità di accedere alla formazione finanziata con partecipazione mediante videoconferenza può variare a seconda dell’Ente erogante. \nAttestato di frequenza \nL’attestato di partecipazione nominativo sarà inviato al termine dell’evento formativo ai partecipanti che si sono regolarmente collegati all’aula virtuale. \nDiritto di recesso e modalità di disdetta \nÈ attribuita ai partecipanti la facoltà di recedere ai sensi dell’art. 1373 c.c. Il recesso dovrà essere comunicato in forma scritta almeno sette giorni prima della data di inizio dell’evento formativo (escluso il sabato e la domenica). Qualora la disdetta pervenga oltre tale termine o si verifichi di fatto con il mancato collegamento alla videoconferenza\, la quota di partecipazione sarà addebitata per intero e sarà inviato al partecipante il materiale didattico. In qualunque momento l’azienda o lo studio potranno comunque sostituire il partecipante\, comunicando il nuovo nominativo alla nostra Segreteria organizzativa. \nVariazioni di programma \nParadigma\, per ragioni eccezionali e imprevedibili\, si riserva di annullare o modificare la data dell’evento formativo\, dandone comunicazione agli interessati entro tre giorni dalla data di inizio prevista. In tali casi le quote di partecipazione pervenute verranno rimborsate\, con esclusione di qualsivoglia onere o obbligo a carico di Paradigma. Paradigma si riserva inoltre\, per ragioni sopravvenute e per cause di forza maggiore\, di modificare l’articolazione del programma e di sostituire i docenti previsti con altri docenti di pari livello professionale. \nPer ulteriori informazioni è possibile contattare la Segreteria organizzativa al numero 011.538686 o all’indirizzo e-mail info@paradigma.it. \n\n\n		\n	\n\n\n	\n		\n			Quota di partecipazione\n	\n		\n			€ 1.000 + Iva\n\n		\n	\n\n	\n		\n			In caso di videoconferenza con accessi multipli è necessario contattare la Segreteria organizzativa per un preventivo personalizzato. \n\n		\n	\n\n\n		\n	\n\n	\n		\n			\n\n\n\n\n\n\n	\n		\n			Early booking -20%\nInviando il modulo di iscrizione entro l’8 gennaio si avrà diritto a una riduzione del 20% sulla quota di partecipazione. \n\n		\n	\n\n\n\n		\n	\n\n	\n		\n			\n\n		\n	\n\n	\n		\n			\n\n		\n	\n\n	\n		\n			\n\n\n\n\n\n\n	\n		\n			Progetto Giovani Eccellenze -50%\nL’adesione all’evento formativo permette di iscrivere una seconda risorsa\, che non abbia compiuto il 30° anno di età e proveniente dalla stessa organizzazione\, con una riduzione del 50% sulla seconda quota di partecipazione. L’agevolazione è calcolata sulla quota ordinaria. \n\n		\n	\n\n\n\n		\n	\n\n	\n		\n			\n\n\n\n\n\n\n	\n		\n			Formazione finanziata\nLa quota di partecipazione all’iniziativa può essere completamente rimborsata tramite voucher promossi dai Fondi Paritetici Interprofessionali. Paradigma offre la completa e gratuita gestione delle spese di progettazione\, monitoraggio e rendiconto. \n\n		\n	\n\n\n\n		\n	\n\n	\n		\n			\n\n\n\n\n\n\n	\n		\n			Mercati elettronici della PA\nParadigma opera sul MePA e sui principali mercati elettronici di soggetti aggregatori e centrali di committenza. \n\n		\n	\n\n\n\n		\n	\n\n	\n		\n			\n	\n\n\n	I campi con (*) sono obbligatori\n	\n		\n		Dati relativi all'evento\n		\n		\n			Partecipazione in aula\n			Partecipazione in videoconferenza\n		\n		\n\n		Dati relativi al richiedente\n		\n		\n		\n		\n		\n		\n		\n		\n\n	\n\n	\n\n		Dati per eventuale partecipante under 30\n		\n		\n		\n\n	\n\n	\n\n		Dati per la fatturazione elettronica\n		\n		\n		\n		\n		\n		\n				\n		\n		\n		  Split Payment:\n          \n            \n              \n              Si \n            No\n          \n        \n		\n		\n		\n		\n	\n\n	\n\n		Per informazioni contattare\n		\n		\n		\n		\n		\n	\n	L'iscrizione all'evento formativo si intende perfezionata al momento del ricevimento\, da parte di Paradigma Srl\, del presente modulo di registrazione compilato in ogni sua parte\, stampato\, firmato e inviato via e-mail all'indirizzo info@paradigma.it. Riceverete via email conferma dell'avvenuta iscrizione. \n\n\n		\n	     Acconsento all'invio di comunicazioni sui servizi Paradigma Srl - Consenso finalizzato\, anche con modalità automatizzate\, all'invio di comunicazioni relative a prodotti e servizi di Paradigma Srl e al fine di ricevere materiale informativo o promozionale.\n	\n	     Acconsento alla personalizzazione delle offerte - Consenso finalizzato\, mediante modalità automatizzate\, a personalizzare i servizi forniti e meglio indirizzare le proposte promozionali grazie ad attività di profilazione.\n	\n	Inviando i dati autorizzi Paradigma Srl a utilizzare i tuoi dati personali per evadere la richiesta di partecipazione all’evento formativo e svolgere le attività a ciò connesse. I dati potranno essere trattati\, per conto di Paradigma Srl\, da dipendenti e collaboratori incaricati di svolgere specifici servizi necessari all’esecuzione delle tue richieste. Il conferimento dei tuoi dati\, pur essendo facoltativo\, si rende necessario per l’esecuzione del servizio richiesto.	\n\n\n\n\n		\n\n\n\n\n\n		\n	\n[/vc_column][/vc_row]
URL:https://paradigma.it/iniziativa/i-sistemi-di-videosorveglianza/
CATEGORIES:Privacy e tutela dei Dati Personali
ORGANIZER;CN="Veronica%20Spiez":MAILTO:vspiez@paradigma.it
END:VEVENT
END:VCALENDAR