BEGIN:VCALENDAR
VERSION:2.0
PRODID:-//Paradigma srl - ECPv5.2.1//NONSGML v1.0//EN
CALSCALE:GREGORIAN
METHOD:PUBLISH
X-WR-CALNAME:Paradigma srl
X-ORIGINAL-URL:https://paradigma.it
X-WR-CALDESC:Eventi per Paradigma srl
BEGIN:VTIMEZONE
TZID:Europe/Rome
BEGIN:DAYLIGHT
TZOFFSETFROM:+0100
TZOFFSETTO:+0200
TZNAME:CEST
DTSTART:20260329T010000
END:DAYLIGHT
BEGIN:STANDARD
TZOFFSETFROM:+0200
TZOFFSETTO:+0100
TZNAME:CET
DTSTART:20261025T010000
END:STANDARD
END:VTIMEZONE
BEGIN:VEVENT
DTSTART;TZID=Europe/Rome:20260331T091500
DTEND;TZID=Europe/Rome:20260331T163000
DTSTAMP:20260421T164557
CREATED:20260204T143447Z
LAST-MODIFIED:20260330T152436Z
UID:26888-1774948500-1774974600@paradigma.it
SUMMARY:I profili data protection dell’Intelligenza Artificiale
DESCRIPTION:[vc_row][vc_column]\n	\n		\n			\n		\n	\n\n	\n		\n			Le questioni in materia di trattamento dei dati personali poste dall’applicazione dell’AI Act (Reg. UE 2024/1689)\nGli interventi delle Autorità di regolazione UE\nGli adeguamenti necessari sotto il profilo della compliance \n \n\n		\n	\n\n	\n		\n			09.15 - 13.30  14.30 - 16.30 \n\n		\n	\n\n	\n		\n			Evento in diretta streaming \n\n		\n	\n\n	\n		\n			 \n\n		\n	\n\n	\n		\n			\n\n		\n	\nPresentazioneProgrammaDocentiBrochureIscrizioni e CondizioniPresentazione\n	\n		\n			Contenuti dell’evento \nIl Regolamento europeo sull’Intelligenza Artificiale\, pubblicato in GUUE il 12 luglio 2024\, rappresenta\, come noto\, uno dei primi tentativi al mondo di disciplinare questa grande innovazione tecnologica. In sede di elaborazione legislativa\, i rischi per la protezione dei dati\, e per la privacy strettamente intesa\, potenzialmente insiti nell’uso dell’AI\, sono stati ben presenti agli organi chiamati a deliberare\, e il testo finale\, sia nei considerando che nei singoli articoli\, tiene conto della necessità di garantire tali esigenze che sono\, peraltro\, riconosciute quali diritti dalla Carta di Nizza\, che è uno degli atti fondamentali dell’Unione Europea. \nCionondimeno\, la protezione dei dati personali e di altri rilevanti diritti fondamentali a questa connessi andrà misurata in concreto\, nell’implementazione delle tecnologie di AI e negli adeguamenti di compliance richiesti a chi ne farà uso\, e su di essa vigileranno gli organi competenti\, nell’ottica di rendere compatibili innovazione e garanzie dei singoli. \nL’European Data Protection Board\, nel dicembre 2024\, è tempestivamente intervenuto in materia con il Parere 28/2024\, che ha affrontato questioni cruciali relative ai rapporti tra Intelligenza Artificiale e protezione dei dati personali\, quali il trattamento fondato sul legittimo interesse nell’addestramento dei modelli\, gli impatti sugli interessati e le misure di minimizzazione\, fornendo anche una prospettazione esemplificativa di trattamenti illegittimi. Assai più recentemente (21 gennaio 2026)\, lo stesso EDPB ha pubblicato un Parere (1/2026)\, adottato congiuntamente all’EDPS\, sul “Digital Omnibus” della Commissione UE che mira a semplificare il quadro normativo della protezione dei dati e dell’Intelligenza Artificiale\, mettendo in guardia la Commissione da taluni rischi che specifici aspetti della riforma comporterebbero. \nMeritano inoltre una doverosa menzione le Raccomandazioni\, complete ed esaustive\, che il Garante dei dati personali francese\, CNIL\, ha pubblicato nel luglio 2025 per gli sviluppatori di sistemi di Intelligenza Artificiale. \nIl corso organizzato da Paradigma intende costituire un’occasione di approfondimento dei problemi aperti in materia di data protection e AI e di indicazione degli adeguamenti richiesti alle organizzazioni sul piano organizzativo\, formativo e di rapporti con gli utenti/clienti. \nDestinatari dell’evento \nL’iniziativa è rivolta ai Data Protection Officer\, ai Responsabili del Trattamento dei Dati\, ai Privacy Officer\, alle persone autorizzate al trattamento dei dati e ai referenti per la privacy comunque denominati di imprese e pubbliche amministrazioni\, ai Responsabili dello sviluppo e dell’implementazione delle tecnologie di AI\, ai Responsabili dell’Area Marketing\, ai Social Media Manager\, agli IT Manager\, ai Security Officer\, ai Responsabili dei Servizi di Compliance\, Affari Legali\, Affari Istituzionali e Regolamentari\, nonchè a tutti i professionisti che si occupano di TMT\, IP\, ICT\, Privacy e Data Protection. \nGli obiettivi dell’evento  \nObiettivo dell’incontro è presentare un quadro organico dello stato dell’arte in materia di adempimenti e rischi data protection conseguenti all’uso di tecnologie AI\, e di fornire indicazioni pratiche in vista dell’ottimale compliance tanto al GDPR che all’AI Act. I partecipanti all’incontro avranno l’occasione di aggiornare le proprie competenze professionali e di affrontare questioni concrete emerse nella propria attività attraverso un confronto con autorevoli esperti. \n\n\n		\n	\nProgramma\n	\n		\n			Martedì 31 marzo 2026 \nIntelligenza Artificiale e protezione dei dati personali: rapporti tra fonti e tra ordinamenti e problemi pratici per gli operatori \nAvv. Alessandro Del Ninno\nFIVERS Studio Legale e Tributario \nIl trattamento fondato sul legittimo interesse (Parere 28/2024 dell’EDPB su taluni aspetti relativi al legittimo trattamento dei dati personali nel contesto dei modelli di AI)\nLe tre fasi individuate dall’EDPB nella valutazione dell’interesse legittimo nel contesto dello sviluppo e della diffusione dei modelli di AI:\n• prima fase: perseguimento di un interesse legittimo da parte del titolare del trattamento o di terzi\n• seconda fase: analisi della necessità del trattamento per il perseguimento dell’interesse legittimo\n• terza fase: test di bilanciamento\nAvv. Gabriele Franco\nPanetta & Associati \nL’impatto del trattamento sugli interessati (Parere 28/2024 dell’EDPB su taluni aspetti relativi al legittimo trattamento dei dati personali nel contesto dei modelli di IA)\nLe ragionevoli aspettative degli interessati\nLe misure di attenuazione dell’impatto del trattamento sugli interessati e la loro distinzione per tipologie e per fase di adozione\nGli “scenari” di trattamento illecito prospettati dall’EDPB\nAvv. Giovanni Guerra\nStudio Legale Guerra-Ricchiuto \n“Road map” di ulteriori profili di compliance partire da recenti indirizzi EDPB (Parere 28/2024)\, EDPS (Orientamenti del 28 ottobre 2025)\, CNIL (Raccomandazioni 22 luglio 2025)\nLa determinazione di ruoli e responsabilità rispetto ai sistemi di IA generativa\nQuando è necessario effettuare una DPIA\nCondizioni di liceità del trattamento dei dati personali durante la progettazione\, lo sviluppo e la convalida di sistemi di AI generativa\nCome applicare la limitazione delle finalità nel ciclo di vita dell’AI generativa\nI sistemi di IA generativa rispettano il principio dell’accuratezza dei dati?\nCome informare le persone in merito al trattamento dei dati personali nel caso di utilizzo di sistemi di IA generativa\nDecisioni automatizzate (e diritto all’intervento umano)\nCome garantire un trattamento equo ed evitare pregiudizi a fronte dell’utilizzo di sistemi di AI generativa: i rilievi contenuti nel Parere congiunto n. 1/2026 di EDPB ed EDPS sulle previsioni del Digital Omnibus in materia\nL’esercizio dei diritti individuali\nI controlli del DPO nell’era dell’AI\nAvv. Nadia Martini\nRödl\nAvv. Nicola Sandon\nRödl \nLe indicazioni operative del CNIL per gli sviluppatori del 28 luglio 2025\nLa definizione di un obiettivo (finalità) per il sistema di IA\nLa determinazione della propria qualificazione giuridica soggettiva\nLe cautele da osservare nella raccolta dei dati\nLa verifica delle possibilità di riuso di alcuni dati personali\nLa minimizzazione dei dati personali utilizzati\nLa definizione di un periodo di conservazione\nAnalizzare lo “statuto” di un modello di IA per valutarne la sottoposizione o no al GDPR\nRispettare i principi del GDPR durante la fase di “annotazione”\nI sistemi di IA generativa rispettano il principio dell’accuratezza dei dati?\nAvv. Vincenzo Colarocco\nStudio Previti \nStrumenti operativi di compliance aziendale in ambito AI e ruolo del DPO \nDagli “Use Cases” all’utilizzo su più larga scala: come promuovere un approccio all’AI rispettoso della protezione dei dati personali\nGli input del DPO e le interazioni con vertici aziendali e altri dirigenti\nI contenuti della formazione\nIl contributo alla definizione di policy corrette\nIl ripensamento della modulistica da utilizzare\nAvv. Ugo Ettore Di Stefano\nLexellent \n\n\n		\n	\nDocenti\n	\n		\n			Avv. Vincenzo Colarocco\nPartner\nStudio Previti \nAvv. Alessandro Del Ninno\nPartner\nFIVERS Studio Legale e Tributario \nAvv. Ugo Ettore Di Stefano\nSenior Partner\nResponsabile Dipartimento Privacy & Corporate Compliance\nLexellent \nAvv. Gabriele Franco\nCounsel\nPanetta & Associati \nAvv. Giovanni Guerra\nPartner\nStudio Legale Guerra-Ricchiuto \nAvv. Nadia Martini\nHead of Data Protection Italy\ne Responsabile Privacy\, Cyber & Innovation Team\nCertified Privacy Officer\nPartner\nRödl \nAvv. Nicola Sandon\nCertified Privacy Officer\nManager\nRödl \n\n\n		\n	\nBrochure\n	\n		\n			 Scarica la brochure\n\n		\n	\nIscrizioni e Condizioni\n	\n		\n			Quota di partecipazione \nLa quota di partecipazione in diretta streaming include la fruizione degli interventi\, nonché la possibilità di scaricare\, in formato elettronico\, il materiale didattico che i relatori riterranno di mettere a disposizione. \nÈ inoltre prevista la possibilità di rivolgere contestualmente domande ai docenti (attivando il proprio microfono o tramite chat)\, oppure sottoporle in via preventiva\, inviando una e-mail a info@paradigma.it entro il giorno antecedente l’evento. \nIn caso di diretta streaming con accessi multipli è necessario contattare la Segreteria Organizzativa per un preventivo personalizzato. \nModalità di funzionamento della diretta streaming \nLe iniziative formative sono fruibili in diretta streaming attraverso un semplice collegamento alla piattaforma dedicata. La piattaforma è strutturata per garantire un ottimo livello di fruizione e interazione e non necessita di particolari requisiti tecnici. \nAlcuni giorni prima dell’evento il partecipante riceve le istruzioni di accesso e sarà sufficiente selezionare il link ricevuto per accedere all’aula virtuale. \nGli interventi in diretta streaming sono supportati dalle slide predisposte dal docente. Ogni utente collegato potrà intervenire formulando domande o richieste di approfondimento attivando il proprio microfono o utilizzando la chat dedicata. \nModalità di iscrizione \nL’iscrizione si perfeziona al momento del ricevimento del modulo di registrazione\, da inviare via e-mail all’indirizzo info@paradigma.it\, integralmente compilato e sottoscritto. Il numero dei collegamenti disponibili è limitato e la priorità d’iscrizione è determinata dalla data di ricezione del modulo di registrazione. Si consiglia pertanto di effettuare una preiscrizione telefonica. \nModalità di pagamento \nLa quota di partecipazione deve essere versata all’atto della presentazione della richiesta di iscrizione e\, in ogni caso\, prima dell’effettuazione dell’evento formativo\, tramite bonifico bancario intestato a: \nParadigma Srl – Corso Vittorio Emanuele II\, 68 – 10121 Torino\nc/o Banco BPM Spa\nIBAN IT 14 V 05034 01017 000000002530 \nFormazione finanziata \nLa quota di partecipazione può essere completamente rimborsata tramite voucher promossi dai Fondi Paritetici Interprofessionali. Paradigma offre la completa e gratuita gestione delle spese di progettazione\, monitoraggio e rendicontazione. La possibilità di accedere alla formazione finanziata con partecipazione mediante diretta streaming può variare a seconda dell’Ente erogante. \nAttestato di frequenza \nL’attestato di partecipazione nominativo sarà inviato al termine dell’evento formativo ai partecipanti che si sono regolarmente collegati all’aula virtuale. \nDiritto di recesso e modalità di disdetta \nÈ attribuita ai partecipanti la facoltà di recedere ai sensi dell’art. 1373 c.c. Il recesso dovrà essere comunicato in forma scritta almeno sette giorni prima della data di inizio dell’evento formativo (escluso il sabato e la domenica). Qualora la disdetta pervenga oltre tale termine o si verifichi di fatto con il mancato collegamento alla diretta streaming\, la quota di partecipazione sarà addebitata per intero e sarà inviato al partecipante il materiale didattico e\, se disponibile e per un periodo limitato\, la registrazione dell’evento. In qualunque momento l’azienda o lo studio potranno comunque sostituire il partecipante\, comunicando il nuovo nominativo alla nostra Segreteria Organizzativa. \nVariazioni di programma \nParadigma\, per ragioni eccezionali e imprevedibili\, si riserva di annullare o modificare la data dell’evento formativo\, dandone comunicazione agli interessati entro tre giorni dalla data di inizio prevista. In tali casi le quote di partecipazione pervenute verranno rimborsate\, con esclusione di qualsivoglia onere o obbligo a carico di Paradigma. Paradigma si riserva inoltre\, per ragioni sopravvenute e per cause di forza maggiore\, di modificare l’articolazione del programma e di sostituire i docenti previsti con altri docenti di pari livello professionale. \nPer ulteriori informazioni è possibile contattare la Segreteria Organizzativa al numero 011.538686 o all’indirizzo e-mail info@paradigma.it. \n\n\n		\n	\n\n\n	\n		\n			Quota di partecipazione\n	\n		\n			€ 1.100 + Iva\n\n		\n	\n\n	\n		\n			In caso di videoconferenza con accessi multipli è necessario contattare la Segreteria organizzativa per un preventivo personalizzato. \n\n		\n	\n\n\n		\n	\n\n	\n		\n			\n\n\n\n\n\n\n	\n		\n			Early booking -20%\nInviando il modulo di iscrizione entro il 10 marzo si avrà diritto a una riduzione del 20% sulla quota di partecipazione. \n\n		\n	\n\n\n\n		\n	\n\n	\n		\n			\n\n\n\n\n\n\n	\n		\n			Quota corporate\nIscrivi all’evento 5 o più risorse provenienti dalla stessa organizzazione con una riduzione del 50%. \n\n		\n	\n\n\n\n		\n	\n\n	\n		\n			\n\n		\n	\n\n	\n		\n			\n\n\n\n\n\n\n	\n		\n			Progetto Giovani Eccellenze -50%\nL’adesione all’evento formativo permette di iscrivere una seconda risorsa\, che non abbia compiuto il 30° anno di età e proveniente dalla stessa organizzazione\, con una riduzione del 50% sulla seconda quota di partecipazione. L’agevolazione è calcolata sulla quota ordinaria. \n\n		\n	\n\n\n\n		\n	\n\n	\n		\n			\n\n\n\n\n\n\n	\n		\n			Formazione finanziata\nLa quota di partecipazione all’iniziativa può essere completamente rimborsata tramite voucher promossi dai Fondi Paritetici Interprofessionali. Paradigma offre la completa e gratuita gestione delle spese di progettazione\, monitoraggio e rendiconto. \n\n		\n	\n\n\n\n		\n	\n\n	\n		\n			\n\n\n\n\n\n\n	\n		\n			Mercati elettronici della PA\nParadigma opera sul MePA e sui principali mercati elettronici di soggetti aggregatori e centrali di committenza. \n\n		\n	\n\n\n\n		\n	\n\n	\n		\n			\n	\n\n\n	I campi con (*) sono obbligatori\n	\n		\n		Dati relativi all'evento\n		\n		\n			Partecipazione in aula\n			Partecipazione in videoconferenza\n		\n		\n\n		Dati relativi al richiedente\n		\n		\n		\n		\n		\n		\n		\n		\n\n	\n\n	\n\n		Dati per eventuale partecipante under 30\n		\n		\n		\n\n	\n\n	\n\n		Dati per la fatturazione elettronica\n		\n		\n		\n		\n		\n		\n				\n		\n		\n		  Split Payment:\n          \n            \n              \n              Si \n            No\n          \n        \n		\n		\n		\n		\n	\n\n	\n\n		Per informazioni contattare\n		\n		\n		\n		\n		\n	\n	L'iscrizione all'evento formativo si intende perfezionata al momento del ricevimento\, da parte di Paradigma Srl\, del presente modulo di registrazione compilato in ogni sua parte\, stampato\, firmato e inviato via e-mail all'indirizzo info@paradigma.it. Riceverete via email conferma dell'avvenuta iscrizione. \n\n\n		\n	     Acconsento all'invio di comunicazioni sui servizi Paradigma Srl - Consenso finalizzato\, anche con modalità automatizzate\, all'invio di comunicazioni relative a prodotti e servizi di Paradigma Srl e al fine di ricevere materiale informativo o promozionale.\n	\n	     Acconsento alla personalizzazione delle offerte - Consenso finalizzato\, mediante modalità automatizzate\, a personalizzare i servizi forniti e meglio indirizzare le proposte promozionali grazie ad attività di profilazione.\n	\n	Inviando i dati autorizzi Paradigma Srl a utilizzare i tuoi dati personali per evadere la richiesta di partecipazione all’evento formativo e svolgere le attività a ciò connesse. I dati potranno essere trattati\, per conto di Paradigma Srl\, da dipendenti e collaboratori incaricati di svolgere specifici servizi necessari all’esecuzione delle tue richieste. Il conferimento dei tuoi dati\, pur essendo facoltativo\, si rende necessario per l’esecuzione del servizio richiesto.	\n\n\n\n\n		\n\n\n\n\n\n		\n	\n[/vc_column][/vc_row]
URL:https://paradigma.it/iniziativa/i-profili-data-protection-dellintelligenza-artificiale-3/
CATEGORIES:Privacy e tutela dei Dati Personali
END:VEVENT
END:VCALENDAR