BEGIN:VCALENDAR
VERSION:2.0
PRODID:-//Paradigma srl - ECPv5.2.1//NONSGML v1.0//EN
CALSCALE:GREGORIAN
METHOD:PUBLISH
X-WR-CALNAME:Paradigma srl
X-ORIGINAL-URL:https://paradigma.it
X-WR-CALDESC:Eventi per Paradigma srl
BEGIN:VTIMEZONE
TZID:Europe/Rome
BEGIN:DAYLIGHT
TZOFFSETFROM:+0100
TZOFFSETTO:+0200
TZNAME:CEST
DTSTART:20240331T010000
END:DAYLIGHT
BEGIN:STANDARD
TZOFFSETFROM:+0200
TZOFFSETTO:+0100
TZNAME:CET
DTSTART:20241027T010000
END:STANDARD
END:VTIMEZONE
BEGIN:VEVENT
DTSTART;TZID=Europe/Rome:20240610T093000
DTEND;TZID=Europe/Rome:20240611T163000
DTSTAMP:20260421T165816
CREATED:20240506T153507Z
LAST-MODIFIED:20240606T134110Z
UID:20486-1718011800-1718123400@paradigma.it
SUMMARY:I PPP e le concessioni
DESCRIPTION:[vc_row][vc_column]\n	\n		\n			\n		\n	\n\n	\n		\n			\nLa disciplina prevista dal D. Lgs. n. 36/2023\nLe modalità di coinvolgimento dei privati\nLa fase di esecuzione contrattuale\n\nI docenti\, nel corso dell’evento formativo\, risponderanno alle domande e alle richieste di chiarimenti formulate dai partecipanti. Eventuali quesiti potranno essere anticipati inviando una email all’indirizzo info@paradigma.it \n \n\n		\n	\n\n	\n		\n			Evento in videoconferenza \n\n		\n	\n\n	\n		\n			10 e 11 giugno 2024 \n\n		\n	\n\n	\n		\n			 \n\n		\n	\n\n	\n		\n			\n\n		\n	\nPresentazioneProgrammaDocentiBrochureIscrizioni e CondizioniPresentazione\n	\n		\n			Contenuti dell’evento \nLa cooperazione pubblico-privato viene da più parti indicata quale uno dei migliori e più efficienti strumenti per la realizzazione di opere e servizi\, in forza dell’effetto moltiplicatore che questa è in grado di realizzare\, sfruttando il mix di contributo pubblico e apporto finanziario privato\, nel quadro di una ben definita pianificazione economica degli interventi e di un attento controllo pubblico sull’esecuzione. \nIl nuovo Codice dei contratti pubblici\, D. Lgs. n. 36/2023\, si prefigge di rendere più chiara la cornice normativa di contesto\, e meglio definite le concrete condizioni di praticabilità\, per un ottimale utilizzo dei Partenariati Pubblico-Privato quale soluzione per avviare e realizzare nuove progettualità di interesse pubblico. \nNel corso delle due giornate di studio verrà effettuata un’ampia e articolata trattazione dei PPP e delle concessioni\, così come disciplinate dal nuovo Codice e dalla Direttiva UE 2014/23 di cui esso costituisce recepimento\, unitamente alle altre Direttive del “Pacchetto appalti” del 2014. \nSaranno esaminati tutti gli aspetti di maggiore impatto pratico inerenti gli istituti di partenariato. Tra questi: la centralità della programmazione delle esigenze soddisfabili tramite PPP\, le modalità di sollecitazione di proposte dei privati\, la concessione quale principale figura contrattuale per la realizzazione dei partenariati\, la definizione del rischio operativo\, la durata del rapporto\, le condizioni per il riequilibrio economico delle prestazioni oggetto del sinallagma contrattuale\, la messa al riparo del concessionario dal rischio regolatorio. \nApprofondimenti specifici riguarderanno inoltre la realizzazione di interventi di efficientamento energetico di edifici e di impianti di illuminazione pubblica\, oggetto di specifica disciplina all’art. 200 del Codice\, nonché le forme ulteriori di cooperazione pubblico-privato (sponsorizzazione\, locazione finanziaria di opere di pubblica utilità\, partenariato sociale\, cessione di immobili in cambio di opere). \nSaranno infine trattati i partenariati nell’ambito dei servizi di interesse economico generale\, disciplinati\, per gli aspetti non definiti dal Codice\, dal D. Lgs. n. 201/2022 di riforma dei servizi pubblici locali e dalle discipline speciali dei singoli settori. \nDestinatari dell’evento  \nL’ evento formativo è rivolto a tutte le stazioni appaltanti e in particolare ai loro Uffici Gare\, Appalti e Approvvigionamenti\, nonché ai loro Uffici Tecnici\, ai Responsabili Gare e agli Uffici Legali e Acquisti degli operatori economici\, a tutti i professionisti e consulenti che operano nell’ambito della contrattualistica pubblica e della finanza di progetto. \nGli obiettivi dell’evento  \nObiettivo dell’incontro è presentare un quadro organico della nuova disciplina dei PPP e delle concessioni\, nonché degli ulteriori strumenti di cooperazione pubblico-privato e delle relative implicazioni pratiche per gli operatori. Saranno forniti ai partecipanti strumenti operativi utili ad aggiornare le proprie competenze professionali e a utilizzare correttamente gli istituti giuridici in questione. \n\n\n		\n	\nProgramma\n	\n		\n			Prima giornata\nLunedì 10 giugno 2024 \nI PARTENARIATI PUBBLICO PRIVATO: \nQUADRO NORMATIVO E DECLINAZIONI OPERATIVE \nIl Partenariato Pubblico-Privato nel nuovo Codice dei contratti pubblici\nLe indicazioni di carattere sistematico ricavabili dall’art. 174 del D. Lgs. n. 36/2023\nLe fattispecie contrattuali espressamente ricomprese e gli spazi per lo sviluppo di figure atipiche\nL’individuazione del “risultato di interesse pubblico”\, degli “interessi meritevoli di tutela”\, delle “esigenze pubbliche idonee a essere soddisfatte attraverso forme di partenariato pubblico-privato”: gli spazi di discrezionalità dell’Amministrazione\nPres. Luigi Carbone\nConsiglio di Stato \nIl finanziamento dei PPP\nIl coinvolgimento dei finanziatori in fase di gara\nIl finanziamento non recourse\nIl finanziamento mediante accesso al mercato dei capitali\nGli elementi rilevanti ai fini del finanziamento (bancabilità et alia)\nLa struttura dell’operazione di capital market\nIl perfezionamento del finanziamento\nAvv. Monica Colombera\nLegance Avvocati Associati \nIl procedimento e i criteri per l’aggiudicazione delle concessioni\nL’individuazione dei “requisiti minimi”\nLa facoltà di limitare il numero di candidati\nLe modalità di conduzione e l’oggetto delle possibili negoziazioni di cui all’art. 183\, comma 7\nIl soddisfacimento delle condizioni di partecipazione da parte dei candidati\nIl progetto di fattibilità quale livello progettuale minimo da porsi a base dell’aggiudicazione\nL’elencazione dei criteri di aggiudicazione secondo ordine decrescente di importanza e la condizione di possibile modifica in itinere individuata dall’art. 185\, comma 4\nCons. Flavia Risso\nTAR Toscana \nL’affidamento in concessione con finanza di progetto \nLa possibilità\, per le Amministrazioni\, di sollecitare proposte degli operatori economici sulle iniziative inserite nel programma triennale\nI contenuti necessari della proposta del privato: il progetto di fattibilità\, la bozza di convenzione\, il piano economico-finanziario asseverato e la specificazione delle caratteristiche del servizio e della gestione\nL’iter procedimentale\, dalla presentazione della proposta all’indizione della gara\nLa partecipazione degli investitori istituzionali\nL’aggiudicazione: il criterio dell’offerta economicamente più vantaggiosa sulla base del rapporto qualità/prezzo\nLe garanzie: declinazione in funzione delle diverse fasi procedimentali ed esecutive del contratto di concessione\nLa società di scopo: obbligo di costituzione e disciplina\nPrivilegio e cessione del credito\nCons. Flavia Risso\nTAR Toscana \nL’eventuale esercizio del diritto di prelazione da parte del proponente\nLe criticità dell’istituto\, nella prassi operativa\nLa previsione di cui all’art. 193\, c. 4 del Codice e la relativa genesi\nI casi di pluralità di proposte per lo stesso intervento: la fase di individuazione del promotore quale spazio di ampia discrezionalità amministrativa (Consiglio di Stato\, Sez. V\, Sentenza n. 5184/2023)\nCons. Flavia Risso\nTAR Toscana \nRISCHIO OPERATIVO E VALUTAZIONI DELL’OPERATORE ECONOMICO \nIl contratto di concessione: traslazione del rischio operativo; modalità ammissibili di intervento pubblico di sostegno\nLa configurazione del contratto di concessione nel nostro ordinamento e l’evoluzione\nnel tempo\nL’individuazione del rischio operativo in condizioni “normali”\nLa remunerazione dell’operatore economico\nRemunerazione e durata della concessione\nL’individuazione delle operazioni economiche strutturalmente in disequilibrio e i termini\ndel sostegno pubblico\nLe implicazioni di contabilità pubblica\nProf. Avv. Mariano Protto\nUniversità di Torino \nLe valutazioni di convenienza dell’operatore economico in un’operazione di PPP\nLa profittabilità ipotizzabile nelle varie tipologie di partenariato\nLe autovalutazioni circa la propria capacità di gestire i rischi prospettabili\nLa scelta di presentare comunque una proposta in un project finance di cui non si è promotori\nDott. Ivo Allegro\nIniziativa \n  \nSeconda giornata\nMartedì 11 giugno 2024 \nCONCESSIONI E SIEG \nLe concessioni aventi ad oggetto servizi d’interesse economico generale\nI profili normati dal D. Lgs. n. 201/2022 o da altre discipline di settore: criteri di individuazione delle attività di interesse economico generale\, conformazione dell’organizzazione dell’attività di impresa\, modalità di gestione del servizio\, definizione degli ambiti territoriali ottimali e omogenei\, disciplina delle reti e delle altre dotazioni patrimoniali essenziali\, metodologia tariffaria\nI profili per i quali è prevista l’applicazione del Libro IV\, Parte II del D. Lgs. n. 36/2023 e le possibili criticità applicative: ad es.\, in tema di durata della concessione\nLa fattispecie di partenariato istituzionalizzato costituita dalla società mista\nCondizioni alle quali la società mista è esonerata dall’applicazione del Codice dei Contratti Pubblici\, ex art. 17\, comma 6\, D. Lgs. n. 175/2016\nLe condizioni per la gestione di servizi di interesse economico generale nella forma dell’in house providing\nCons. Dario Simeoli\nConsiglio di Stato \nULTERIORI FATTISPECIE DI PARTENARIATO \nSponsorizzazioni e altre fattispecie peculiari di cooperazione pubblico-privato\nI contratti di sponsorizzazione nel settore dei beni culturali\nLa locazione finanziaria di opere di pubblica utilità\nIl partenariato sociale\nLa cessione di immobili in cambio di opere\nAvv. Federico Smerchinich\nAnselmi & Associati Law Lab \nGli EPC per la riqualificazione energetica di immobili e l’efficientamento energetico dei sistemi di illuminazione pubblica\nLa previsione di cui all’art. 200 del nuovo Codice\nIl contratto di EPC nell’ambito dei PPP\nIl risparmio energetico: stima\, verifica e necessità di mantenimento dello stesso nei contratti di PPP qualificabili come EPC\nProfili di rischio e investimento off balance-sheet\nIl vademecum predisposto dal DIPE\nLa recente consultazione di ANAC sullo schema di contratto tipo\nLe indicazioni Eurostat del 2015 e del 2017\nApplicazione alla riqualificazione energetica di immobili\nApplicazione all’illuminazione pubblica\nAvv. Giorgio Lezzi\nOsborne Clarke \nESECUZIONE DEL CONTRATTO E CONTROLLI \nI PPP nella fase di esecuzione contrattuale \nL’affidamento al RUP\, “sentito l’operatore economico”\, delle funzioni di responsabile unico del progetto di partenariato\, e le relative incombenze\nLa generalizzazione della possibilità di ricorrere a società di scopo per l’esecuzione dei partenariati pubblico privato\nLa praticabilità del subappalto\, anche integrale\, delle prestazioni oggetto del contratto di concessione\, in favore di imprese in possesso dei requisiti richiesti dal bando\nGli obblighi di esternalizzazione dei concessionari ai sensi dell’art. 186 c.2\nProf. Avv. Luciano Salomoni\nUniversità di Milano Bicocca \nLe modifiche ai contratti di concessione\nLe condizioni per la praticabilità della modifica dei contratti di concessione senza che debba essere disposta una nuova procedura di affidamento\nLe modifiche finalizzate al riequilibrio del piano economico-finanziario (art. 192)\nLa disciplina del subentro\nLe condizioni per l’esercizio della risoluzione e del recesso\nAvv. Marco Martinelli\nGianni & Origoni \n\n\n		\n	\nDocenti\n	\n		\n			Dott. Ivo Allegro\nPartner e Responsabile Transaction Services\nIniziativa\nDocente a contratto di Project Cycle Management e Accesso a Fondi Pubblici\nUniversità Unitelma Sapienza \nPres. Luigi Carbone\nPresidente IV Sezione Giurisdizionale\nConsiglio di Stato\nVice Presidente e Coordinatore\nCommissione Speciale del Consiglio di Stato\nincaricata della formulazione del progetto di Codice dei contratti pubblici \nAvv. Monica Colombera\nSenior Partner\nCoordinatrice Dipartimento Energy & Infrastructure\nLegance Avvocati Associati \nAvv. Giorgio Lezzi\nPartner\nHead of Infrastructure Services & Public Law – Italy\nOsborne Clarke \nAvv. Marco Martinelli\nSocio\nGianni & Origoni \nProf. Avv. Mariano Protto\nOrdinario di Diritto Amministrativo\nUniversità di Torino \nCons. Flavia Risso\nConsigliere – TAR Toscana\nMembro di Gruppo di Lavoro\nCommissione Speciale del Consiglio di Stato\nincaricata della formulazione del progetto di Codice dei contratti pubblici \nProf. Avv. Luciano Salomoni\nProfessore Aggregato di Diritto Pubblico dell’Economia\nUniversità di Milano Bicocca\nFounding Partner\nCocco Salomoni Santoro – Studio Legale Associato \nCons. Dario Simeoli\nConsigliere – II Sezione Giurisdizionale\nConsiglio di Stato\nMembro di Gruppo di Lavoro\nCommissione Speciale del Consiglio di Stato\nincaricata della formulazione del progetto di Codice dei contratti pubblici \nAvv. Federico Smerchinich\nAnselmi & Associati Law Lab \n\n\n		\n	\nBrochure\n	\n		\n			 Scarica la brochure\n\n		\n	\nIscrizioni e Condizioni\n	\n		\n			Quota di partecipazione \nLa quota di partecipazione in aula virtuale (diretta streaming) include la fruizione in diretta delle docenze\, nonché l’invio\, in formato elettronico\, del materiale didattico che i relatori riterranno di mettere a disposizione. È inoltre prevista la possibilità di presentare in diretta domande e quesiti di specifico interesse a mezzo chat\, nonché di sottoporli in via preventiva\, inviando una email a info@paradigma.it entro il giorno antecedente l’evento. \nIn caso di videoconferenza con accessi multipli è necessario contattare la Segreteria organizzativa per un preventivo personalizzato. \nModalità di funzionamento della videoconferenza \nE’ possibile accedere all’aula virtuale da qualsiasi luogo\, utilizzando il proprio PC o tablet con una semplice connessione a Internet. La piattaforma informatica utilizzata da Paradigma (Adobe Connect) non necessita di requisiti tecnici particolari. \nNei giorni antecedenti l’evento il partecipante riceverà per posta elettronica le credenziali e le istruzioni di accesso. Il giorno dell’evento sarà sufficiente selezionare il link che troverà nella mail e inserire le credenziali per accedere all’aula virtuale. \nDurante gli interventi\, oltre a vedere e sentire i docenti\, è possibile consultare simultaneamente la documentazione predisposta dal relatore. Ogni utente collegato potrà porre domande sulle tematiche affrontate a mezzo chat\, alle quali il docente risponderà nel corso dell’intervento. \nModalità di iscrizione \nL’iscrizione si perfeziona al momento del ricevimento del modulo di registrazione\, da inviare via e-mail all’indirizzo info@paradigma.it\, integralmente compilato. Il numero dei collegamenti disponibili è limitato e la priorità d’iscrizione è determinata dalla data di ricezione del modulo di registrazione. Si consiglia pertanto di effettuare una preiscrizione telefonica. \nModalità di pagamento \nLa quota di partecipazione deve essere versata all’atto della presentazione della richiesta di iscrizione e\, in ogni caso\, prima dell’effettuazione dell’evento formativo\, tramite bonifico bancario intestato a: \nParadigma Srl – Corso Vittorio Emanuele II\, 68 – 10121 Torino\nc/o Banco BPM Spa\nIBAN IT 14 V 05034 01017 000000002530 \nFormazione finanziata \nLa quota di partecipazione può essere completamente rimborsata tramite voucher promossi dai Fondi Paritetici Interprofessionali. Paradigma offre la completa e gratuita gestione delle spese di progettazione\, monitoraggio e rendicontazione. La possibilità di accedere alla formazione finanziata con partecipazione mediante videoconferenza può variare a seconda dell’Ente erogante. \nAttestato di frequenza \nL’attestato di partecipazione nominativo sarà inviato al termine dell’evento formativo ai partecipanti che si sono regolarmente collegati all’aula virtuale. \nDiritto di recesso e modalità di disdetta \nÈ attribuita ai partecipanti la facoltà di recedere ai sensi dell’art. 1373 c.c. Il recesso dovrà essere comunicato in forma scritta almeno sette giorni prima della data di inizio dell’evento formativo (escluso il sabato e la domenica). Qualora la disdetta pervenga oltre tale termine o si verifichi di fatto con il mancato collegamento alla videoconferenza\, la quota di partecipazione sarà addebitata per intero e sarà inviato al partecipante il materiale didattico. In qualunque momento l’azienda o lo studio potranno comunque sostituire il partecipante\, comunicando il nuovo nominativo alla nostra Segreteria organizzativa. \nVariazioni di programma \nParadigma\, per ragioni eccezionali e imprevedibili\, si riserva di annullare o modificare la data dell’evento formativo\, dandone comunicazione agli interessati entro tre giorni dalla data di inizio prevista. In tali casi le quote di partecipazione pervenute verranno rimborsate\, con esclusione di qualsivoglia onere o obbligo a carico di Paradigma. Paradigma si riserva inoltre\, per ragioni sopravvenute e per cause di forza maggiore\, di modificare l’articolazione del programma e di sostituire i docenti previsti con altri docenti di pari livello professionale. \nPer ulteriori informazioni è possibile contattare la Segreteria organizzativa al numero 011.538686 o all’indirizzo e-mail info@paradigma.it. \n\n\n		\n	\n\n\n	\n		\n			Quota di partecipazione\n	\n		\n			€ 1.100 + Iva una giornata€ 2.050 + Iva due giornate\n\n		\n	\n\n	\n		\n			In caso di videoconferenza con accessi multipli è necessario contattare la Segreteria organizzativa per un preventivo personalizzato. \n\n		\n	\n\n\n		\n	\n\n	\n		\n			\n\n\n\n\n\n\n	\n		\n			Early booking -20%\nInviando il modulo di iscrizione entro il 20 maggio si avrà diritto a una riduzione del 20% sulla quota di partecipazione.\n \n\n		\n	\n\n\n\n		\n	\n\n	\n		\n			\n\n		\n	\n\n	\n		\n			\n\n		\n	\n\n	\n		\n			\n\n\n\n\n\n\n	\n		\n			Progetto Giovani Eccellenze -50%\nL’adesione all’evento formativo permette di iscrivere una seconda risorsa\, che non abbia compiuto il 30° anno di età e proveniente dalla stessa organizzazione\, con una riduzione del 50% sulla seconda quota di partecipazione. L’agevolazione è calcolata sulla quota ordinaria. \n\n		\n	\n\n\n\n		\n	\n\n	\n		\n			\n\n\n\n\n\n\n	\n		\n			Formazione finanziata\nLa quota di partecipazione all’iniziativa può essere completamente rimborsata tramite voucher promossi dai Fondi Paritetici Interprofessionali. Paradigma offre la completa e gratuita gestione delle spese di progettazione\, monitoraggio e rendiconto. \n\n		\n	\n\n\n\n		\n	\n\n	\n		\n			\n\n\n\n\n\n\n	\n		\n			Mercati elettronici della PA\nParadigma opera sul MePA e sui principali mercati elettronici di soggetti aggregatori e centrali di committenza. \n\n		\n	\n\n\n\n		\n	\n\n	\n		\n			\n	\n\n\n	I campi con (*) sono obbligatori\n	\n		\n		Dati relativi all'evento\n		\n		\n			Partecipazione in aula\n			Partecipazione in videoconferenza\n		\n		\n\n		Dati relativi al richiedente\n		\n		\n		\n		\n		\n		\n		\n		\n\n	\n\n	\n\n		Dati per eventuale partecipante under 30\n		\n		\n		\n\n	\n\n	\n\n		Dati per la fatturazione elettronica\n		\n		\n		\n		\n		\n		\n				\n		\n		\n		  Split Payment:\n          \n            \n              \n              Si \n            No\n          \n        \n		\n		\n		\n		\n	\n\n	\n\n		Per informazioni contattare\n		\n		\n		\n		\n		\n	\n	L'iscrizione all'evento formativo si intende perfezionata al momento del ricevimento\, da parte di Paradigma Srl\, del presente modulo di registrazione compilato in ogni sua parte\, stampato\, firmato e inviato via e-mail all'indirizzo info@paradigma.it. Riceverete via email conferma dell'avvenuta iscrizione. \n\n\n		\n	     Acconsento all'invio di comunicazioni sui servizi Paradigma Srl - Consenso finalizzato\, anche con modalità automatizzate\, all'invio di comunicazioni relative a prodotti e servizi di Paradigma Srl e al fine di ricevere materiale informativo o promozionale.\n	\n	     Acconsento alla personalizzazione delle offerte - Consenso finalizzato\, mediante modalità automatizzate\, a personalizzare i servizi forniti e meglio indirizzare le proposte promozionali grazie ad attività di profilazione.\n	\n	Inviando i dati autorizzi Paradigma Srl a utilizzare i tuoi dati personali per evadere la richiesta di partecipazione all’evento formativo e svolgere le attività a ciò connesse. I dati potranno essere trattati\, per conto di Paradigma Srl\, da dipendenti e collaboratori incaricati di svolgere specifici servizi necessari all’esecuzione delle tue richieste. Il conferimento dei tuoi dati\, pur essendo facoltativo\, si rende necessario per l’esecuzione del servizio richiesto.	\n\n\n\n\n		\n\n\n\n\n\n		\n	\n[/vc_column][/vc_row]
URL:https://paradigma.it/iniziativa/i-ppp-e-le-concessioni-4/
CATEGORIES:Gare e Appalti
ORGANIZER;CN="Veronica%20Spiez":MAILTO:vspiez@paradigma.it
END:VEVENT
END:VCALENDAR