BEGIN:VCALENDAR
VERSION:2.0
PRODID:-//Paradigma srl - ECPv5.2.1//NONSGML v1.0//EN
CALSCALE:GREGORIAN
METHOD:PUBLISH
X-WR-CALNAME:Paradigma srl
X-ORIGINAL-URL:https://paradigma.it
X-WR-CALDESC:Eventi per Paradigma srl
BEGIN:VTIMEZONE
TZID:Europe/Rome
BEGIN:DAYLIGHT
TZOFFSETFROM:+0100
TZOFFSETTO:+0200
TZNAME:CEST
DTSTART:20250330T010000
END:DAYLIGHT
BEGIN:STANDARD
TZOFFSETFROM:+0200
TZOFFSETTO:+0100
TZNAME:CET
DTSTART:20251026T010000
END:STANDARD
END:VTIMEZONE
BEGIN:VEVENT
DTSTART;TZID=Europe/Rome:20250325T093000
DTEND;TZID=Europe/Rome:20250325T180000
DTSTAMP:20260419T173124
CREATED:20250224T162124Z
LAST-MODIFIED:20250321T113835Z
UID:22623-1742895000-1742925600@paradigma.it
SUMMARY:I controlli a distanza  sull’attività dei lavoratori tra privacy\, tutele lavoristiche  ed evoluzione tecnologica
DESCRIPTION:[vc_row][vc_column]\n	\n		\n			\n		\n	\n\n	\n		\n			\nEvoluzione giurisprudenziale\, orientamenti privacy e INL\nImplementazione delle policy e dei regolamenti aziendali\nI controlli sul lavoratore in remote working\nRaccolta delle prove e strumenti di forensic investigation\nCorretta impostazione dei procedimenti disciplinari\n\nI docenti\, nel corso dell’evento formativo\, risponderanno alle domande e alle richieste di chiarimenti formulate dai partecipanti. Eventuali quesiti potranno essere anticipati inviando una email all’indirizzo info@paradigma.it \n \n\n		\n	\n\n	\n		\n			Evento in videoconferenza \n\n		\n	\n\n	\n		\n			25 marzo 2025 \n\n		\n	\n\n	\n		\n			 \n\n		\n	\n\n	\n		\n			\n\n		\n	\nPresentazioneProgrammaDocentiBrochureIscrizioni e CondizioniPresentazione\n	\n		\n			Contenuti dell’evento \nNel corso della giornata di studi sarà analizzato il quadro normativo in materia di controlli a distanza sull’attività dei lavoratori alla luce della recente evoluzione giurisprudenziale\, delle indicazioni del Garante Privacy e dei provvedimenti ministeriali in materia. \nUn focus particolare sarà dedicato alle peculiarità dei controlli “tecnologici” in caso di smart working e ai controlli sulla performance lavorativa dello smart worker. \nSaranno presentate le corrette modalità di regolamentazione dell’utilizzo degli strumenti di lavoro\, al fine di mettere i partecipanti nella condizione di poter valutare la congruità delle privacy policies e dei regolamenti aziendali adottati. \nSaranno infine individuate le corrette modalità di gestione delle possibili patologie\, con specifico riguardo alla corretta impostazione del procedimento disciplinare e del licenziamento. \nDestinatari dell’evento \nL´evento formativo è rivolto ai Direttori del Personale\, ai Responsabili delle Relazioni Sindacali\, ai Responsabili della Gestione e dello Sviluppo del Personale\, ai Responsabili della Privacy\, Avvocati\, Consulenti del Lavoro e consulenti in materia lavoristica e previdenziale. \nObiettivi dell’evento \nObiettivo dell’incontro è presentare un quadro dettagliato e completo delle principali novità\, mettendo a disposizione dei partecipanti strumenti operativi e indicazioni pratiche per aggiornare le proprie competenze professionali e fornendo risposte concrete sulle modalità di gestione della casistica più diffusa e ricorrente in ambito aziendale. \n\n\n		\n	\nProgramma\n	\n		\n			Martedì 25 marzo 2025 \nI limiti ai controlli a distanza sull’attività dei lavoratori\, le modalità di effettuazione del monitoraggio “lecito” e i “controlli difensivi”\nLe disposizioni dell’art. 4 dello Statuto dei Lavoratori e i limiti del controllo a distanza “lecito” sull’attività dei lavoratori\nImpianti audiovisivi e altri strumenti di controllo a distanza\nIl concetto di “strumento di lavoro” nella norma statutaria\nIl caso del controllo tramite GPS e telepedaggio\nLa legittimità dei “controlli difensivi” alla luce del nuovo quadro normativo e giurisprudenziale\nProf. Avv. Arturo Maresca\nSapienza Università di Roma\nStudio Legale Maresca\, Morrico\, Boccia & Associati \nI controlli a distanza dei lavoratori tra norme lavoristiche\, data protection e AI\nIl quadro normativo di riferimento: rapporti tra Statuto dei Lavoratori\, GDPR e Codice Privacy\nGli aspetti data protection: casi pratici di controlli leciti alla luce della Opinion n. 2/2017 dei Garanti UE\nIl Provvedimento del Garante n. 364/2024 (e n. 472/2024) in materia di gestione della posta elettronica e dei metadati dei lavoratori\nVideosorveglianza\, dati biometrici e geolocalizzazione dei lavoratori: i Provvedimenti del Garante n. 231/2023 (Cassazione\, 23 marzo 2023\, n. 8375)\, n. 403/2023 e n. 338/2024\nGli aspetti AI: la prospettiva dei controlli alla luce del Regolamento EU sull’Intelligenza Artificiale\nLavoro\, algoritmi e controlli: una panoramica normativa\nLe implicazioni del controllo a distanza nel c.d. lavoro algoritmico: la Direttiva UE del dicembre 2021 e il datore di lavoro rappresentato da una piattaforma elettronica\nCome redigere il Regolamento interno sull’uso degli strumenti informatici di lavoro e l’informativa sul trattamento dei dati\nAvv. Alessandro Del Ninno\nFIVERS Studio Legale e Tributario \nI controlli sulla performance lavorativa effettuati tramite applicativi e strumenti informatici e i limiti imposti dalla disciplina dei controlli a distanza\nDifferenza tra controllo sulla produttività e classico controllo difensivo\nI controlli sulla produttività e i limiti dell’art. 4 dello Statuto dei Lavoratori (Cassazione\, 3 giugno 2024\, n. 15391 e Cassazione\, 26 giugno 2023\, n. 18168)\nI limiti al controllo del rendimento della prestazione e i c.d. controlli difensivi occulti\nI sistemi di controllo sulle chiamate e sui volumi gestiti: la posizione del Garante\nI meccanismi di rilevazione delle presenze e lo smartphone (Provvedimento del Garante n. 350/2016)\nL’utilizzo di software di monitoraggio delle prestazioni (Provvedimento del Garante n. 388/2024)\nL’impatto del Decreto Trasparenza e del Decreto Lavoro: obblighi aggiuntivi in caso di utilizzo di sistemi di monitoraggio “integralmente” automatizzati\nL’utilizzabilità in sede disciplinare dei dati raccolti\nL’adeguata informazione\nAvv. Annalisa Reale\nChiomenti \nLe implicazioni in materia di controlli e di privacy nel lavoro a distanza\nIl lavoro a distanza: lavoro agile\, remote working e smart working\nLa policy generale sullo smart working e l’accordo individuale sul lavoro agile: una guida pratica\nIl lavoro agile alla luce delle novità introdotte dal Collegato Lavoro: il controllo preventivo\nIl controllo a distanza e la tutela della privacy dei lavoratori nel lavoro a distanza\nLe problematiche connesse agli strumenti utilizzati\, alla sicurezza e alla protezione dei dati e del know-how aziendale\nIl controllo sulla produttività del lavoratore a distanza\nAvv. Enrico Barraco\nStudio Legale Barraco \nLa raccolta delle prove dei comportamenti illeciti dei lavoratori e gli strumenti di forensic investigation \nLe attività illecite condotte dai lavoratori per mezzo di strumenti informatici\nLe tecniche investigative per l’accertamento di comportamenti illeciti\nLe criticità delle “ispezioni forensi” e le buone prassi per la loro corretta gestione\nI limiti dell’utilizzabilità in giudizio di prove digitali erroneamente raccolte\nLe modalità di cristallizzazione e acquisizione forense dei dispositivi informatici\nL’analisi forense per la ricostruzione della prova informatica\nLa redazione e produzione in giudizio della perizia informatica forense\nDott. Paolo Dal Checco\nConsulente Informatico Forense \nIl procedimento disciplinare attivato sulla base dei controlli a distanza e i contenuti delle lettere di contestazione\nL’esercizio del potere disciplinare sulla base del controllo a distanza: modalità e limiti\nIl potere disciplinare nei confronti del lavoratore in smart working\nIl “licenziamento social”: la valenza disciplinare delle comunicazioni sui social network\nTecniche di redazione delle lettere di contestazione\nLe prove nel procedimento disciplinare e le giustificazioni\nIl licenziamento e le sanzioni disciplinari per condotte accertate attraverso gli strumenti di controllo a distanza\nAvv. Renato Scorcelli\nScorcelli & Partners Studio Legale \n\n\n		\n	\nDocenti\n	\n		\n			Avv. Enrico Barraco\nFounding Partner\nStudio Legale Barraco \nDott. Paolo Dal Checco\nConsulente Informatico Forense \nAvv. Alessandro Del Ninno\nPartner\nFIVERS Studio Legale e Tributario \nProf. Avv. Arturo Maresca\nEmerito di Diritto del Lavoro\nSapienza Università di Roma\nFounding Partner\nStudio Legale Maresca\, Morrico\, Boccia & Associati \nAvv. Annalisa Reale\nPartner\nResponsabile Dipartimento Diritto del Lavoro\nChiomenti \nAvv. Renato Scorcelli\nFounding and Managing Partner\nScorcelli & Partners Studio Legale \n\n\n		\n	\nBrochure\n	\n		\n			 Scarica la brochure\n\n		\n	\nIscrizioni e Condizioni\n	\n		\n			Quota di partecipazione \nLa quota di partecipazione in aula virtuale (diretta streaming) include la fruizione in diretta delle docenze\, nonché l’invio\, in formato elettronico\, del materiale didattico che i relatori riterranno di mettere a disposizione. È inoltre prevista la possibilità di presentare in diretta domande e quesiti di specifico interesse a mezzo chat\, nonché di sottoporli in via preventiva\, inviando una email a info@paradigma.it entro il giorno antecedente l’evento. \nIn caso di videoconferenza con accessi multipli è necessario contattare la Segreteria organizzativa per un preventivo personalizzato. \nModalità di funzionamento della videoconferenza \nE’ possibile accedere all’aula virtuale da qualsiasi luogo\, utilizzando il proprio PC o tablet con una semplice connessione a Internet. La piattaforma informatica utilizzata da Paradigma (Adobe Connect) non necessita di requisiti tecnici particolari. \nNei giorni antecedenti l’evento il partecipante riceverà per posta elettronica le credenziali e le istruzioni di accesso. Il giorno dell’evento sarà sufficiente selezionare il link che troverà nella mail e inserire le credenziali per accedere all’aula virtuale. \nDurante gli interventi\, oltre a vedere e sentire i docenti\, è possibile consultare simultaneamente la documentazione predisposta dal relatore. Ogni utente collegato potrà porre domande sulle tematiche affrontate a mezzo chat\, alle quali il docente risponderà nel corso dell’intervento. \nModalità di iscrizione \nL’iscrizione si perfeziona al momento del ricevimento del modulo di registrazione\, da inviare via e-mail all’indirizzo info@paradigma.it\, integralmente compilato. Il numero dei collegamenti disponibili è limitato e la priorità d’iscrizione è determinata dalla data di ricezione del modulo di registrazione. Si consiglia pertanto di effettuare una preiscrizione telefonica. \nModalità di pagamento \nLa quota di partecipazione deve essere versata all’atto della presentazione della richiesta di iscrizione e\, in ogni caso\, prima dell’effettuazione dell’evento formativo\, tramite bonifico bancario intestato a: \nParadigma Srl – Corso Vittorio Emanuele II\, 68 – 10121 Torino\nc/o Banco BPM Spa\nIBAN IT 14 V 05034 01017 000000002530 \nFormazione finanziata \nLa quota di partecipazione può essere completamente rimborsata tramite voucher promossi dai Fondi Paritetici Interprofessionali. Paradigma offre la completa e gratuita gestione delle spese di progettazione\, monitoraggio e rendicontazione. La possibilità di accedere alla formazione finanziata con partecipazione mediante videoconferenza può variare a seconda dell’Ente erogante. \nAttestato di frequenza \nL’attestato di partecipazione nominativo sarà inviato al termine dell’evento formativo ai partecipanti che si sono regolarmente collegati all’aula virtuale. \nDiritto di recesso e modalità di disdetta \nÈ attribuita ai partecipanti la facoltà di recedere ai sensi dell’art. 1373 c.c. Il recesso dovrà essere comunicato in forma scritta almeno sette giorni prima della data di inizio dell’evento formativo (escluso il sabato e la domenica). Qualora la disdetta pervenga oltre tale termine o si verifichi di fatto con il mancato collegamento alla videoconferenza\, la quota di partecipazione sarà addebitata per intero e sarà inviato al partecipante il materiale didattico. In qualunque momento l’azienda o lo studio potranno comunque sostituire il partecipante\, comunicando il nuovo nominativo alla nostra Segreteria organizzativa. \nVariazioni di programma \nParadigma\, per ragioni eccezionali e imprevedibili\, si riserva di annullare o modificare la data dell’evento formativo\, dandone comunicazione agli interessati entro tre giorni dalla data di inizio prevista. In tali casi le quote di partecipazione pervenute verranno rimborsate\, con esclusione di qualsivoglia onere o obbligo a carico di Paradigma. Paradigma si riserva inoltre\, per ragioni sopravvenute e per cause di forza maggiore\, di modificare l’articolazione del programma e di sostituire i docenti previsti con altri docenti di pari livello professionale. \nPer ulteriori informazioni è possibile contattare la Segreteria organizzativa al numero 011.538686 o all’indirizzo e-mail info@paradigma.it. \n\n\n		\n	\n\n\n	\n		\n			Quota di partecipazione\n	\n		\n			€ 1.100 + Iva\n\n		\n	\n\n	\n		\n			In caso di videoconferenza con accessi multipli è necessario contattare la Segreteria organizzativa per un preventivo personalizzato. \n\n		\n	\n\n\n		\n	\n\n	\n		\n			\n\n\n\n\n\n\n	\n		\n			Early booking -20%\nInviando il modulo di iscrizione entro il 4 marzo si avrà diritto a una riduzione del 20% sulla quota di partecipazione. \n\n		\n	\n\n\n\n		\n	\n\n	\n		\n			\n\n		\n	\n\n	\n		\n			\n\n		\n	\n\n	\n		\n			\n\n\n\n\n\n\n	\n		\n			Progetto Giovani Eccellenze -50%\nL’adesione all’evento formativo permette di iscrivere una seconda risorsa\, che non abbia compiuto il 30° anno di età e proveniente dalla stessa organizzazione\, con una riduzione del 50% sulla seconda quota di partecipazione. L’agevolazione è calcolata sulla quota ordinaria. \n\n		\n	\n\n\n\n		\n	\n\n	\n		\n			\n\n\n\n\n\n\n	\n		\n			Formazione finanziata\nLa quota di partecipazione all’iniziativa può essere completamente rimborsata tramite voucher promossi dai Fondi Paritetici Interprofessionali. Paradigma offre la completa e gratuita gestione delle spese di progettazione\, monitoraggio e rendiconto. \n\n		\n	\n\n\n\n		\n	\n\n	\n		\n			\n\n\n\n\n\n\n	\n		\n			Mercati elettronici della PA\nParadigma opera sul MePA e sui principali mercati elettronici di soggetti aggregatori e centrali di committenza. \n\n		\n	\n\n\n\n		\n	\n\n	\n		\n			\n	\n\n\n	I campi con (*) sono obbligatori\n	\n		\n		Dati relativi all'evento\n		\n		\n			Partecipazione in aula\n			Partecipazione in videoconferenza\n		\n		\n\n		Dati relativi al richiedente\n		\n		\n		\n		\n		\n		\n		\n		\n\n	\n\n	\n\n		Dati per eventuale partecipante under 30\n		\n		\n		\n\n	\n\n	\n\n		Dati per la fatturazione elettronica\n		\n		\n		\n		\n		\n		\n				\n		\n		\n		  Split Payment:\n          \n            \n              \n              Si \n            No\n          \n        \n		\n		\n		\n		\n	\n\n	\n\n		Per informazioni contattare\n		\n		\n		\n		\n		\n	\n	L'iscrizione all'evento formativo si intende perfezionata al momento del ricevimento\, da parte di Paradigma Srl\, del presente modulo di registrazione compilato in ogni sua parte\, stampato\, firmato e inviato via e-mail all'indirizzo info@paradigma.it. Riceverete via email conferma dell'avvenuta iscrizione. \n\n\n		\n	     Acconsento all'invio di comunicazioni sui servizi Paradigma Srl - Consenso finalizzato\, anche con modalità automatizzate\, all'invio di comunicazioni relative a prodotti e servizi di Paradigma Srl e al fine di ricevere materiale informativo o promozionale.\n	\n	     Acconsento alla personalizzazione delle offerte - Consenso finalizzato\, mediante modalità automatizzate\, a personalizzare i servizi forniti e meglio indirizzare le proposte promozionali grazie ad attività di profilazione.\n	\n	Inviando i dati autorizzi Paradigma Srl a utilizzare i tuoi dati personali per evadere la richiesta di partecipazione all’evento formativo e svolgere le attività a ciò connesse. I dati potranno essere trattati\, per conto di Paradigma Srl\, da dipendenti e collaboratori incaricati di svolgere specifici servizi necessari all’esecuzione delle tue richieste. Il conferimento dei tuoi dati\, pur essendo facoltativo\, si rende necessario per l’esecuzione del servizio richiesto.	\n\n\n\n\n		\n\n\n\n\n\n		\n	\n[/vc_column][/vc_row]
URL:https://paradigma.it/iniziativa/i-controlli-a-distanza-sullattivita-dei-lavoratori-tra-privacy-tutele-lavoristiche-ed-evoluzione-tecnologica-9/
CATEGORIES:Lavoro e Previdenza
ORGANIZER;CN="Veronica%20Spiez":MAILTO:vspiez@paradigma.it
END:VEVENT
END:VCALENDAR