BEGIN:VCALENDAR
VERSION:2.0
PRODID:-//Paradigma srl - ECPv5.2.1//NONSGML v1.0//EN
CALSCALE:GREGORIAN
METHOD:PUBLISH
X-WR-CALNAME:Paradigma srl
X-ORIGINAL-URL:https://paradigma.it
X-WR-CALDESC:Eventi per Paradigma srl
BEGIN:VTIMEZONE
TZID:Europe/Rome
BEGIN:DAYLIGHT
TZOFFSETFROM:+0100
TZOFFSETTO:+0200
TZNAME:CEST
DTSTART:20230326T010000
END:DAYLIGHT
BEGIN:STANDARD
TZOFFSETFROM:+0200
TZOFFSETTO:+0100
TZNAME:CET
DTSTART:20231029T010000
END:STANDARD
END:VTIMEZONE
BEGIN:VEVENT
DTSTART;TZID=Europe/Rome:20230607T093000
DTEND;TZID=Europe/Rome:20230608T180000
DTSTAMP:20260421T151641
CREATED:20230411T151126Z
LAST-MODIFIED:20230605T133949Z
UID:17720-1686130200-1686247200@paradigma.it
SUMMARY:Gli strumenti della digital  transformation a supporto  dell’attività del General Counsel  e dei legali d’impresa
DESCRIPTION:[vc_row][vc_column]\n	\n		\n			\n		\n	\n\n	\n		\n			\nFasi e metodologie di implementazione dei progetti\nAree di attività e modalità di efficientamento\nAutomazione e digitalizzazione dei processi\nApplicazioni pratiche e testimonianze\n\nI docenti\, nel corso dell’evento formativo\, risponderanno alle domande e alle richieste di chiarimenti formulate dai partecipanti. Eventuali quesiti potranno essere anticipati inviando una email all’indirizzo asorba@paradigma.it \n \n\n		\n	\n\n	\n		\n			Evento in videoconferenza \n\n		\n	\n\n	\n		\n			7 e 8 giugno 2023 \n\n		\n	\n\n	\n		\n			 \n\n		\n	\n\n	\n		\n			\n\n		\n	\nPresentazioneProgrammaDocentiBrochureIscrizioni e CondizioniPresentazione\n	\n		\n			Contenuti dell’evento \nNel corso delle giornate di studio saranno analizzate le fasi\, le metodologie e gli strumenti necessari per implementare progetti di digital transformation a supporto dell’attività dei General Counsel e dei legali d’azienda. \nUn focus specifico sarà dedicato ai progetti di digitalizzazione e automazione nelle principali aree operative del servizio legale\, anche attraverso la presentazione di testimonianze pratiche. \nDestinatari dell’evento \nL’evento formativo è rivolto ai General Counsel\, ai Responsabili degli Uffici Legali e della Segreteria Societaria dei principali gruppi finanziari\, bancari e industriali italiani\, avvocati\, notai\, commercialisti e consulenti. \nObiettivi dell’evento \nObiettivo dell’incontro è fornire ai partecipanti un quadro dettagliato e completo delle competenze tecniche e manageriali oggi necessarie per i General Counsel\, protagonisti attivi nella ristrutturazione e nella guida delle aziende verso l’innovazione. \n\n\n		\n	\nProgramma\n	\n		\n			Prima giornata\nMercoledì 7 giugno 2023 \nI progetti di digital transformation in ambito legale: inquadramento del fenomeno e possibili scenari\nI driver della digital transformation in ambito legale\nLe principali aree di attività interessate dai processi di digitalizzazione\nGestione del cambiamento e risorse necessarie\nAvv. Andrea Brancatelli\nMoneyGram International \nI soggetti coinvolti nell’implementazione dei progetti di trasformazione digitale\nLa definizione delle strategie e il ruolo del top management\nIl General Counsel e il “legale digitale”\nIl Responsabile della Compliance\nIl Responsabile della Segreteria Societaria\nIl Responsabile della Transizione Digitale\, della Gestione Documentale e della Conservazione\nDott.ssa Patrizia Sormani\neWitness Italia \nLe competenze necessarie per l’implementazione dei progetti di trasformazione digitale\nLegal Tech\, talent acquisition\, nuovi strumenti e nuove competenze\nL’importanza della costruzione dei piani di formazione: il giusto equilibrio tra coding\, competenze universitarie e sperimentazione\nProf. Avv. Claudia Sandei\nUniversità di Padova \nLa digitalizzazione dei processi in ambito legale: fasi\, metodologie e analisi costi/benefici\nLe fasi principali del processo di digitalizzazione: analisi del workflow\nSoluzioni in house e soluzioni in outsourcing\nLa costruzione della matrice costi/benefici\nChange management come chiave di volta nella gestione della trasformazione digitale\nDott. Carlo Gagliardi\nDeloitte Legal \nGli strumenti della digital transformation a supporto dell’attività del servizio legale\nIntelligenza Artificiale\nBlockchain e smart contract\nL’utilizzo di soluzioni legal tech\nAvv. Marco Imperiale\nLCA Studio Legale \nI data protection\, ICT e AI da tenere in considerazione nell’implementazione dei progetti di digital transformation\nL’approccio risk based nelle valutazioni di introduzione di strumenti di digital transformation: i profili di data protection e gli adempimenti ai sensi degli articoli 5\, 24\, 25 e 35 del GDPR\nIl processo decisionale automatizzato e la profilazione: analisi dell’art. 22 GDPR\nIl General Counsel come DPO: criticità e conflitti\nL’Intelligenza Artificiale nei progetti di digital transformation: obblighi pratici degli utenti di sistemi AI ad alto rischio alla luce del Regolamento Generale UE sull’Intelligenza Artificiale\nL’analisi dei big data nel settore legale\nProf. Avv. Alessandro Del Ninno\nLUISS Guido Carli di Roma \nLa sicurezza informatica nei processi di digitalizzazione\nCosti e gestione della cybersecurity e delle architetture\nIl risk assessment come requisito imprescindibile nella scelta delle soluzioni\nDisaster recovery e business continuity come elementi di prevenzione\nAspetti di sicurezza legati al cloud computing e alle relative architetture\nDott. Edoardo Limone\nEsperto in Sicurezza Informatica \n  \nSeconda giornata\nGiovedì 8 giugno 2023 \nL’implementazione dei progetti della digital transformation nelle principali aree operative del servizio legale \n– Gestione dei contratti (Contract Management)\n– Digitalizzazione dei documenti e dei contratti\n– Utilizzo della firma elettronica e conservazione digitale\n– Attività di controllo preventivo sui contratti \nDott.ssa Patrizia Sormani\neWitness Italia\nAvv. Giovanni Lombardi\nillimity Bank \n– Legal Tech e analisi giuridica dei documenti \nAvv. Francesco Portolano\nPortolano Cavallo\nIng. Stefano Ceolin\nPortolano Cavallo \n– Gestione dei rapporti con gli studi legali esterni e consulenza legale\n– Legal Knowledge Management \nAvv. Riccardo Rossotto\nRP Legal & Tax \n– Gestione degli adempimenti di corporate governance\n– Gestione della Segreteria Societaria\n– Gestione e digitalizzazione del processo di rilascio delle deleghe \nDott. Fabrizio Gallotti\nDiliTrust \n– Gestione degli adempimenti contrattuali\n– Gestione degli adempimenti privacy\n– Gestione degli adempimenti 231\n– Gestione della qualificazione dei fornitori \nAvv. Giuseppe Vaciago\n42 Law Firm \nI contratti IT\, l’outsourcing informatico e il cloud computing\nPrincipali differenze tra il contratto di outsourcing informatico e quello di cloud computing\nLa struttura contrattuale e le clausole di garanzia nel contratto di cloud computing\nI Service Level Agreement e i Privacy Level Agreement nel contratto di cloud computing\nAvv. Valerio Edoardo Vertua\nStudio Vertua\n42 Law Firm \n\n\n		\n	\nDocenti\n	\n		\n			Avv. Andrea Brancatelli\nAssistant General Counsel – Europe\nMoneyGram International \nIng. Stefano Ceolin\nChief Innovation and Digital Officer\nPortolano Cavallo \nProf. Avv. Alessandro Del Ninno\nDocente a contratto di Informatica Giuridica\nLUISS Guido Carli di Roma \nDott. Carlo Gagliardi\nManaging Partner – CEO\nDeloitte Legal \nDott. Fabrizio Gallotti\nCountry Manager\nDiliTrust \nAvv. Marco Imperiale\nHead of Innovation\nLCA Studio Legale \nDott. Edoardo Limone\nEsperto in Sicurezza Informatica \nAvv. Giovanni Lombardi\nGeneral Counsel\nillimity Bank \nAvv. Francesco Portolano\nFounding Partner\nPortolano Cavallo \nAvv. Riccardo Rossotto\nPartner\nRP Legal & Tax \nProf. Avv. Claudia Sandei\nAssociato di Diritto Commerciale\nUniversità di Padova \nDott.ssa Patrizia Sormani\nChief Compliance Officer\neWitness Italia \nAvv. Giuseppe Vaciago\nPartner\n42 Law Firm \nAvv. Valerio Edoardo Vertua\nPartner\n42 Law Firm\nStudio Vertua \n\n\n		\n	\nBrochure\n	\n		\n			 Scarica la brochure\n\n		\n	\nIscrizioni e Condizioni\n	\n		\n			Quota di partecipazione \nLa quota di partecipazione in aula virtuale (diretta streaming) include l’invio del materiale didattico in formato elettronico e la possibilità di sottoporre ai relatori quesiti di specifico interesse a mezzo chat. È altresì possibile anticipare domande e richieste di approfondimento inviando una e-mail a info@paradigma.it entro il giorno antecedente l’evento. \nIn caso di videoconferenza con accessi multipli è necessario contattare la Segreteria organizzativa per un preventivo personalizzato. \nModalità di funzionamento della videoconferenza \nE’ possibile accedere all’aula virtuale da qualsiasi luogo\, utilizzando il proprio PC o tablet con una semplice connessione a Internet. La piattaforma informatica utilizzata da Paradigma (Adobe Connect) non necessita di requisiti tecnici particolari. \nNei giorni antecedenti l’evento il partecipante riceverà per posta elettronica le credenziali e le istruzioni di accesso. Il giorno dell’evento sarà sufficiente selezionare il link che troverà nella mail e inserire le credenziali per accedere all’aula virtuale. \nDurante gli interventi\, oltre a vedere e sentire i docenti\, è possibile consultare simultaneamente la documentazione predisposta dal relatore. Ogni utente collegato potrà porre domande sulle tematiche affrontate a mezzo chat\, alle quali il docente risponderà nel corso dell’intervento. \nModalità di iscrizione \nL’iscrizione si perfeziona al momento del ricevimento del modulo di registrazione\, da inviare via e-mail all’indirizzo info@paradigma.it\, integralmente compilato. Il numero dei collegamenti disponibili è limitato e la priorità d’iscrizione è determinata dalla data di ricezione del modulo di registrazione. Si consiglia pertanto di effettuare una preiscrizione telefonica. \nModalità di pagamento \nLa quota di partecipazione deve essere versata all’atto della presentazione della richiesta di iscrizione e\, in ogni caso\, prima dell’effettuazione dell’evento formativo\, tramite bonifico bancario intestato a: \nParadigma Srl – Corso Vittorio Emanuele II\, 68 – 10121 Torino\nc/o Banco BPM Spa\nIBAN IT 14 V 05034 01017 000000002530 \nFormazione finanziata \nLa quota di partecipazione può essere completamente rimborsata tramite voucher promossi dai Fondi Paritetici Interprofessionali. Paradigma offre la completa e gratuita gestione delle spese di progettazione\, monitoraggio e rendicontazione. La possibilità di accedere alla formazione finanziata con partecipazione mediante videoconferenza può variare a seconda dell’Ente erogante. \nAttestato di frequenza \nL’attestato di partecipazione nominativo sarà inviato al termine dell’evento formativo ai partecipanti che si sono regolarmente collegati all’aula virtuale. \nDiritto di recesso e modalità di disdetta \nÈ attribuita ai partecipanti la facoltà di recedere ai sensi dell’art. 1373 c.c. Il recesso dovrà essere comunicato in forma scritta almeno sette giorni prima della data di inizio dell’evento formativo (escluso il sabato e la domenica). Qualora la disdetta pervenga oltre tale termine o si verifichi di fatto con il mancato collegamento alla videoconferenza\, la quota di partecipazione sarà addebitata per intero e sarà inviato al partecipante il materiale didattico. In qualunque momento l’azienda o lo studio potranno comunque sostituire il partecipante\, comunicando il nuovo nominativo alla nostra Segreteria organizzativa. \nVariazioni di programma \nParadigma\, per ragioni eccezionali e imprevedibili\, si riserva di annullare o modificare la data dell’evento formativo\, dandone comunicazione agli interessati entro tre giorni dalla data di inizio prevista. In tali casi le quote di partecipazione pervenute verranno rimborsate\, con esclusione di qualsivoglia onere o obbligo a carico di Paradigma. Paradigma si riserva inoltre\, per ragioni sopravvenute e per cause di forza maggiore\, di modificare l’articolazione del programma e di sostituire i docenti previsti con altri docenti di pari livello professionale. \nPer ulteriori informazioni è possibile contattare la Segreteria organizzativa al numero 011.538686 o all’indirizzo e-mail info@paradigma.it. \n\n\n		\n	\n\n\n	\n		\n			Quota di partecipazione\n	\n		\n			€ 1.100 + Iva una giornata€ 2.050 + Iva due giornate\n\n		\n	\n\n	\n		\n			In caso di videoconferenza con accessi multipli è necessario contattare la Segreteria organizzativa per un preventivo personalizzato. \n\n		\n	\n\n\n		\n	\n\n	\n		\n			\n\n\n\n\n\n\n	\n		\n			Early booking -20%\nInviando il modulo di iscrizione entro il 17 maggio si avrà diritto a una riduzione del 20% sulla quota di partecipazione. \n\n		\n	\n\n\n\n		\n	\n\n	\n		\n			\n\n		\n	\n\n	\n		\n			\n\n		\n	\n\n	\n		\n			\n\n\n\n\n\n\n	\n		\n			Progetto Giovani Eccellenze -50%\nL’adesione all’evento formativo permette di iscrivere una seconda risorsa\, che non abbia compiuto il 30° anno di età e proveniente dalla stessa organizzazione\, con una riduzione del 50% sulla seconda quota di partecipazione. L’agevolazione è calcolata sulla quota ordinaria. \n\n		\n	\n\n\n\n		\n	\n\n	\n		\n			\n\n\n\n\n\n\n	\n		\n			Formazione finanziata\nLa quota di partecipazione all’iniziativa può essere completamente rimborsata tramite voucher promossi dai Fondi Paritetici Interprofessionali. Paradigma offre la completa e gratuita gestione delle spese di progettazione\, monitoraggio e rendiconto. \n\n		\n	\n\n\n\n		\n	\n\n	\n		\n			\n\n\n\n\n\n\n	\n		\n			Mercati elettronici della PA\nParadigma opera sul MePA e sui principali mercati elettronici di soggetti aggregatori e centrali di committenza. \n\n		\n	\n\n\n\n		\n	\n\n	\n		\n			\n	\n\n\n	I campi con (*) sono obbligatori\n	\n		\n		Dati relativi all'evento\n		\n		\n			Partecipazione in aula\n			Partecipazione in videoconferenza\n		\n		\n\n		Dati relativi al richiedente\n		\n		\n		\n		\n		\n		\n		\n		\n\n	\n\n	\n\n		Dati per eventuale partecipante under 30\n		\n		\n		\n\n	\n\n	\n\n		Dati per la fatturazione elettronica\n		\n		\n		\n		\n		\n		\n				\n		\n		\n		  Split Payment:\n          \n            \n              \n              Si \n            No\n          \n        \n		\n		\n		\n		\n	\n\n	\n\n		Per informazioni contattare\n		\n		\n		\n		\n		\n	\n	L'iscrizione all'evento formativo si intende perfezionata al momento del ricevimento\, da parte di Paradigma Srl\, del presente modulo di registrazione compilato in ogni sua parte\, stampato\, firmato e inviato via e-mail all'indirizzo info@paradigma.it. Riceverete via email conferma dell'avvenuta iscrizione. \n\n\n		\n	     Acconsento all'invio di comunicazioni sui servizi Paradigma Srl - Consenso finalizzato\, anche con modalità automatizzate\, all'invio di comunicazioni relative a prodotti e servizi di Paradigma Srl e al fine di ricevere materiale informativo o promozionale.\n	\n	     Acconsento alla personalizzazione delle offerte - Consenso finalizzato\, mediante modalità automatizzate\, a personalizzare i servizi forniti e meglio indirizzare le proposte promozionali grazie ad attività di profilazione.\n	\n	Inviando i dati autorizzi Paradigma Srl a utilizzare i tuoi dati personali per evadere la richiesta di partecipazione all’evento formativo e svolgere le attività a ciò connesse. I dati potranno essere trattati\, per conto di Paradigma Srl\, da dipendenti e collaboratori incaricati di svolgere specifici servizi necessari all’esecuzione delle tue richieste. Il conferimento dei tuoi dati\, pur essendo facoltativo\, si rende necessario per l’esecuzione del servizio richiesto.	\n\n\n\n\n		\n\n\n\n\n\n		\n	\n[/vc_column][/vc_row]
URL:https://paradigma.it/iniziativa/gli-strumenti-della-digital-transformation-a-supporto-dellattivita-del-general-counsel-e-dei-legali-dimpresa-2/
CATEGORIES:Governance e Diritto Societario
ORGANIZER;CN="Veronica%20Spiez":MAILTO:vspiez@paradigma.it
END:VEVENT
END:VCALENDAR