BEGIN:VCALENDAR
VERSION:2.0
PRODID:-//Paradigma srl - ECPv5.2.1//NONSGML v1.0//EN
CALSCALE:GREGORIAN
METHOD:PUBLISH
X-WR-CALNAME:Paradigma srl
X-ORIGINAL-URL:https://paradigma.it
X-WR-CALDESC:Eventi per Paradigma srl
BEGIN:VTIMEZONE
TZID:Europe/Rome
BEGIN:DAYLIGHT
TZOFFSETFROM:+0100
TZOFFSETTO:+0200
TZNAME:CEST
DTSTART:20230326T010000
END:DAYLIGHT
BEGIN:STANDARD
TZOFFSETFROM:+0200
TZOFFSETTO:+0100
TZNAME:CET
DTSTART:20231029T010000
END:STANDARD
END:VTIMEZONE
BEGIN:VEVENT
DTSTART;TZID=Europe/Rome:20230530T093000
DTEND;TZID=Europe/Rome:20230530T153000
DTSTAMP:20260421T151748
CREATED:20230419T135418Z
LAST-MODIFIED:20230526T100046Z
UID:17782-1685439000-1685460600@paradigma.it
SUMMARY:Gli incentivi al personale dipendente per funzioni tecniche nel nuovo Codice dei contratti pubblici
DESCRIPTION:[vc_row][vc_column]\n	\n		\n			\n		\n	\n\n	\n		\n			\nLe previsioni di cui all’art. 45 e all’Allegato I.10 del D. Lgs. n. 36/2023\nLa casistica applicativa e gli orientamenti giurisprudenziali\nIl regime di pubblicità degli emolumenti (Delibera ANAC n. 1047/2020)\n\nI docenti\, nel corso dell’evento formativo\, risponderanno alle domande e alle richieste di chiarimenti formulate dai partecipanti. Eventuali quesiti potranno essere anticipati inviando una email all’indirizzo info@paradigma.it \n \n\n		\n	\n\n	\n		\n			Evento in videoconferenza \n\n		\n	\n\n	\n		\n			30 maggio 2023 \n\n		\n	\n\n	\n		\n			 \n\n		\n	\n\n	\n		\n			\n\n		\n	\nPresentazioneProgrammaDocentiBrochureIscrizioni e CondizioniPresentazione\n	\n		\n			Contenuti dell’evento \nNel corso della giornata di studio sarà offerto un esame analitico del tema dell’incentivazione delle funzioni tecniche negli appalti pubblici. \nIl nuovo Codice dei contratti pubblici\, recentemente approvato e che dispiegherà i propri effetti a decorrere dal 1° luglio prossimo\, prevede significative novità al riguardo. Tra queste\, il nuovo limite massimo all’ammontare annuo delle somme percepibili dal dipendente a titolo di incentivi\, in rapporto alla sua retribuzione\, ma anche il passaggio da un sistema di individuazione in via interpretativa delle singole funzioni tecniche a un regime di elencazione espressa delle stesse. \nPermarranno\, anche con l’entrata in vigore del nuovo Codice\, gli obblighi di pubblicità dei compensi derivanti da incentivazione\, già oggetto della Delibera ANAC n. 1047/2020 (di cui è immaginabile un aggiornamento nei mesi a venire). \nL’approfondimento terrà inoltre adeguatamente conto degli orientamenti giurisprudenziali espressi dalla Corte dei Conti durante la vigenza del Codice 50/2016 e fornirà esempi di corretta strutturazione del regolamento interno per l’erogazione degli incentivi in parola. \nDestinatari dell’evento  \nL’evento formativo è rivolto ai Responsabili dell’Ufficio Gare e dell’Ufficio Tecnico\, ai RUP\, ai Responsabili dell’esecuzione contrattuale\, ai Direttori dei Lavori e agli Uffici Legali di amministrazioni aggiudicatrici e enti aggiudicatori\, nonché a tutti i professionisti e consulenti che operano nell’ambito delle procedure a evidenza pubblica. \nObiettivi dell’evento \nObiettivo dell’incontro è fornire ai partecipanti una disamina puntuale e approfondita del tema degli incentivi alle funzioni tecniche negli appalti pubblici\, con un’esaustiva ricostruzione del quadro normativo e giurisprudenziale e delle problematiche più discusse in materia nell’attuale fase. \n\n\n		\n	\nProgramma\n	\n		\n			Martedì 30 maggio 2023 \nRICOSTRUZIONE DEL QUADRO NORMATIVO \nGli incentivi per lo svolgimento di funzioni tecniche: il dettato dell’art. 45 e dell’Allegato I.10 del nuovo Codice dei contratti pubblici \nLa discrezionalità della stazione appaltante nel decidere eventuali modalità alternative di retribuzione delle funzioni tecniche \nIl nuovo tetto retributivo individuale \nIl superamento del fondo per l’incentivazione \nLe modalità di ripartizione degli incentivi complessivi: le indicazioni di cui ai commi 3\, 5\, 6\, 7 e 8 dell’art. 45 \nLe attività e le responsabilità dirigenziali connesse all’accertamento e all’attestazione delle specifiche funzioni tecniche svolte dal dipendente\, ai fini dell’erogazione degli incentivi \n  \nCASISTICA APPLICATIVA MATURATA SOTTO IL CODICE PREVIGENTE E VERIFICA DELLA RELATIVA COMPATIBILITÀ CON IL NUOVO QUADRO NORMATIVO \nIl riconoscimento di incentivi tecnici in capo a una risorsa interna\, cui è stata assegnata la direzione dell’esecuzione\, a seguito di gara d’appalto\, espletata e gestita per conto dell’ente\, da una Centrale Unica di Committenza (Corte dei Conti\, Sezione Regionale di Controllo per l’Emilia-Romagna\, Deliberazione n. 30/2020/PAR) \nLa possibilità o meno dell’applicazione dell’istituto dell’incentivo tecnico alla fattispecie dell’accordo quadro (Corte dei Conti\, Sezioni Riunite in Sede di Controllo\, N. 51/CONTR/11) \nLa nozione di “gara” idonea per il riconoscimento degli incentivi per funzioni tecniche (Corte dei Conti\, Sezione Regionale di Controllo per l’Emilia-Romagna\, Deliberazione n. 33/2020/PAR) \nIncentivi per funzioni tecniche e locazione finanziaria (Corte dei Conti\, Sezione Regionale di Controllo per il Veneto\, Deliberazione n. 20/2020/PAR) \nIncentivi per funzioni tecniche e opere di urbanizzazione a scomputo (Corte dei Conti\, Sezione Regionale di Controllo per la Liguria\, Deliberazione n. 122/2019/PAR) \nIncentivi per appalti di manutenzione ordinaria e straordinaria di particolare complessità (Corte dei Conti\, Sezione delle Autonomie\, Deliberazione n. 2/SEZAUT/2019/QMIG) \nIl riconoscimento di incentivi tecnici per lo svolgimento\, in convenzione\, di attività di verifica della progettazione (Corte dei Conti\, Sezione Regionale di Controllo per l’Emilia-Romagna\, Deliberazione n. 87/2020/PAR) \nLa rilevanza di eventuali opzioni di durata del contratto\, quali proroghe e rinnovi\, ai fini della determinazione della misura dell’incentivo (Parere Ministero delle Infrastrutture n. 472/2019) \nL’individuazione di criteri e modalità di svolgimento delle prestazioni tecniche incentivabili quali materia propria dell’apposito Regolamento dell’ente (Corte dei Conti\, Sezione Regionale di Controllo per l’Abruzzo\, Deliberazione n. 178/2019/PAR) \nLa ricomprensione degli incentivi per le funzioni tecniche nel costo complessivo dell’opera (Corte dei Conti\, Sezione Regionale di Controllo per il Friuli Venezia Giulia\, Deliberazione n. 6/2018; Corte dei Conti\, Sezione Regionale di Controllo per il Lazio\, Deliberazione n. 60/2020/PAR) \n  \nIL COMPENSO INCENTIVANTE QUALE DIRITTO DEL TITOLARE DI FUNZIONI TECNICHE\, AL RICORRERE DI DETERMINATI PRESUPPOSTI \nIl diritto al compenso incentivante quale risultato di una fattispecie complessa (Corte dei Conti\, Sezione Regionale di Controllo per il Friuli Venezia Giulia\, Deliberazione n. 6/2018)\nL’esigibilità della liquidazione dei compensi spettanti per funzioni tecniche (Corte di Cassazione\, Sezione Lavoro\, Sentenza n. 10222/2020)\nLa natura\, degli incentivi per funzioni tecniche\, di emolumenti che vengono corrisposti in deroga al principio di onnicomprensività della retribuzione enunciato all’art. 24\, comma 3\, del D. Lgs. n. 165/2001\nLa natura\, degli incentivi per funzioni tecniche\, di spese escluse dalla voce di spesa di personale\, dal vincolo del trattamento accessorio del personale delle Amministrazioni Pubbliche\, nonché dal calcolo della capacità assunzionale dell’Ente (Corte dei Conti\, Sezione Regionale di Controllo per la Liguria\, Deliberazione n. 1/2022)\nIl recupero delle somme indebitamente corrisposte da parte della Corte dei Conti e la responsabilità erariale \nCASE STUDY \nEsame di un regolamento interno per il riconoscimento degli incentivi alle funzioni tecniche \nPROFILI DI PUBBLICITÀ E TRASPARENZA \nLa pubblicazione dei dati sui compensi relativi agli incentivi tecnici corrisposti al personale dipendente di amministrazioni aggiudicatrici ed enti aggiudicatori: la Delibera ANAC n. 1047/2020 \n  \nProf. Avv. Luciano Salomoni\nUniversità di Milano Bicocca\nCocco Salomoni Santoro – Studio Legale Associato \nAvv. Alessio Ubaldi\nAvvocato Amministrativista\nUB Legal – Studio Legale Ubaldi \n\n\n		\n	\nDocenti\n	\n		\n			Prof. Avv. Luciano Salomoni\nAggregato di Diritto Pubblico dell’Economia\nUniversità di Milano Bicocca\nAvvocato Amministrativista\nCocco Salomoni Santoro – Studio Legale Associato \nAvv. Alessio Ubaldi\nAvvocato Amministrativista\nUB Legal – Studio Legale Ubaldi \n\n\n		\n	\nBrochure\n	\n		\n			 Scarica la brochure\n\n		\n	\nIscrizioni e Condizioni\n	\n		\n			Quota di partecipazione \nLa quota di partecipazione in aula virtuale (diretta streaming) include l’invio del materiale didattico in formato elettronico e la possibilità di sottoporre ai relatori quesiti di specifico interesse a mezzo chat. È altresì possibile anticipare domande e richieste di approfondimento inviando una e-mail a info@paradigma.it entro il giorno antecedente l’evento. \nIn caso di videoconferenza con accessi multipli è necessario contattare la Segreteria organizzativa per un preventivo personalizzato. \nModalità di funzionamento della videoconferenza \nE’ possibile accedere all’aula virtuale da qualsiasi luogo\, utilizzando il proprio PC o tablet con una semplice connessione a Internet. La piattaforma informatica utilizzata da Paradigma (Adobe Connect) non necessita di requisiti tecnici particolari. \nNei giorni antecedenti l’evento il partecipante riceverà per posta elettronica le credenziali e le istruzioni di accesso. Il giorno dell’evento sarà sufficiente selezionare il link che troverà nella mail e inserire le credenziali per accedere all’aula virtuale. \nDurante gli interventi\, oltre a vedere e sentire i docenti\, è possibile consultare simultaneamente la documentazione predisposta dal relatore. Ogni utente collegato potrà porre domande sulle tematiche affrontate a mezzo chat\, alle quali il docente risponderà nel corso dell’intervento. \nModalità di iscrizione \nL’iscrizione si perfeziona al momento del ricevimento del modulo di registrazione\, da inviare via e-mail all’indirizzo info@paradigma.it\, integralmente compilato. Il numero dei collegamenti disponibili è limitato e la priorità d’iscrizione è determinata dalla data di ricezione del modulo di registrazione. Si consiglia pertanto di effettuare una preiscrizione telefonica. \nModalità di pagamento \nLa quota di partecipazione deve essere versata all’atto della presentazione della richiesta di iscrizione e\, in ogni caso\, prima dell’effettuazione dell’evento formativo\, tramite bonifico bancario intestato a: \nParadigma Srl – Corso Vittorio Emanuele II\, 68 – 10121 Torino\nc/o Banco BPM Spa\nIBAN IT 14 V 05034 01017 000000002530 \nFormazione finanziata \nLa quota di partecipazione può essere completamente rimborsata tramite voucher promossi dai Fondi Paritetici Interprofessionali. Paradigma offre la completa e gratuita gestione delle spese di progettazione\, monitoraggio e rendicontazione. La possibilità di accedere alla formazione finanziata con partecipazione mediante videoconferenza può variare a seconda dell’Ente erogante. \nAttestato di frequenza \nL’attestato di partecipazione nominativo sarà inviato al termine dell’evento formativo ai partecipanti che si sono regolarmente collegati all’aula virtuale. \nDiritto di recesso e modalità di disdetta \nÈ attribuita ai partecipanti la facoltà di recedere ai sensi dell’art. 1373 c.c. Il recesso dovrà essere comunicato in forma scritta almeno sette giorni prima della data di inizio dell’evento formativo (escluso il sabato e la domenica). Qualora la disdetta pervenga oltre tale termine o si verifichi di fatto con il mancato collegamento alla videoconferenza\, la quota di partecipazione sarà addebitata per intero e sarà inviato al partecipante il materiale didattico. In qualunque momento l’azienda o lo studio potranno comunque sostituire il partecipante\, comunicando il nuovo nominativo alla nostra Segreteria organizzativa. \nVariazioni di programma \nParadigma\, per ragioni eccezionali e imprevedibili\, si riserva di annullare o modificare la data dell’evento formativo\, dandone comunicazione agli interessati entro tre giorni dalla data di inizio prevista. In tali casi le quote di partecipazione pervenute verranno rimborsate\, con esclusione di qualsivoglia onere o obbligo a carico di Paradigma. Paradigma si riserva inoltre\, per ragioni sopravvenute e per cause di forza maggiore\, di modificare l’articolazione del programma e di sostituire i docenti previsti con altri docenti di pari livello professionale. \nPer ulteriori informazioni è possibile contattare la Segreteria organizzativa al numero 011.538686 o all’indirizzo e-mail info@paradigma.it. \n\n\n		\n	\n\n\n	\n		\n			Quota di partecipazione\n	\n		\n			€ 1.000 + Iva\n\n		\n	\n\n	\n		\n			In caso di videoconferenza con accessi multipli è necessario contattare la Segreteria organizzativa per un preventivo personalizzato. \n\n		\n	\n\n\n		\n	\n\n	\n		\n			\n\n\n\n\n\n\n	\n		\n			Early booking -20%\nInviando il modulo di iscrizione entro il 9 maggio si avrà diritto a una riduzione del 20% sulla quota di partecipazione. \n\n		\n	\n\n\n\n		\n	\n\n	\n		\n			\n\n		\n	\n\n	\n		\n			\n\n		\n	\n\n	\n		\n			\n\n\n\n\n\n\n	\n		\n			Progetto Giovani Eccellenze -50%\nL’adesione all’evento formativo permette di iscrivere una seconda risorsa\, che non abbia compiuto il 30° anno di età e proveniente dalla stessa organizzazione\, con una riduzione del 50% sulla seconda quota di partecipazione. L’agevolazione è calcolata sulla quota ordinaria. \n\n		\n	\n\n\n\n		\n	\n\n	\n		\n			\n\n\n\n\n\n\n	\n		\n			Formazione finanziata\nLa quota di partecipazione all’iniziativa può essere completamente rimborsata tramite voucher promossi dai Fondi Paritetici Interprofessionali. Paradigma offre la completa e gratuita gestione delle spese di progettazione\, monitoraggio e rendiconto. \n\n		\n	\n\n\n\n		\n	\n\n	\n		\n			\n\n\n\n\n\n\n	\n		\n			Mercati elettronici della PA\nParadigma opera sul MePA e sui principali mercati elettronici di soggetti aggregatori e centrali di committenza. \n\n		\n	\n\n\n\n		\n	\n\n	\n		\n			\n	\n\n\n	I campi con (*) sono obbligatori\n	\n		\n		Dati relativi all'evento\n		\n		\n			Partecipazione in aula\n			Partecipazione in videoconferenza\n		\n		\n\n		Dati relativi al richiedente\n		\n		\n		\n		\n		\n		\n		\n		\n\n	\n\n	\n\n		Dati per eventuale partecipante under 30\n		\n		\n		\n\n	\n\n	\n\n		Dati per la fatturazione elettronica\n		\n		\n		\n		\n		\n		\n				\n		\n		\n		  Split Payment:\n          \n            \n              \n              Si \n            No\n          \n        \n		\n		\n		\n		\n	\n\n	\n\n		Per informazioni contattare\n		\n		\n		\n		\n		\n	\n	L'iscrizione all'evento formativo si intende perfezionata al momento del ricevimento\, da parte di Paradigma Srl\, del presente modulo di registrazione compilato in ogni sua parte\, stampato\, firmato e inviato via e-mail all'indirizzo info@paradigma.it. Riceverete via email conferma dell'avvenuta iscrizione. \n\n\n		\n	     Acconsento all'invio di comunicazioni sui servizi Paradigma Srl - Consenso finalizzato\, anche con modalità automatizzate\, all'invio di comunicazioni relative a prodotti e servizi di Paradigma Srl e al fine di ricevere materiale informativo o promozionale.\n	\n	     Acconsento alla personalizzazione delle offerte - Consenso finalizzato\, mediante modalità automatizzate\, a personalizzare i servizi forniti e meglio indirizzare le proposte promozionali grazie ad attività di profilazione.\n	\n	Inviando i dati autorizzi Paradigma Srl a utilizzare i tuoi dati personali per evadere la richiesta di partecipazione all’evento formativo e svolgere le attività a ciò connesse. I dati potranno essere trattati\, per conto di Paradigma Srl\, da dipendenti e collaboratori incaricati di svolgere specifici servizi necessari all’esecuzione delle tue richieste. Il conferimento dei tuoi dati\, pur essendo facoltativo\, si rende necessario per l’esecuzione del servizio richiesto.	\n\n\n\n\n		\n\n\n\n\n\n		\n	\n[/vc_column][/vc_row]
URL:https://paradigma.it/iniziativa/gli-incentivi-al-personale-dipendente-per-funzioni-tecniche-nel-nuovo-codice-dei-contratti-pubblici/
CATEGORIES:Gare e Appalti
ORGANIZER;CN="Veronica%20Spiez":MAILTO:vspiez@paradigma.it
END:VEVENT
END:VCALENDAR