BEGIN:VCALENDAR
VERSION:2.0
PRODID:-//Paradigma srl - ECPv5.2.1//NONSGML v1.0//EN
CALSCALE:GREGORIAN
METHOD:PUBLISH
X-WR-CALNAME:Paradigma srl
X-ORIGINAL-URL:https://paradigma.it
X-WR-CALDESC:Eventi per Paradigma srl
BEGIN:VTIMEZONE
TZID:Europe/Rome
BEGIN:DAYLIGHT
TZOFFSETFROM:+0100
TZOFFSETTO:+0200
TZNAME:CEST
DTSTART:20250330T010000
END:DAYLIGHT
BEGIN:STANDARD
TZOFFSETFROM:+0200
TZOFFSETTO:+0100
TZNAME:CET
DTSTART:20251026T010000
END:STANDARD
END:VTIMEZONE
BEGIN:VEVENT
DTSTART;TZID=Europe/Rome:20251023T093000
DTEND;TZID=Europe/Rome:20251023T180000
DTSTAMP:20260421T151057
CREATED:20250911T154302Z
LAST-MODIFIED:20251022T113944Z
UID:24721-1761211800-1761242400@paradigma.it
SUMMARY:Gestione dei rischi  e attività di compliance nell'esternalizzazione  di funzioni e servizi ICT
DESCRIPTION:[vc_row][vc_column]\n	\n		\n			\n		\n	\n\n	\n		\n			La governance delle esternalizzazioni\nI contenuti dei contratti\nLa sicurezza delle informazioni\nDisaster recovery e business continuity\nGli adempimenti data protection\nLe regole applicabili ai settori vigilati \n \n\n		\n	\n\n	\n		\n			09.30 - 13.30  14.30 - 18.00 \n\n		\n	\n\n	\n		\n			Evento in diretta streaming \n\n		\n	\n\n	\n		\n			 \n\n		\n	\n\n	\n		\n			\n\n		\n	\nPresentazioneProgrammaDocentiBrochureIscrizioni e CondizioniPresentazione\n	\n		\n			Contenuti dell’evento \nNel corso della giornata di studio sarà svolta un’analisi completa e dettagliata della gestione dei rischi e dell’attività di compliance in caso di esternalizzazione di funzioni e servizi digitali\, anche alla luce del nuovo quadro normativo e regolamentare e della più recente prassi operativa. \nDestinatari dell’evento \nL’evento formativo è rivolto ai Responsabili della Compliance e del Servizio Legale\, ai Responsabili della Gestione Documentale e della Conservazione\, ai Responsabili dei Sistemi Informativi e del Servizio Organizzazione\, ai Legal Operation Manager\, ai  professionisti che operano nell’ambito della gestione dei rischi e della compliance\, ai Manager e professionisti che si occupano di esternalizzazione di banche\, intermediari e assicurazioni\, imprese industriali e commerciali\, avvocati e consulenti. Sono interessate all’evento anche le Pubbliche Amministrazioni che stanno sviluppando processi di transizione digitale e ai professionisti in genere. \nObiettivi dell’evento \nObiettivo dell’incontro è comprendere i rischi e le opportunità derivanti dall’esternalizzazione di funzioni e servizi digitali\, pianificare e gestire l’esternalizzazione in modo efficace e sicuro\, garantire la conformità dell’esternalizzazione alla normativa vigente. \n\n\n		\n	\nProgramma\n	\n		\n			Giovedì 23 ottobre 2025 \nLa gestione dei rischi e l’attività di compliance nell’esternalizzazione ICT\nPanoramica sull’esternalizzazione ICT: vantaggi\, sfide e trend attuali\nLa definizione dei concetti chiave: rischio\, compliance e governance\nLa mappatura dei principali rischi legati all’esternalizzazione ICT (operativi\, legali\, reputazionali\, cyber)\, valutazione dell’impatto potenziale e metodologie di gestione\nL’analisi dei rischi derivanti dai servizi ICT delle terze parti e la gestione del rischio\nDott.ssa Patrizia Sormani\nPSC- Patrizia Sormani Consulting \nANORC Mercato \nLa gestione del contratto di esternalizzazione di servizi ICT \nI criteri di selezione del fornitore e la due diligence del fornitore\nL’individuazione e il monitoraggio dei fornitori critici di servizi ICT\nGli elementi del contratto di fornitura dei servizi ICT e la negoziazione del contratto\nGli strumenti di contrattualistica collaborativa: il monitoraggio del contratto\, la gestione delle modifiche\, la risoluzione del contratto\nLe clausole chiave per la tutela degli interessi dell’azienda\nLa definizione dei livelli di servizio (SLA) e degli indicatori di performance (KPI)\nLa definizione di un piano di monitoraggio continuo delle attività esternalizzate\nIl ruolo della governance ICT nella supervisione dei fornitori\nLa comunicazione e la collaborazione efficace con i fornitori\nL’esternalizzazione di servizi Cloud\, i rischi e le specificità del modello\nDott.ssa Patrizia Sormani\nPSC- Patrizia Sormani Consulting \nANORC Mercato \nI contenuti del contratto di esternalizzazione di servizi ICT \nLe tipologie e i contenuti contrattuali: evoluzione dalla Circolare 285/2013 di Banca d’Italia al Regolamento DORA\nL’evoluzione dei rischi contrattuali e il loro impatto\nIl controllo e la gestione degli adempimenti contrattuali in tutte le fasi del ciclo di vita della fornitura\nAvv. Maria Cristina Daga\nPartners4Innovation \nAdempimenti privacy e protezione dei dati personali \nLa normativa sulla privacy (GDPR) e sulla data protection nel ricorso a terze parti\nIntersezioni e sinergie tra Regolamento DORA e GDPR: cybersecurity e privacy nel settore finanziario\nIl ruolo del Responsabile della Protezione dei Dati (DPO) e delle clausole contrattuali privacy\nAvv. Giuseppe Vaciago\n42 Law Firm \nSicurezza delle informazioni\, Disaster Recovery e Business Continuity per le terze parti ICT\nNormativa e best practice sulla sicurezza delle informazioni nell’outsourcing\nLe misure di sicurezza e la corretta gestione dei rischi ICT sulle terze parti\nLa verifica e l’auditing dei sistemi e dei processi ICT presso i fornitori\nLe strategie di gestione della Business Continuity e del Disaster Recovery per le attività esternalizzate\nDott. Edoardo Limone\nEsperto in Sicurezza Informatica \nLa sicurezza della supply-chain nel mondo finanziario\nLa Circolare n. 285/2013 di Banca d’Italia\nLe Linee Guida (EBA/GL/2019/02) in materia di esternalizzazioni\nIl Regolamento UE sulla resilienza operativa digitale (DORA)\nLa NIS 2 e il suo impatto sulla supply-chain\nImpatti e nuove responsabilità per i fornitori di servizi ICT\nLa versione aggiornata del Regolamento eIDAS\nAvv. Fabio Coco\nADVANT Nctm \n\n\n		\n	\nDocenti\n	\n		\n			Avv. Fabio Coco\nPartner\nADVANT Nctm \nAvv. Maria Cristina Daga\nPartner\nPartners4Innovation \nDott. Edoardo Limone\nEsperto in Sicurezza Informatica \nDott.ssa Patrizia Sormani\nExpert Digital Manager\nPSC – Patrizia Sormani Consulting\nPresidente ANORC Mercato \nAvv. Giuseppe Vaciago\nPartner\n42 Law Firm \n\n\n		\n	\nBrochure\n	\n		\n			 Scarica la brochure\n\n		\n	\nIscrizioni e Condizioni\n	\n		\n			Quota di partecipazione \nLa quota di partecipazione in diretta streaming include la fruizione degli interventi\, nonché la possibilità di scaricare\, in formato elettronico\, il materiale didattico che i relatori riterranno di mettere a disposizione. \nÈ inoltre prevista la possibilità di rivolgere contestualmente domande ai docenti (attivando il proprio microfono o tramite chat)\, oppure sottoporle in via preventiva\, inviando una e-mail a info@paradigma.it entro il giorno antecedente l’evento. \nIn caso di diretta streaming con accessi multipli è necessario contattare la Segreteria Organizzativa per un preventivo personalizzato. \nModalità di funzionamento della diretta streaming \nLe iniziative formative sono fruibili in diretta streaming attraverso un semplice collegamento alla piattaforma dedicata. La piattaforma è strutturata per garantire un ottimo livello di fruizione e interazione e non necessita di particolari requisiti tecnici. \nAlcuni giorni prima dell’evento il partecipante riceve le istruzioni di accesso e sarà sufficiente selezionare il link ricevuto per accedere all’aula virtuale. \nGli interventi in diretta streaming sono supportati dalle slide predisposte dal docente. Ogni utente collegato potrà intervenire formulando domande o richieste di approfondimento attivando il proprio microfono o utilizzando la chat dedicata. \nModalità di iscrizione \nL’iscrizione si perfeziona al momento del ricevimento del modulo di registrazione\, da inviare via e-mail all’indirizzo info@paradigma.it\, integralmente compilato e sottoscritto. Il numero dei collegamenti disponibili è limitato e la priorità d’iscrizione è determinata dalla data di ricezione del modulo di registrazione. Si consiglia pertanto di effettuare una preiscrizione telefonica. \nModalità di pagamento \nLa quota di partecipazione deve essere versata all’atto della presentazione della richiesta di iscrizione e\, in ogni caso\, prima dell’effettuazione dell’evento formativo\, tramite bonifico bancario intestato a: \nParadigma Srl – Corso Vittorio Emanuele II\, 68 – 10121 Torino\nc/o Banco BPM Spa\nIBAN IT 14 V 05034 01017 000000002530 \nFormazione finanziata \nLa quota di partecipazione può essere completamente rimborsata tramite voucher promossi dai Fondi Paritetici Interprofessionali. Paradigma offre la completa e gratuita gestione delle spese di progettazione\, monitoraggio e rendicontazione. La possibilità di accedere alla formazione finanziata con partecipazione mediante diretta streaming può variare a seconda dell’Ente erogante. \nAttestato di frequenza \nL’attestato di partecipazione nominativo sarà inviato al termine dell’evento formativo ai partecipanti che si sono regolarmente collegati all’aula virtuale. \nDiritto di recesso e modalità di disdetta \nÈ attribuita ai partecipanti la facoltà di recedere ai sensi dell’art. 1373 c.c. Il recesso dovrà essere comunicato in forma scritta almeno sette giorni prima della data di inizio dell’evento formativo (escluso il sabato e la domenica). Qualora la disdetta pervenga oltre tale termine o si verifichi di fatto con il mancato collegamento alla diretta streaming\, la quota di partecipazione sarà addebitata per intero e sarà inviato al partecipante il materiale didattico e\, se disponibile e per un periodo limitato\, la registrazione dell’evento. In qualunque momento l’azienda o lo studio potranno comunque sostituire il partecipante\, comunicando il nuovo nominativo alla nostra Segreteria Organizzativa. \nVariazioni di programma \nParadigma\, per ragioni eccezionali e imprevedibili\, si riserva di annullare o modificare la data dell’evento formativo\, dandone comunicazione agli interessati entro tre giorni dalla data di inizio prevista. In tali casi le quote di partecipazione pervenute verranno rimborsate\, con esclusione di qualsivoglia onere o obbligo a carico di Paradigma. Paradigma si riserva inoltre\, per ragioni sopravvenute e per cause di forza maggiore\, di modificare l’articolazione del programma e di sostituire i docenti previsti con altri docenti di pari livello professionale. \nPer ulteriori informazioni è possibile contattare la Segreteria Organizzativa al numero 011.538686 o all’indirizzo e-mail info@paradigma.it. \n\n\n		\n	\n\n\n	\n		\n			Quota di partecipazione\n	\n		\n			€ 1.100 + Iva\n\n		\n	\n\n	\n		\n			In caso di videoconferenza con accessi multipli è necessario contattare la Segreteria organizzativa per un preventivo personalizzato. \n\n		\n	\n\n\n		\n	\n\n	\n		\n			\n\n\n\n\n\n\n	\n		\n			Early booking -20%\nInviando il modulo di iscrizione entro il 2 ottobre si avrà diritto a una riduzione del 20% sulla quota di partecipazione. \n\n		\n	\n\n\n\n		\n	\n\n	\n		\n			\n\n\n\n\n\n\n	\n		\n			Quota corporate\nIscrivi all’evento 5 o più risorse provenienti dalla stessa organizzazione con una riduzione del 50%. \n\n		\n	\n\n\n\n		\n	\n\n	\n		\n			\n\n		\n	\n\n	\n		\n			\n\n\n\n\n\n\n	\n		\n			Progetto Giovani Eccellenze -50%\nL’adesione all’evento formativo permette di iscrivere una seconda risorsa\, che non abbia compiuto il 30° anno di età e proveniente dalla stessa organizzazione\, con una riduzione del 50% sulla seconda quota di partecipazione. L’agevolazione è calcolata sulla quota ordinaria. \n\n		\n	\n\n\n\n		\n	\n\n	\n		\n			\n\n\n\n\n\n\n	\n		\n			Formazione finanziata\nLa quota di partecipazione all’iniziativa può essere completamente rimborsata tramite voucher promossi dai Fondi Paritetici Interprofessionali. Paradigma offre la completa e gratuita gestione delle spese di progettazione\, monitoraggio e rendiconto. \n\n		\n	\n\n\n\n		\n	\n\n	\n		\n			\n\n\n\n\n\n\n	\n		\n			Mercati elettronici della PA\nParadigma opera sul MePA e sui principali mercati elettronici di soggetti aggregatori e centrali di committenza. \n\n		\n	\n\n\n\n		\n	\n\n	\n		\n			\n	\n\n\n	I campi con (*) sono obbligatori\n	\n		\n		Dati relativi all'evento\n		\n		\n			Partecipazione in aula\n			Partecipazione in videoconferenza\n		\n		\n\n		Dati relativi al richiedente\n		\n		\n		\n		\n		\n		\n		\n		\n\n	\n\n	\n\n		Dati per eventuale partecipante under 30\n		\n		\n		\n\n	\n\n	\n\n		Dati per la fatturazione elettronica\n		\n		\n		\n		\n		\n		\n				\n		\n		\n		  Split Payment:\n          \n            \n              \n              Si \n            No\n          \n        \n		\n		\n		\n		\n	\n\n	\n\n		Per informazioni contattare\n		\n		\n		\n		\n		\n	\n	L'iscrizione all'evento formativo si intende perfezionata al momento del ricevimento\, da parte di Paradigma Srl\, del presente modulo di registrazione compilato in ogni sua parte\, stampato\, firmato e inviato via e-mail all'indirizzo info@paradigma.it. Riceverete via email conferma dell'avvenuta iscrizione. \n\n\n		\n	     Acconsento all'invio di comunicazioni sui servizi Paradigma Srl - Consenso finalizzato\, anche con modalità automatizzate\, all'invio di comunicazioni relative a prodotti e servizi di Paradigma Srl e al fine di ricevere materiale informativo o promozionale.\n	\n	     Acconsento alla personalizzazione delle offerte - Consenso finalizzato\, mediante modalità automatizzate\, a personalizzare i servizi forniti e meglio indirizzare le proposte promozionali grazie ad attività di profilazione.\n	\n	Inviando i dati autorizzi Paradigma Srl a utilizzare i tuoi dati personali per evadere la richiesta di partecipazione all’evento formativo e svolgere le attività a ciò connesse. I dati potranno essere trattati\, per conto di Paradigma Srl\, da dipendenti e collaboratori incaricati di svolgere specifici servizi necessari all’esecuzione delle tue richieste. Il conferimento dei tuoi dati\, pur essendo facoltativo\, si rende necessario per l’esecuzione del servizio richiesto.	\n\n\n\n\n		\n\n\n\n\n\n		\n	\n[/vc_column][/vc_row]
URL:https://paradigma.it/iniziativa/gestione-dei-rischi-e-attivita-di-compliance-nellesternalizzazione-di-funzioni-e-servizi-ict/
CATEGORIES:Digitalizzazione
ORGANIZER;CN="Veronica%20Spiez":MAILTO:vspiez@paradigma.it
END:VEVENT
END:VCALENDAR