BEGIN:VCALENDAR
VERSION:2.0
PRODID:-//Paradigma srl - ECPv5.2.1//NONSGML v1.0//EN
CALSCALE:GREGORIAN
METHOD:PUBLISH
X-WR-CALNAME:Paradigma srl
X-ORIGINAL-URL:https://paradigma.it
X-WR-CALDESC:Eventi per Paradigma srl
BEGIN:VTIMEZONE
TZID:Europe/Rome
BEGIN:DAYLIGHT
TZOFFSETFROM:+0100
TZOFFSETTO:+0200
TZNAME:CEST
DTSTART:20220327T010000
END:DAYLIGHT
BEGIN:STANDARD
TZOFFSETFROM:+0200
TZOFFSETTO:+0100
TZNAME:CET
DTSTART:20221030T010000
END:STANDARD
END:VTIMEZONE
BEGIN:VEVENT
DTSTART;TZID=Europe/Rome:20220928T093000
DTEND;TZID=Europe/Rome:20220928T180000
DTSTAMP:20260421T131803
CREATED:20220627T092258Z
LAST-MODIFIED:20220923T130754Z
UID:15707-1664357400-1664388000@paradigma.it
SUMMARY:Fiscalità del reddito d’impresa - Percorso formativo
DESCRIPTION:[vc_row][vc_column]\n	\n		\n			\n		\n	\n\n	\n		\n			\nI Modulo\nRegole della derivazione\, principi generali della determinazione del reddito e beni relativi all’impresa\nMercoledì 7 settembre 2022\nII Modulo\nComponenti positivi e componenti negativi del reddito d’impresa\nMercoledì 14 settembre 2022\nIII Modulo\nIstituti agevolativi per le imprese e rapporti con l’estero\nMercoledì 21 settembre 2022\nIV Modulo\nGli interpelli: disciplina e tecniche di predisposizione\nMercoledì 28 settembre 2022\n\nI docenti\, nel corso dell’evento formativo\, risponderanno alle domande e alle richieste di chiarimenti formulate dai partecipanti. Eventuali quesiti potranno essere anticipati inviando una email all’indirizzo info@paradigma.it \n \n\n		\n	\n\n	\n		\n			Evento in videoconferenza \n\n		\n	\n\n	\n		\n			7\, 14\, 21 e 28 settembre 2022 \n\n		\n	\n\n	\n		\n			 \n\n		\n	\n\n	\n		\n			\n\n		\n	\nPresentazioneProgrammaDocentiBrochureIscrizioni e CondizioniPresentazione\n	\n		\n			Contenuti del percorso \nSaranno oggetto di analisi e di dibattito\, nel corso dei vari moduli\, le questioni di maggiore interesse e attualità in materia di reddito d’impresa. \nLe tematiche verranno affrontate avendo costante riguardo alla prassi applicativa e agli orientamenti dell’Agenzia dell’Entrate. \nI vantaggi del percorso \nla qualità e l’approfondimento dell’offerta formativa Paradigma in una soluzione agile\, strutturata su cinque giornate monografiche\, tutte previste di mercoledì\nla possibilità di seguire il ciclo di eventi in diretta streaming\nuna soluzione che consente la massima flessibilità nella sua fruizione: è infatti possibile iscriversi all’intero ciclo di incontri\, ad alcuni di essi o anche ad una singola giornata\nuna soluzione che permette\, scegliendo di partecipare a più giornate\, di coinvolgere diverse risorse della stessa azienda\, in base alle specifiche esigenze di approfondimento delle singole professionalità\nuna proposta\, aderendo a più giornate\, di grande interesse economico. \nI destinatari del percorso \nIl ciclo di incontri è rivolto ai Responsabili del Servizio Fiscale e ai Direttori Amministrativi e finanziari delle imprese\, nonché ai liberi professionisti che si occupano di fiscalità d’impresa. \nGli obiettivi del percorso \nIl ciclo di incontri è mirato ad approfondire\, con il contributo di autorevoli esperti\, i vari profili del reddito d’impresa e dei relativi regimi impositivi\, fornendo\, oltre ad un’accurata disamina delle più recenti novità\, concreti spunti operativi per un’ottimale pianificazione fiscale. \n\n\n		\n	\nProgramma\n	\n		\n			Mercoledì 7 settembre 2022 \nREGOLE DELLA DERIVAZIONE ED ONERE DELLA PROVA \nNozione di reddito d’impresa\nLa doppia imposizione società/socio e le modalità con cui sono risolte\nLa regola della derivazione della base imponibile dal risultato civilistico\nLe possibili contestazioni dell’ufficio e gli oneri probatori \nPRINCIPI GENERALI DELLA DETERMINAZIONE DEL REDDITO E BENI RELATIVI ALL’IMPRESA \nIl criterio di imputazione temporale e le connessioni con l’art 83 del D.P.R. n. 917/1986\nLa clausola dell’inerenza e l’evoluzione della giurisprudenza\nLa nozione di beni relativi all’impresa\nGli accertamenti riguardanti l’inerenza e l’onere della prova\nIl principio della previa imputazione: ratio e deroghe \nProf. Alessandro Vicini Ronchetti\nUniversità di Torino \n  \nMercoledì 14 settembre 2022 \nCOMPONENTI POSITIVI: PROVENTI TIPIZZATI E PROVENTI PRIVI DI CORRISPETTIVO\, PEX\, DIVIDENDI \nI ricavi tipici: le cessioni di beni e le prestazioni di servizi\nLe plusvalenze patrimoniali\nI contributi: tipologia e momento impositivo \nLe indennità risarcitorie\nLe assegnazioni ai soci e le altre destinazioni a finalità estranee\nGli interessi attivi e gli altri proventi finanziari\nI dividendi: dividendi in denaro e quelli in natura\, i dividendi in valuta estera e le differenze cambio\, i dividendi costituiti da azioni proprie\nLe plusvalenze da cessione di strumenti finanziari: regime ordinario e PEX \nDott. Stefano Rota\nSCGT Studio di Consulenza Giuridico-Tributaria \nCOMPONENTI NEGATIVI: INTERESSI PASSIVI\, COMPONENTI VALUTATIVE\, PERDITE SU CREDITI\, SPESE PARZIALMENTE INERENTI \nLa disciplina degli interessi passivi ex art. 96 e comparazioni con la Direttiva ATAD\nLe perdite su crediti: le ipotesi espressamente previste dall’art. 101 e la nozione di “elementi certi e precisi”\nIl regime delle spese di rappresentanza ex art. 108 e la nozione di inerenza ivi recata \nDott. Marco Piazza\nBiscozzi Nobili Piazza Studio legale tributario \n  \nMercoledì 21 settembre 2022 \nISTITUTI AGEVOLATIVI PER LE IMPRESE: RICERCA E SVILUPPO\, PATENT BOX\, INCENTIVI AGLI INVESTIMENTI \nProroga del credito d’imposta in ricerca e sviluppo\, innovazione tecnologica e altre attività innovative\nCaratteristiche generali del beneficio e modifiche apportate dalla Legge di Bilancio 2022\nAttività agevolabili e loro definizioni\nAspetti applicativi \nIl Piano Transizione 4.0 \nLe finalità e gli obbiettivi del Piano Transizione 4.0\nGli strumenti applicabili e le progettualità finanziabili \nIl “nuovo” Patent Box\nCaratteristiche generali del beneficio e confronto con il vecchio regime\nAspetti applicativi \nDott. Alessandro Calastrini\nKPMG Studio Associato \nDott.ssa Sara Nuzzaci\nKPMG Studio Associato \nDott. Filippo Tripoli\nKPMG Studio Associato \nRAPPORTI CON L’ESTERO: RESIDENZA DELLE SOCIETÀ\, TRASFERIMENTO DELLA SEDE\, STABILE ORGANIZZAZIONE\, CFC \nIl regime di esterovestizione recato dalla normativa italiana \nL’applicazione di exit tax ed entry tax e la determinazione dei valori dei beni in entrata \nLa stabile organizzazione: definizione e riqualificazione della SO occulta \nL’attribuzione del reddito alla SO e il regime della branch exemption \nLe CFC e la recente prassi in materia \nProf. Stefano Grilli\nWithersworldwide\nAvv. Marco Busia\nWithersworldwide\nAvv. Giuseppe Patti\nWithersworldwide\n \n  \nMercoledì 28 settembre 2022 \nGLI INTERPELLI: DISCIPLINA DELL’ISTITUTO\, APPLICAZIONE DEI PRINCIPI DEL REDDITO D’IMPRESA E TECNICHE DI PREDISPOSIZIONE \nLa disciplina dell’istituto e le differenti tipologie di interpello \nApplicazione dei principi del reddito d’impresa nella redazione dell’interpello\nLe tecniche di predisposizione dell’istanza di interpello e l’interlocuzione con l’Agenzia delle Entrate \nProf. Alessandro Vicini Ronchetti\nUniversità di Torino \n\n\n		\n	\nDocenti\n	\n		\n			Avv. Marco Busia\nSenior Associate\nWithersworldwide \nDott. Alessandro Calastrini\nAssociate Partner\nKPMG Studio Associato \nProf. Stefano Grilli\nDocente a contratto di Diritto Tributario Internazionale\nUniversità di Milano Bicocca\nPartner\nHead of Corporate Tax\nWithersworldwide \nDott.ssa Sara Nuzzaci\nPartner\nKPMG Studio Associato \nAvv. Giuseppe Patti\nSenior Associate\nWithersworldwide \nDott. Marco Piazza\nPartner\nStudio Legale Tributario Biscozzi Nobili Piazza \nDott. Stefano Rota\nPartner\nSCGT Studio di Consulenza Giuridico-Tributaria \nDott. Filippo Tripoli\nSenior Manager\nPNRR Tax Incentives Hub\nKPMG Studio Associato \nProf. Alessandro Vicini Ronchetti\nAssociato di Diritto Tributario\nUniversità di Torino \n\n\n		\n	\nBrochure\n	\n		\n			 Scarica la brochure\n\n		\n	\nIscrizioni e Condizioni\n	\n		\n			Quota di partecipazione \nLa quota di partecipazione in aula virtuale (diretta streaming) include l’invio del materiale didattico in formato elettronico e la possibilità di presentare ai relatori domande e quesiti di specifico interesse a mezzo chat. E’ altresì possibile anticipare domande e richieste di approfondimento inviando una email a info@paradigma.it entro il giorno antecedente il singolo evento. \nIn caso di videoconferenza con accessi multipli è necessario contattare la Segreteria organizzativa per un preventivo personalizzato. \nModalità di funzionamento della videoconferenza \nE’ possibile accedere a ciascun modulo del percorso attraverso il proprio personal computer o il proprio tablet con una semplice connessione a Internet. La piattaforma informatica utilizzata da Paradigma (Adobe Connect) non necessita infatti di requisiti tecnici particolari. \nNei giorni antecedenti l’evento il partecipante riceverà per posta elettronica le credenziali e le istruzioni di accesso. Il giorno dell’evento sarà sufficiente selezionare il link che troverà nella mail e inserire le credenziali per accedere all’aula virtuale. \nDurante gli interventi\, oltre a vedere e sentire i docenti\, ogni utente collegato potrà porre domande sulle tematiche affrontate a mezzo chat\, alle quali il docente risponderà nel corso dell’intervento. \nModalità di iscrizione \nL’iscrizione si intende perfezionata al momento del ricevimento del modulo di registrazione\, da inviare via mail all’indirizzo info@paradigma.it\, integralmente compilato. Il numero dei posti disponibili è limitato e la priorità d’iscrizione è determinata dalla data di ricezione del modulo di registrazione. Si consiglia pertanto di effettuare una preiscrizione telefonica.\nÈ possibile l’iscrizione anche a singole giornate del percorso. \nModalità di pagamento \nLa quota di partecipazione deve essere versata all’atto della presentazione della richiesta di iscrizione e in ogni caso prima dell’effettuazione dell’intervento formativo tramite bonifico bancario intestato a: \nParadigma Srl – Corso Vittorio Emanuele II\, 68 – 10121 Torino\nc/o Banco BPM Spa\nIBAN IT 14 V 05034 01017 000000002530 \nFormazione finanziata \nLa quota di partecipazione all’iniziativa può essere completamente rimborsata tramite voucher promossi dai Fondi Paritetici Interprofessionali. Paradigma offre la completa e gratuita gestione delle spese di progettazione\, monitoraggio e rendicontazione. \nAttestato di frequenza \nL’attestato di partecipazione nominativo sarà rilasciato al termine dell’intervento formativo ai partecipanti che hanno regolarmente preso parte ai lavori. \nDiritto di recesso e modalità di disdetta \nÈ attribuita ai partecipanti la facoltà di recedere ai sensi dell’art. 1373 c.c. Il recesso dovrà essere comunicato in forma scritta almeno sette giorni prima della data dell’evento formativo in caso di acquisto della singola giornata (escluso il sabato e la domenica)\, mentre\, nel caso di acquisto dell’intero percorso\, sette giorni prima dell’inizio del percorso stesso. Qualora la disdetta pervenga oltre tale termine o si verifichi di fatto con il mancato collegamento alla videoconferenza\, la quota di partecipazione sarà addebitata per intero e sarà inviato al partecipante il materiale didattico. In qualunque momento l’azienda o lo studio potranno comunque sostituire il partecipante\, comunicando il nuovo nominativo alla nostra Segreteria organizzativa. \nVariazioni di programma \nParadigma Srl\, per ragioni eccezionali e imprevedibili\, si riserva di annullare o modificare le date dell’evento formativo\, dandone comunicazione agli interessati entro tre giorni dalla data di inizio prevista. In tali casi le quote di partecipazione pervenute verranno rimborsate\, con esclusione di qualsivoglia onere o obbligo a carico di Paradigma Srl. Paradigma Srl si riserva inoltre\, per ragioni sopravvenute e per cause di forza maggiore\, di modificare l’articolazione dei programmi e sostituire i docenti previsti con altri docenti di pari livello professionale. \nPer ulteriori informazioni o necessità è possibile contattare la Segreteria organizzativa al numero 011.538686 o all´indirizzo di posta elettronica info@paradigma.it. \n\n\n		\n	\n\n\n	\n		\n			Quota di partecipazione\n	\n		\n			€ 1.000 + Iva primo modulo€ 1.000 + Iva secondo modulo€ 1.000 + Iva terzo modulo€ 650 + Iva quarto modulo€ 3.450 + Iva intero progetto\n\n		\n	\n\n	\n		\n			In caso di videoconferenza con accessi multipli è necessario contattare la Segreteria organizzativa per un preventivo personalizzato. \n\n		\n	\n\n\n		\n	\n\n	\n		\n			\n\n\n\n\n\n\n	\n		\n			Early booking -20%\nInviando il modulo di iscrizione entro il 26 agosto 2022 si avrà diritto a una riduzione del 20% sulla quota di partecipazione al percorso. \nL’iscrizione all’intero percorso o a più giornate dello stesso non vincola l’ente\, l’azienda o lo studio a far partecipare la medesima risorsa ad ogni modulo. Scegliendo di partecipare a più giornate è infatti possibile coinvolgere risorse provenienti da diverse aree\, in base alle specifiche esigenze di approfondimento delle singole professionalità. \n\n		\n	\n\n\n\n		\n	\n\n	\n		\n			\n\n		\n	\n\n	\n		\n			\n\n		\n	\n\n	\n		\n			\n\n\n\n\n\n\n	\n		\n			Progetto Giovani Eccellenze -50%\nL´adesione all’evento formativo permette di iscrivere una seconda risorsa che non abbia compiuto il 30° anno di età e proveniente dalla stessa organizzazione con una riduzione del 50% sulla seconda quota di partecipazione. L’agevolazione è calcolata sulla quota ordinaria. \n\n		\n	\n\n\n\n		\n	\n\n	\n		\n			\n\n\n\n\n\n\n	\n		\n			Formazione finanziata\nLa quota di partecipazione all’iniziativa può essere completamente rimborsata tramite voucher promossi dai Fondi Paritetici Interprofessionali. Paradigma offre la completa e gratuita gestione delle spese di progettazione\, monitoraggio e rendiconto. \n\n		\n	\n\n\n\n		\n	\n\n	\n		\n			\n\n\n\n\n\n\n	\n		\n			Mercati elettronici della PA\nParadigma opera sul MePA e sui principali mercati elettronici di soggetti aggregatori e centrali di committenza. \n\n		\n	\n\n\n\n		\n	\n\n	\n		\n			\n	\n\n\n	I campi con (*) sono obbligatori\n	\n		\n		Dati relativi all'evento\n		\n		\n			Partecipazione in aula\n			Partecipazione in videoconferenza\n		\n		\n\n		Dati relativi al richiedente\n		\n		\n		\n		\n		\n		\n		\n		\n\n	\n\n	\n\n		Dati per eventuale partecipante under 30\n		\n		\n		\n\n	\n\n	\n\n		Dati per la fatturazione elettronica\n		\n		\n		\n		\n		\n		\n				\n		\n		\n		  Split Payment:\n          \n            \n              \n              Si \n            No\n          \n        \n		\n		\n		\n		\n	\n\n	\n\n		Per informazioni contattare\n		\n		\n		\n		\n		\n	\n	L'iscrizione all'evento formativo si intende perfezionata al momento del ricevimento\, da parte di Paradigma Srl\, del presente modulo di registrazione compilato in ogni sua parte\, stampato\, firmato e inviato via e-mail all'indirizzo info@paradigma.it. Riceverete via email conferma dell'avvenuta iscrizione. \n\n\n		\n	     Acconsento all'invio di comunicazioni sui servizi Paradigma Srl - Consenso finalizzato\, anche con modalità automatizzate\, all'invio di comunicazioni relative a prodotti e servizi di Paradigma Srl e al fine di ricevere materiale informativo o promozionale.\n	\n	     Acconsento alla personalizzazione delle offerte - Consenso finalizzato\, mediante modalità automatizzate\, a personalizzare i servizi forniti e meglio indirizzare le proposte promozionali grazie ad attività di profilazione.\n	\n	Inviando i dati autorizzi Paradigma Srl a utilizzare i tuoi dati personali per evadere la richiesta di partecipazione all’evento formativo e svolgere le attività a ciò connesse. I dati potranno essere trattati\, per conto di Paradigma Srl\, da dipendenti e collaboratori incaricati di svolgere specifici servizi necessari all’esecuzione delle tue richieste. Il conferimento dei tuoi dati\, pur essendo facoltativo\, si rende necessario per l’esecuzione del servizio richiesto.	\n\n\n\n\n		\n\n\n\n\n\n		\n	\n[/vc_column][/vc_row]
URL:https://paradigma.it/iniziativa/fiscalita-del-reddito-dimpresa-percorso-formativo/
CATEGORIES:Fisco e Diritto Tributario
ORGANIZER;CN="Veronica%20Spiez":MAILTO:vspiez@paradigma.it
END:VEVENT
END:VCALENDAR