BEGIN:VCALENDAR
VERSION:2.0
PRODID:-//Paradigma srl - ECPv5.2.1//NONSGML v1.0//EN
CALSCALE:GREGORIAN
METHOD:PUBLISH
X-WR-CALNAME:Paradigma srl
X-ORIGINAL-URL:https://paradigma.it
X-WR-CALDESC:Eventi per Paradigma srl
BEGIN:VTIMEZONE
TZID:Europe/Rome
BEGIN:DAYLIGHT
TZOFFSETFROM:+0100
TZOFFSETTO:+0200
TZNAME:CEST
DTSTART:20250330T010000
END:DAYLIGHT
BEGIN:STANDARD
TZOFFSETFROM:+0200
TZOFFSETTO:+0100
TZNAME:CET
DTSTART:20251026T010000
END:STANDARD
END:VTIMEZONE
BEGIN:VEVENT
DTSTART;TZID=Europe/Rome:20250312T093000
DTEND;TZID=Europe/Rome:20250313T133000
DTSTAMP:20260421T151827
CREATED:20250228T112551Z
LAST-MODIFIED:20250310T143003Z
UID:22152-1741771800-1741872600@paradigma.it
SUMMARY:Firme elettroniche\, identificazione a distanza e identità digitaleWorkshopProfili applicativi e criticità  in ambito bancario\, finanziario  e assicurativo
DESCRIPTION:[vc_row][vc_column]\n	\n		\n			\n		\n	\n\n	\n		\n			I docenti\, nel corso dell’evento formativo\, risponderanno alle domande e alle richieste di chiarimenti formulate dai partecipanti. Eventuali quesiti potranno essere anticipati inviando una email all’indirizzo asorba@paradigma.it \n \n\n		\n	\n\n	\n		\n			Evento in videoconferenza \n\n		\n	\n\n	\n		\n			12 e 13 marzo 2025 \n\n		\n	\n\n	\n		\n			 \n\n		\n	\n\n	\n		\n			\n\n		\n	\nPresentazioneProgrammaDocentiBrochureIscrizioni e CondizioniPresentazione\n	\n		\n			Contenuti dell’evento \nNel corso del workshop saranno analizzate\, anche con un approccio operativo e orientato all’analisi di casi pratici\, le principali questioni giuridiche e le più diffuse criticità connesse all’utilizzo delle varie tipologie di firma elettronica. \nIl modello didattico adottato e il numero limitato dei collegamenti in videoconferenza consentirà di ricevere importanti indicazioni\, non solo sugli aspetti squisitamente giuridici\, ma anche sui profili operativi e gestionali. \nDestinatari dell’evento \nL’evento formativo è rivolto ai Responsabili della Compliance e del Servizio Legale\, ai Responsabili dei Sistemi Informativi\, ai Responsabili dell’Organizzazione\, Avvocati e Consulenti. \nObiettivi dell’evento \nObiettivo dell’incontro è fornire ai partecipanti un quadro dettagliato e completo della disciplina in materia firme elettroniche e identificazione a distanza\, presentando strumenti operativi per adeguarsi al nuovo quadro normativo\, attraverso l’analisi di casi concreti e problematiche operative. \n\n\n		\n	\nProgramma\n	\n		\n			Prima giornata\nMercoledì 12 marzo 2025 \nFIRME ELETTRONICHE\, IDENTIFICAZIONE A DISTANZA E IDENTITÀ DIGITALE \neIDAS 2\, il quadro normativo internazionale e gli standard tecnici di riferimento\nL’identità digitale e il EUDI Wallet\nL’identificazione a distanza \nLa definizione delle firme informatiche\, caratteristiche e modalità di sottoscrizione\nLa firma digitale\nLa firma elettronica qualificata\nLa firma elettronica avanzata\nLa firma grafometrica\nLa firma elettronica semplice\nDisciplina\, principali differenze e applicazioni concrete \nIl sigillo elettronico: funzioni e scenari di utilizzo\nPoint and click\, firma con Spid e CIE: tecnologia\, funzioni\, utilizzo \nLa gestione dei dispositivi qualificati per la creazione di firme e sigilli a distanza\nL’importanza comunitaria della firma remota e l’obbligo di disporre gratuitamente di una firma elettronica qualificata sul Portafoglio Europeo\nI dispositivi per la creazione di firme e sigilli le regole di sicurezza a essi relative \nIng. Giovanni Manca\nEsperto di Dematerializzazione e Sicurezza\nLAND \nGli effetti giuridici delle firme informatiche e le questioni giuridiche connesse \nIl documento informatico e la sua efficacia probatoria\nL’orientamento giurisprudenziale\nLa qualificazione dei messaggi di posta elettronica e di WhatsApp \nL’utilizzo della firma digitale e la disciplina delle deleghe \nLa normativa di riferimento\nCAD\nLinee Guida AGID sulla formazione\, gestione e conservazione dei documenti informatici\nL’aggiornamento del Regolamento eIDAS\nNIS 2 e DORA \nLa conservazione e il Regolamento eIDAS\nLong Term Digital Preservation of digital signatures: cosa è la conservazione digitale delle firme e dei sigilli elettronici\nLo stato attuale della conservazione digitale dei documenti e l’e-archiving conservazione di dati e documenti\nLa definizione dei requisiti per erogare il servizio di conservazione come servizio fiduciario qualificato e non \nDott.ssa Patrizia Sormani\nPSC – Patrizia Sormani Consulting\nANORC Mercato \nI profili data protection nell’utilizzo delle firme elettroniche\nGDPR e firma grafometrica\nI profili di data protection nella conservazione come servizio fiduciario\nIdentità digitale\, diritti digitali e GDPR \nAvv. Alessandro Del Ninno\nFIVERS Studio Legale e Tributario \n  \nSeconda giornata\nGiovedì 13 marzo 2025 \nPROFILI APPLICATIVI E CRITICITÀ IN AMBITO BANCARIO\, FINANZIARIO E ASSICURATIVO \nIl documento informatico\, la transizione digitale e le firme elettroniche negli ambiti vigilati\nIl quadro normativo di riferimento (eIDAS\, CAD e normative settoriali)\nGli aspetti specifici rilevanti per gli ambiti vigilati: requisiti di sicurezza\, conservazione e valore probatorio\nL’importanza strategica dell’adozione del documento informatico e della firma elettronica per gli ambiti vigilati\nI trend emergenti\, le nuove tecnologie e l’impatto sull’organizzazione\nDott.ssa Patrizia Sormani\nPSC – Patrizia Sormani Consulting\nANORC Mercato \nL’utilizzo di firme elettroniche e documenti informatici in ambito bancario e finanziario\nL’utilizzo delle firme elettroniche per la firma dei contratti bancari e finanziari\nLa differenza tra l’utilizzo della firma elettronica avanzata e la firma digitale\nIl c.d. treno di firme e il point-and-click\nLa conclusione a distanza di contratti bancari e finanziari: le regole del Codice del Consumo\nGli impatti del Regolamento eIDAS 2 sull’operatività degli intermediari\nLa nuova Direttiva UE n. 2673/2023 sulla commercializzazione a distanza dei servizi bancari e di investimento\nAvv. Fabio Coco\nADVANT Nctm \nL’utilizzo di firme elettroniche e documenti informatici in ambito assicurativo\nLa consegna dell’informativa precontrattuale: il superamento dei metodi tradizionali e l’adozione di forme innovative\nL’utilizzo delle firme elettroniche per la sottoscrizione dei contratti assicurativi: requisiti normativi ed efficacia probatoria\nI limiti ancora presenti nella normativa attuale\nLa conclusione a distanza dei contratti assicurativi e la gestione telematica dei rapporti con la clientela\nAvv. Erik Haxho\nStudio Legale D’Argenio Polizzi e Associati \n\n\n		\n	\nDocenti\n	\n		\n			Avv. Fabio Coco\nPartner\nADVANT Nctm \nAvv. Alessandro Del Ninno\nPartner\nFIVERS Studio Legale e Tributario \nAvv. Erik Haxho\nStudio Legale D’Argenio Polizzi e Associati \nIng. Giovanni Manca\nEsperto di Dematerializzazione e Sicurezza\nLAND \nDott.ssa Patrizia Sormani\nExpert Digital Manager\nPSC – Patrizia Sormani Consulting\nPresidente ANORC Mercato \n\n\n		\n	\nBrochure\n	\n		\n			 Scarica la brochure\n\n		\n	\nIscrizioni e Condizioni\n	\n		\n			Quota di partecipazione \nLa quota di partecipazione in aula virtuale (diretta streaming) include la fruizione in diretta delle docenze\, nonché l’invio\, in formato elettronico\, del materiale didattico che i relatori riterranno di mettere a disposizione. È inoltre prevista la possibilità di presentare in diretta domande e quesiti di specifico interesse a mezzo chat\, nonché di sottoporli in via preventiva\, inviando una email a info@paradigma.it entro il giorno antecedente l’evento. \nIn caso di videoconferenza con accessi multipli è necessario contattare la Segreteria organizzativa per un preventivo personalizzato. \nModalità di funzionamento della videoconferenza \nE’ possibile accedere all’aula virtuale da qualsiasi luogo\, utilizzando il proprio PC o tablet con una semplice connessione a Internet. La piattaforma informatica utilizzata da Paradigma (Adobe Connect) non necessita di requisiti tecnici particolari. \nNei giorni antecedenti l’evento il partecipante riceverà per posta elettronica le credenziali e le istruzioni di accesso. Il giorno dell’evento sarà sufficiente selezionare il link che troverà nella mail e inserire le credenziali per accedere all’aula virtuale. \nDurante gli interventi\, oltre a vedere e sentire i docenti\, è possibile consultare simultaneamente la documentazione predisposta dal relatore. Ogni utente collegato potrà porre domande sulle tematiche affrontate a mezzo chat\, alle quali il docente risponderà nel corso dell’intervento. \nModalità di iscrizione \nL’iscrizione si perfeziona al momento del ricevimento del modulo di registrazione\, da inviare via e-mail all’indirizzo info@paradigma.it\, integralmente compilato. Il numero dei collegamenti disponibili è limitato e la priorità d’iscrizione è determinata dalla data di ricezione del modulo di registrazione. Si consiglia pertanto di effettuare una preiscrizione telefonica. \nModalità di pagamento \nLa quota di partecipazione deve essere versata all’atto della presentazione della richiesta di iscrizione e\, in ogni caso\, prima dell’effettuazione dell’evento formativo\, tramite bonifico bancario intestato a: \nParadigma Srl – Corso Vittorio Emanuele II\, 68 – 10121 Torino\nc/o Banco BPM Spa\nIBAN IT 14 V 05034 01017 000000002530 \nFormazione finanziata \nLa quota di partecipazione può essere completamente rimborsata tramite voucher promossi dai Fondi Paritetici Interprofessionali. Paradigma offre la completa e gratuita gestione delle spese di progettazione\, monitoraggio e rendicontazione. La possibilità di accedere alla formazione finanziata con partecipazione mediante videoconferenza può variare a seconda dell’Ente erogante. \nAttestato di frequenza \nL’attestato di partecipazione nominativo sarà inviato al termine dell’evento formativo ai partecipanti che si sono regolarmente collegati all’aula virtuale. \nDiritto di recesso e modalità di disdetta \nÈ attribuita ai partecipanti la facoltà di recedere ai sensi dell’art. 1373 c.c. Il recesso dovrà essere comunicato in forma scritta almeno sette giorni prima della data di inizio dell’evento formativo (escluso il sabato e la domenica). Qualora la disdetta pervenga oltre tale termine o si verifichi di fatto con il mancato collegamento alla videoconferenza\, la quota di partecipazione sarà addebitata per intero e sarà inviato al partecipante il materiale didattico. In qualunque momento l’azienda o lo studio potranno comunque sostituire il partecipante\, comunicando il nuovo nominativo alla nostra Segreteria organizzativa. \nVariazioni di programma \nParadigma\, per ragioni eccezionali e imprevedibili\, si riserva di annullare o modificare la data dell’evento formativo\, dandone comunicazione agli interessati entro tre giorni dalla data di inizio prevista. In tali casi le quote di partecipazione pervenute verranno rimborsate\, con esclusione di qualsivoglia onere o obbligo a carico di Paradigma. Paradigma si riserva inoltre\, per ragioni sopravvenute e per cause di forza maggiore\, di modificare l’articolazione del programma e di sostituire i docenti previsti con altri docenti di pari livello professionale. \nPer ulteriori informazioni è possibile contattare la Segreteria organizzativa al numero 011.538686 o all’indirizzo e-mail info@paradigma.it. \n\n\n		\n	\n\n\n	\n		\n			Quota di partecipazione\n	\n		\n			€ 1.100 + Iva Prima giornata€ 650 + Iva Seconda giornata€ 1.500+ Iva Intero progetto\n\n		\n	\n\n	\n		\n			In caso di videoconferenza con accessi multipli è necessario contattare la Segreteria organizzativa per un preventivo personalizzato. \n\n		\n	\n\n\n		\n	\n\n	\n		\n			\n\n\n\n\n\n\n	\n		\n			Early booking -20%\nInviando il modulo di iscrizione entro il 19 febbraio si avrà diritto a una riduzione del 20% sulla quota di partecipazione. \n\n		\n	\n\n\n\n		\n	\n\n	\n		\n			\n\n		\n	\n\n	\n		\n			\n\n		\n	\n\n	\n		\n			\n\n\n\n\n\n\n	\n		\n			Progetto Giovani Eccellenze -50%\nL’adesione all’evento formativo permette di iscrivere una seconda risorsa\, che non abbia compiuto il 30° anno di età e proveniente dalla stessa organizzazione\, con una riduzione del 50% sulla seconda quota di partecipazione. L’agevolazione è calcolata sulla quota ordinaria. \n\n		\n	\n\n\n\n		\n	\n\n	\n		\n			\n\n\n\n\n\n\n	\n		\n			Formazione finanziata\nLa quota di partecipazione all’iniziativa può essere completamente rimborsata tramite voucher promossi dai Fondi Paritetici Interprofessionali. Paradigma offre la completa e gratuita gestione delle spese di progettazione\, monitoraggio e rendiconto. \n\n		\n	\n\n\n\n		\n	\n\n	\n		\n			\n\n\n\n\n\n\n	\n		\n			Mercati elettronici della PA\nParadigma opera sul MePA e sui principali mercati elettronici di soggetti aggregatori e centrali di committenza. \n\n		\n	\n\n\n\n		\n	\n\n	\n		\n			\n	\n\n\n	I campi con (*) sono obbligatori\n	\n		\n		Dati relativi all'evento\n		\n		\n			Partecipazione in aula\n			Partecipazione in videoconferenza\n		\n		\n\n		Dati relativi al richiedente\n		\n		\n		\n		\n		\n		\n		\n		\n\n	\n\n	\n\n		Dati per eventuale partecipante under 30\n		\n		\n		\n\n	\n\n	\n\n		Dati per la fatturazione elettronica\n		\n		\n		\n		\n		\n		\n				\n		\n		\n		  Split Payment:\n          \n            \n              \n              Si \n            No\n          \n        \n		\n		\n		\n		\n	\n\n	\n\n		Per informazioni contattare\n		\n		\n		\n		\n		\n	\n	L'iscrizione all'evento formativo si intende perfezionata al momento del ricevimento\, da parte di Paradigma Srl\, del presente modulo di registrazione compilato in ogni sua parte\, stampato\, firmato e inviato via e-mail all'indirizzo info@paradigma.it. Riceverete via email conferma dell'avvenuta iscrizione. \n\n\n		\n	     Acconsento all'invio di comunicazioni sui servizi Paradigma Srl - Consenso finalizzato\, anche con modalità automatizzate\, all'invio di comunicazioni relative a prodotti e servizi di Paradigma Srl e al fine di ricevere materiale informativo o promozionale.\n	\n	     Acconsento alla personalizzazione delle offerte - Consenso finalizzato\, mediante modalità automatizzate\, a personalizzare i servizi forniti e meglio indirizzare le proposte promozionali grazie ad attività di profilazione.\n	\n	Inviando i dati autorizzi Paradigma Srl a utilizzare i tuoi dati personali per evadere la richiesta di partecipazione all’evento formativo e svolgere le attività a ciò connesse. I dati potranno essere trattati\, per conto di Paradigma Srl\, da dipendenti e collaboratori incaricati di svolgere specifici servizi necessari all’esecuzione delle tue richieste. Il conferimento dei tuoi dati\, pur essendo facoltativo\, si rende necessario per l’esecuzione del servizio richiesto.	\n\n\n\n\n		\n\n\n\n\n\n		\n	\n[/vc_column][/vc_row]
URL:https://paradigma.it/iniziativa/firme-elettroniche-identificazione-a-distanza-e-identita-digitaleworkshopprofili-applicativi-e-criticita-in-ambito-bancario-finanziario-e-assicurativo/
CATEGORIES:Digitalizzazione
ORGANIZER;CN="Veronica%20Spiez":MAILTO:vspiez@paradigma.it
END:VEVENT
END:VCALENDAR