BEGIN:VCALENDAR
VERSION:2.0
PRODID:-//Paradigma srl - ECPv5.2.1//NONSGML v1.0//EN
CALSCALE:GREGORIAN
METHOD:PUBLISH
X-WR-CALNAME:Paradigma srl
X-ORIGINAL-URL:https://paradigma.it
X-WR-CALDESC:Eventi per Paradigma srl
BEGIN:VTIMEZONE
TZID:Europe/Rome
BEGIN:DAYLIGHT
TZOFFSETFROM:+0100
TZOFFSETTO:+0200
TZNAME:CEST
DTSTART:20240331T010000
END:DAYLIGHT
BEGIN:STANDARD
TZOFFSETFROM:+0200
TZOFFSETTO:+0100
TZNAME:CET
DTSTART:20241027T010000
END:STANDARD
END:VTIMEZONE
BEGIN:VEVENT
DTSTART;TZID=Europe/Rome:20240523T093000
DTEND;TZID=Europe/Rome:20240523T180000
DTSTAMP:20260421T130013
CREATED:20240422T135921Z
LAST-MODIFIED:20240521T141306Z
UID:20445-1716456600-1716487200@paradigma.it
SUMMARY:Direzione e coordinamento nei gruppi societari
DESCRIPTION:[vc_row][vc_column]\n	\n		\n			\n		\n	\n\n	\n		\n			\nProfili di governance\nRegolamentazione dei rapporti infragruppo\nImplementazione dei flussi informativi\nLgs. n. 231/2001 e gruppi societari\nNovità introdotte dal nuovo Codice della Crisi\nResponsabilità civili e penali\n\nI docenti\, nel corso dell’evento formativo\, risponderanno alle domande e alle richieste di chiarimenti formulate dai partecipanti. Eventuali quesiti potranno essere anticipati inviando una e-mail all’indirizzo asorba@paradigma.it \n \n\n		\n	\n\n	\n		\n			Evento in videoconferenza \n\n		\n	\n\n	\n		\n			23 maggio 2024 \n\n		\n	\n\n	\n		\n			 \n\n		\n	\n\n	\n		\n			\n\n		\n	\nPresentazioneProgrammaDocentiBrochureIscrizioni e CondizioniPresentazione\n	\n		\n			Contenuti dell’evento \nNell’attuale panorama economico il gruppo di società rappresenta la forma giuridica di svolgimento dell’attività d’impresa più diffusa. \nLa costruzione di articolate architetture societarie\, contemperando autonomia giuridica e identità di interesse economico\, pone delicati problemi di governance\, di gestione del rischio e di ripartizione delle responsabilità dei vertici aziendali. \nNel corso della giornata di studi saranno approfonditi i profili giuridici e gli aspetti operativi delle nozioni di controllo e di attività di direzione e coordinamento\, con uno sguardo alla recente definizione della vicenda Vivendi-Tim. \nSaranno esaminati i temi della regolamentazione dei rapporti tra le società infragruppo e dei flussi informativi e illustrato lo stato dell’arte in materia di responsabilità degli enti ai sensi del D. Lgs. n. 231/2001. \nVerranno poi esaminati i profili patologici dell’attività di direzione e coordinamento con specifico focus sui temi della crisi e dell’insolvenza dei gruppi\, dell’abuso dell’eterodirezione e dei profili di responsabilità penale. \nDestinatari dell’evento \nL’iniziativa è rivolta ai Consiglieri di Amministrazione\, ai Componenti del Collegio Sindacale\, ai Responsabili della Segreteria Societaria\, ai General Counsel\, e a tutti coloro che operano nell’ambito societario di realtà quotate e non quotate\, o le supportano in veste di consulenti esterni. \nObiettivi dell’evento \nObiettivo dell’incontro è fornire ai partecipanti un quadro dettagliato e completo della disciplina dei gruppi societari attraverso l’analisi delle principali disposizioni normative\, delle prassi operative e della recente giurisprudenza. \n\n\n		\n	\nProgramma\n	\n		\n			Giovedì 23 maggio 2024 \nControllo societario e attività di direzione e coordinamento: principi giuridici\, aspetti operativi e recente evoluzione giurisprudenziale\nLe nozioni di gruppo\, controllo e attività di direzione e coordinamento\nAttività di direzione e coordinamento: presunzioni\, contratti e clausole statutarie\nLa normativa applicabile alle società vigilate\nLa direzione e il coordinamento di società pubbliche\nProf. Avv. Andrea Zoppini\nUniversità Roma Tre\nStudio del Prof. Avv. Andrea Zoppini e degli Avvocati Associati\nProf. Avv. Giovanni Strampelli\nUniversità Bocconi di Milano \nIl controllo di fatto e il controllo di diritto nella recente evoluzione giurisprudenziale e le questioni emerse nella vicenda Vivendi-Tim\nIl controllo di fatto e il controllo di diritto nell’interpretazione giurisprudenziale\nI recenti interventi giurisprudenziali sulla vicenda Vivendi-Tim\nLe ricadute operative della pronuncia della suprema Corte\nAvv. Juljan Puna\nGreenberg Traurig Santa Maria \nLa regolamentazione dei rapporti tra le società del gruppo e l’implementazione dei flussi informativi\nDirezione e coordinamento e flussi informativi: accordi di direzione e coordinamento e normativa interna di gruppo\nDoveri e facoltà di condivisione selettiva di informazioni con specifici soci rilevanti\nIl caso delle società quotate e quello delle Srl\nCanali di comunicazione e dialogo con gli investitori\nAvv. Giuseppe Catalano\nAssicurazioni Generali\nAIGI – Associazione Italiana Giuristi d’Impresa \nGruppi societari e responsabilità ex D. Lgs. n. 231/2001\nI gruppi di imprese nel D. Lgs. n. 231/2001\nProfili di responsabilità della holding e delle diverse società del gruppo\nProblemi di giurisdizione\nIl Modello 231 e gli organi di controllo nei gruppi\nLe indagini cross border\nAvv. Francesco Sbisà\nBonelliErede \nL’abuso dell’attività di direzione e coordinamento e le azioni di responsabilità\nLa responsabilità diretta dell’ente controllante nei confronti dei soggetti indirettamente danneggiati\nGli elementi costitutivi della fattispecie risarcitoria\nI vantaggi compensativi e le specifiche iniziative collegate al danno\nLa natura della responsabilità\, soggetti legittimati attivi e passivi\, responsabilità solidale\nL’azione della società eterodiretta\nAnalisi della recente evoluzione giurisprudenziale\nProf. Avv. Emanuele Rimini\nUniversità degli Studi di Milano \nStudio dell’Avvocato Cesare Rimini \nLe responsabilità penali nei gruppi di imprese\nProf. Avv. Francesco D’Alessandro\nUniversità Cattolica del Sacro Cuore di Milano \nChiomenti \nLa nuova disciplina della crisi e dell’insolvenza: profili giuridici\, primi approdi giurisprudenziali e responsabilità\nLa nozione di gruppo di imprese nel nuovo Codice della Crisi e dell’Insolvenza\nLa regolazione della crisi o insolvenza del gruppo: principi cardine\, unicità del ricorso\, piano unitario e piani collegati\nIl contenuto del piano o dei piani di gruppo e azioni a tutela dei creditori e dei soci\nLa liquidazione giudiziale di gruppo: dai profili normativi agli arresti giurisprudenziali\nNorme comuni alle procedure concorsuali di gruppo\nIl ruolo e le responsabilità dei vertici e degli organi di controllo\nProf. Avv. Maurizio Irrera\nUniversità di Torino\nStudio Irrera Avvocati Associati \n\n\n		\n	\nDocenti\n	\n		\n			Avv. Giuseppe Catalano\nCompany Secretary and Head of Corporate Affairs\nAssicurazioni Generali\nPresidente\nAIGI – Associazione Italiana Giuristi d’Impresa \nProf. Avv. Francesco D’Alessandro\nOrdinario di Diritto Penale Commerciale\nUniversità Cattolica del Sacro Cuore di Milano\nPartner\nResponsabile Team White Collar Crime\nChiomenti \nProf. Avv. Maurizio Irrera\nOrdinario di Diritto Commerciale\nUniversità di Torino\nSenior Partner\nStudio Irrera Avvocati Associati \nAvv. Juljan Puna\nCounsel\nGreenberg Traurig Santa Maria \nProf. Avv. Emanuele Rimini\nOrdinario di Diritto Commerciale\nUniversità degli Studi di Milano\nStudio dell’Avvocato Cesare Rimini \nAvv. Francesco Sbisà\nPartner\nResponsabile Dipartimento Penale\nBonelliErede \nProf. Avv. Giovanni Strampelli\nOrdinario di Diritto Commerciale\nUniversità Bocconi di Milano \nProf. Avv. Andrea Zoppini\nOrdinario di Diritto Civile\nUniversità Roma Tre\nStudio del Prof. Avv. Andrea Zoppini e degli Avvocati Associati \n\n\n		\n	\nBrochure\n	\n		\n			 Scarica la brochure\n\n		\n	\nIscrizioni e Condizioni\n	\n		\n			Quota di partecipazione \nLa quota di partecipazione in aula virtuale (diretta streaming) include la fruizione in diretta delle docenze\, nonché l’invio\, in formato elettronico\, del materiale didattico che i relatori riterranno di mettere a disposizione. È inoltre prevista la possibilità di presentare in diretta domande e quesiti di specifico interesse a mezzo chat\, nonché di sottoporli in via preventiva\, inviando una email a info@paradigma.it entro il giorno antecedente l’evento. \nIn caso di videoconferenza con accessi multipli è necessario contattare la Segreteria organizzativa per un preventivo personalizzato. \nModalità di funzionamento della videoconferenza \nE’ possibile accedere all’aula virtuale da qualsiasi luogo\, utilizzando il proprio PC o tablet con una semplice connessione a Internet. La piattaforma informatica utilizzata da Paradigma (Adobe Connect) non necessita di requisiti tecnici particolari. \nNei giorni antecedenti l’evento il partecipante riceverà per posta elettronica le credenziali e le istruzioni di accesso. Il giorno dell’evento sarà sufficiente selezionare il link che troverà nella mail e inserire le credenziali per accedere all’aula virtuale. \nDurante gli interventi\, oltre a vedere e sentire i docenti\, è possibile consultare simultaneamente la documentazione predisposta dal relatore. Ogni utente collegato potrà porre domande sulle tematiche affrontate a mezzo chat\, alle quali il docente risponderà nel corso dell’intervento. \nModalità di iscrizione \nL’iscrizione si perfeziona al momento del ricevimento del modulo di registrazione\, da inviare via e-mail all’indirizzo info@paradigma.it\, integralmente compilato. Il numero dei collegamenti disponibili è limitato e la priorità d’iscrizione è determinata dalla data di ricezione del modulo di registrazione. Si consiglia pertanto di effettuare una preiscrizione telefonica. \nModalità di pagamento \nLa quota di partecipazione deve essere versata all’atto della presentazione della richiesta di iscrizione e\, in ogni caso\, prima dell’effettuazione dell’evento formativo\, tramite bonifico bancario intestato a: \nParadigma Srl – Corso Vittorio Emanuele II\, 68 – 10121 Torino\nc/o Banco BPM Spa\nIBAN IT 14 V 05034 01017 000000002530 \nFormazione finanziata \nLa quota di partecipazione può essere completamente rimborsata tramite voucher promossi dai Fondi Paritetici Interprofessionali. Paradigma offre la completa e gratuita gestione delle spese di progettazione\, monitoraggio e rendicontazione. La possibilità di accedere alla formazione finanziata con partecipazione mediante videoconferenza può variare a seconda dell’Ente erogante. \nAttestato di frequenza \nL’attestato di partecipazione nominativo sarà inviato al termine dell’evento formativo ai partecipanti che si sono regolarmente collegati all’aula virtuale. \nDiritto di recesso e modalità di disdetta \nÈ attribuita ai partecipanti la facoltà di recedere ai sensi dell’art. 1373 c.c. Il recesso dovrà essere comunicato in forma scritta almeno sette giorni prima della data di inizio dell’evento formativo (escluso il sabato e la domenica). Qualora la disdetta pervenga oltre tale termine o si verifichi di fatto con il mancato collegamento alla videoconferenza\, la quota di partecipazione sarà addebitata per intero e sarà inviato al partecipante il materiale didattico. In qualunque momento l’azienda o lo studio potranno comunque sostituire il partecipante\, comunicando il nuovo nominativo alla nostra Segreteria organizzativa. \nVariazioni di programma \nParadigma\, per ragioni eccezionali e imprevedibili\, si riserva di annullare o modificare la data dell’evento formativo\, dandone comunicazione agli interessati entro tre giorni dalla data di inizio prevista. In tali casi le quote di partecipazione pervenute verranno rimborsate\, con esclusione di qualsivoglia onere o obbligo a carico di Paradigma. Paradigma si riserva inoltre\, per ragioni sopravvenute e per cause di forza maggiore\, di modificare l’articolazione del programma e di sostituire i docenti previsti con altri docenti di pari livello professionale. \nPer ulteriori informazioni è possibile contattare la Segreteria organizzativa al numero 011.538686 o all’indirizzo e-mail info@paradigma.it. \n\n\n		\n	\n\n\n	\n		\n			Quota di partecipazione\n	\n		\n			€ 1.100 + Iva\n\n		\n	\n\n	\n		\n			In caso di videoconferenza con accessi multipli è necessario contattare la Segreteria organizzativa per un preventivo personalizzato. \n\n		\n	\n\n\n		\n	\n\n	\n		\n			\n\n\n\n\n\n\n	\n		\n			Early booking -20%\nInviando il modulo di iscrizione entro il 2 maggio si avrà diritto a una riduzione del 20% sulla quota di partecipazione. \n\n		\n	\n\n\n\n		\n	\n\n	\n		\n			\n\n		\n	\n\n	\n		\n			\n\n		\n	\n\n	\n		\n			\n\n\n\n\n\n\n	\n		\n			Progetto Giovani Eccellenze -50%\nL’adesione all’evento formativo permette di iscrivere una seconda risorsa\, che non abbia compiuto il 30° anno di età e proveniente dalla stessa organizzazione\, con una riduzione del 50% sulla seconda quota di partecipazione. L’agevolazione è calcolata sulla quota ordinaria. \n\n		\n	\n\n\n\n		\n	\n\n	\n		\n			\n\n\n\n\n\n\n	\n		\n			Formazione finanziata\nLa quota di partecipazione all’iniziativa può essere completamente rimborsata tramite voucher promossi dai Fondi Paritetici Interprofessionali. Paradigma offre la completa e gratuita gestione delle spese di progettazione\, monitoraggio e rendiconto. \n\n		\n	\n\n\n\n		\n	\n\n	\n		\n			\n\n\n\n\n\n\n	\n		\n			Progetto Giovani Eccellenze -50%\nL’adesione all’evento formativo permette di iscrivere una seconda risorsa\, che non abbia compiuto il 30° anno di età e proveniente dalla stessa organizzazione\, con una riduzione del 50% sulla seconda quota di partecipazione. L’agevolazione è calcolata sulla quota ordinaria. \n\n		\n	\n\n\n\n		\n	\n\n	\n		\n			\n	\n\n\n	I campi con (*) sono obbligatori\n	\n		\n		Dati relativi all'evento\n		\n		\n			Partecipazione in aula\n			Partecipazione in videoconferenza\n		\n		\n\n		Dati relativi al richiedente\n		\n		\n		\n		\n		\n		\n		\n		\n\n	\n\n	\n\n		Dati per eventuale partecipante under 30\n		\n		\n		\n\n	\n\n	\n\n		Dati per la fatturazione elettronica\n		\n		\n		\n		\n		\n		\n				\n		\n		\n		  Split Payment:\n          \n            \n              \n              Si \n            No\n          \n        \n		\n		\n		\n		\n	\n\n	\n\n		Per informazioni contattare\n		\n		\n		\n		\n		\n	\n	L'iscrizione all'evento formativo si intende perfezionata al momento del ricevimento\, da parte di Paradigma Srl\, del presente modulo di registrazione compilato in ogni sua parte\, stampato\, firmato e inviato via e-mail all'indirizzo info@paradigma.it. Riceverete via email conferma dell'avvenuta iscrizione. \n\n\n		\n	     Acconsento all'invio di comunicazioni sui servizi Paradigma Srl - Consenso finalizzato\, anche con modalità automatizzate\, all'invio di comunicazioni relative a prodotti e servizi di Paradigma Srl e al fine di ricevere materiale informativo o promozionale.\n	\n	     Acconsento alla personalizzazione delle offerte - Consenso finalizzato\, mediante modalità automatizzate\, a personalizzare i servizi forniti e meglio indirizzare le proposte promozionali grazie ad attività di profilazione.\n	\n	Inviando i dati autorizzi Paradigma Srl a utilizzare i tuoi dati personali per evadere la richiesta di partecipazione all’evento formativo e svolgere le attività a ciò connesse. I dati potranno essere trattati\, per conto di Paradigma Srl\, da dipendenti e collaboratori incaricati di svolgere specifici servizi necessari all’esecuzione delle tue richieste. Il conferimento dei tuoi dati\, pur essendo facoltativo\, si rende necessario per l’esecuzione del servizio richiesto.	\n\n\n\n\n		\n\n\n\n\n\n		\n	\n[/vc_column][/vc_row]
URL:https://paradigma.it/iniziativa/direzione-e-coordinamento-nei-gruppi-societari-2/
CATEGORIES:Governance e Diritto Societario
ORGANIZER;CN="Angela%20Siniscalchi":MAILTO:asiniscalchi@paradigma.it
END:VEVENT
END:VCALENDAR