BEGIN:VCALENDAR
VERSION:2.0
PRODID:-//Paradigma srl - ECPv5.2.1//NONSGML v1.0//EN
CALSCALE:GREGORIAN
METHOD:PUBLISH
X-WR-CALNAME:Paradigma srl
X-ORIGINAL-URL:https://paradigma.it
X-WR-CALDESC:Eventi per Paradigma srl
BEGIN:VTIMEZONE
TZID:Europe/Rome
BEGIN:DAYLIGHT
TZOFFSETFROM:+0100
TZOFFSETTO:+0200
TZNAME:CEST
DTSTART:20240331T010000
END:DAYLIGHT
BEGIN:STANDARD
TZOFFSETFROM:+0200
TZOFFSETTO:+0100
TZNAME:CET
DTSTART:20241027T010000
END:STANDARD
END:VTIMEZONE
BEGIN:VEVENT
DTSTART;TZID=Europe/Rome:20240305T093000
DTEND;TZID=Europe/Rome:20240306T170000
DTSTAMP:20260421T145616
CREATED:20231213T093559Z
LAST-MODIFIED:20240301T113636Z
UID:19488-1709631000-1709744400@paradigma.it
SUMMARY:Data Protection  Compliance
DESCRIPTION:[vc_row][vc_column]\n	\n		\n			\n		\n	\n\n	\n		\n			\nProblematiche ricorrenti nella gestione dei dati personali\nI più recenti orientamenti dell’EDPB e delle Autorità di controllo nazionali\n\nI docenti\, nel corso dell’evento formativo\, risponderanno alle domande e alle richieste di chiarimenti formulate dai partecipanti. Eventuali quesiti potranno essere anticipati inviando una email all’indirizzo info@paradigma.it \n \n\n		\n	\n\n	\n		\n			Evento in videoconferenza \n\n		\n	\n\n	\n		\n			5 e 6 marzo 2024 \n\n		\n	\n\n	\n		\n			 \n\n		\n	\n\n	\n		\n			\n\n		\n	\nPresentazioneProgrammaDocentiBrochureIscrizioni e CondizioniPresentazione\n	\n		\n			Contenuti dell’evento \nLe indicazioni di prassi in ambito Data Protection elaborate dall’European Data Protection Board\, in forma di Linee Guida\, costituiscono ormai un riferimento imprescindibile per tutti gli operatori del diritto\, contribuendo via via a dissipare dubbi interpretativi della normativa GDPR e a fornire spunti operativi utili ad affrontare le sempre più “sfidanti” occasioni di trattamento dei dati personali\, in un contesto di forte innovazione digitale quale quello che ci troviamo ad affrontare e per quanto concerne dispositivi e occasioni d’uso degli interessati qualificabili quali “clientela consumer”\, e per quanto attiene alla tecnologia e ai trattamenti impiegati nell’ambito dei rapporti di lavoro e delle attività di business. \nNondimeno\, rispetto a talune evoluzioni tecnologiche che presentano aspetti non interamente gestibili nel solo ambito della normativa sulla protezione dei dati\, l’esigenza di nuovi interventi di rango legislativo si impone: è il caso\, ad es.\, dell’Intelligenza Artificiale\, rispetto alla quale l’Unione Europea è stato il primo ordinamento al mondo a dotarsi di una compiuta disciplina di riferimento con fonte primaria. \nIl convegno\, oltre a mettere a fuoco lo stato dell’arte della normativa applicabile e dei contributi “integrativi” e interpretativi delle Autorità di controllo\, costituirà l’occasione per verificare il grado di conformità della propria organizzazione rispetto al quadro delle prescrizioni vigenti in ambito Data Protection e per valutare la necessità di eventuali azioni correttive o migliorative da intraprendere. \nDestinatari dell’evento  \nIl convegno è rivolto ai Data Protection Officer\, ai Responsabili del Trattamento dei Dati\, ai Privacy Officer\, alle persone autorizzate al trattamento dei dati e ai referenti per la privacy comunque denominati di imprese e pubbliche amministrazioni\, ai Security Officer\, ai Responsabili dei Servizi di Compliance\, Affari Legali\, Affari Istituzionali e Regolamentari\, nonchè a tutti i professionisti che si occupano di TMT\, IP\, ICT\, Privacy e Data Protection. \nObiettivi dell’evento \nL’incontro mira a fornire ai partecipanti un’analisi dettagliata e aggiornata della normativa e della prassi rilevante in ambito data protection\, con approfondimenti specifici su istituti e adempimenti che caratterizzano la materia. Verranno forniti ai partecipanti spunti operativi per migliorare la conformità della propria organizzazione\, anche attraverso l’analisi di casi concreti e problematiche di diffusa percezione. \n\n\n		\n	\nProgramma\n	\n		\n			Prima giornata\nMartedì 5 marzo 2024 \nL’EVOLUZIONE DELLA PROTEZIONE DEI DATI NEI CONTESTI AZIENDALI ALLA LUCE DELLE PIÙ RECENTI NOVITÀ \nL’implementazione di nuove normative diverse dal GDPR\nLa protezione dei dati alla luce del Data Governance Act – DGA e del Data Act: la creazione di un contesto più favorevole alla condivisione dei dati\nLe novità di Digital Service Act (DSA) e Digital Markets Act (DMA) e i relativi impatti per imprese e consumatori\nConseguenze pratiche del “combinato disposto” di GDPR e nuove discipline eurounitarie regolanti l’ecosistema digitale\nProf. Avv. Alessandro Del Ninno\nLUISS Guido Carli di Roma \nLa protezione dei dati nell’era dell’Intelligenza Artificiale: trattamenti da monitorare alla luce del nuovo Regolamento UE\nIl fenomeno dell’Intelligenza Artificiale e le implicazioni sotto il profilo data protection\nLa scelta dell’UE di dotarsi di una propria regolamentazione in materia\nL’ambito di applicazione del Regolamento UE\nLa nozione di sistemi ad alto rischio\nI modelli generativi di Intelligenza Artificiale\nI soggetti incisi dagli obblighi previsti dal Regolamento UE\nLe nuove competenze da promuovere in ambito aziendale\nAvv. Rocco Panetta\nPanetta & Associati \nIl rispetto delle garanzie data protection nell’ambito del whistleblowing (D. Lgs. n. 24/2023)\nLa protezione della riservatezza del segnalante\nLa posizione degli enti pubblici e delle imprese alle cui dipendenze opera il segnalante\, nonché di ANAC\, quali titolari del trattamento di dati personali relativi al ricevimento e alla gestione delle segnalazioni e gli obblighi conseguenti\nL’esercizio dei diritti e delle libertà degli interessati\nTempi e modalità di conservazione delle segnalazioni\nAvv. Giuseppe Vaciago\n42 Law Firm \nIl trasferimento dei dati personali dall’UE verso paesi terzi e organizzazioni internazionali. In particolare\, il caso del trasferimento verso gli USA (decisione di adeguatezza della Commissione UE del 10 luglio 2023)\nI principi generali del GDPR in materia di trasferimenti di dati personali verso paesi terzi e organizzazioni internazionali\nLe decisioni di adeguatezza (art. 45)\nLe clausole contrattuali standard (art. 46\, par. 2\, lett. c e lett. d)\nLe clausole contrattuali standard per il trasferimento internazionale dei dati personali della Commissione UE del 4 giugno 2021\nLe Binding Corporate Rules (art. 47)\nI Codici di condotta e meccanismi di certificazione (art. 46\, par. 2\, lett. e\, lett. f)\nLe deroghe in situazioni specifiche (art. 49). Le Linee Guida dell’EDPB n. 2/2018 sull’applicazione pratica dell’articolo 49 GDPR\nLe Linee Guida dell’EDPB n. 4/2021 e le Raccomandazioni n. 1/2020 e n. 2/2020 sul trasferimento internazionale dei dati personali dopo la sentenza della Corte di Giustizia UE “Schrems II”\nLa posizione del Comitato Europeo per la Protezione dei Dati personali dopo la sentenza Schrems II: le indicazioni pratiche nelle FAQ del 24 luglio 2020 e nei documenti del sotto-comitato dell’EDPB appositamente costituito\nLa rilevanza dell’Ordine esecutivo del 7 ottobre 2022 del Presidente USA per i trasferimenti di dati personali dagli Stati Uniti d’America verso lo Spazio Economico Europeo\nLa decisione di adeguatezza della Commissione UE del 10 luglio 2023 e le FAQ rese disponibili in pari data\nGli impatti per le imprese che trasferiscono i dati in USA: vantaggi e svantaggi\nAvv. Adriano D’Ottavio\nBird & Bird \nLa gestione dei servizi in cloud alla luce delle più recenti novità\, e in particolare del Data Act\nLa applicazione del GDPR ai servizi in cloud e il nuovo Codice di condotta CISPE\nVerifica dei trattamenti di dati affidati in cloud e dei requisiti e ruolo privacy del provider\nCheck su obblighi e garanzie in materia di protezione dati assunte nell’ambito dei contratti di servizi\nCheck su rischi privacy e misure di sicurezza dei dati\nIl diritto alla portabilità dei servizi di cloud alla luce del Data Act e gli adeguamenti richiesti ai fornitori\nLe caratteristiche di un servizio di cloud pienamente compliant rispetto alle varie prescrizioni di vigenti in materia di protezione dei dati personali\nAvv. Giovanni Guerra\nStudio Legale Guerra-Ricchiuto \n  \nSeconda giornata \nMercoledì 6 marzo 2024 \nAPPROFONDIMENTI SU SPECIFICI ASPETTI DELLA DATA PROTECTION \nIl legittimo interesse quale base del trattamento alternativa al consenso\nIl parere WP29 del 2014\, ante GDPR\, sul legittimo interesse del responsabile del trattamento e l’utilità delle indicazioni da esso ricavabili\nCasistica rilevante di situazioni in cui è configurabile un legittimo interesse del titolare del trattamento\nGli obblighi di informativa e trasparenza in caso di sussistenza di un legittimo interesse\nGli elementi imprescindibili nella messa a punto di un’apposita procedura\nProf. Avv. Pierluigi Perri\nUniversità degli Studi di Milano \nIl punto su normativa e indirizzi interpretativi delle Autorità in materia di trattamento di dati biometrici. Le Linee Guida EDPB n. 5/2022 in materia di riconoscimento facciale\nIl Provvedimento Generale del Garante Privacy del 2014\nLa risoluzione del Parlamento UE in materia di sorveglianza biometrica (ottobre 2021)\nLa posizione di EDPB e EDPS sul riconoscimento facciale (giugno 2021)\nLe recenti Linee Guida EDPB in materia di riconoscimento facciale (maggio 2022)\nIl dato biometrico come misura di sicurezza\nAvv. Ugo Ettore Di Stefano\nLexellent \nIl tracciamento e la profilazione on line\nLa cornice giuridica dell’impiego delle varie tecnologie di tracciamento: riferimenti normativi\, giurisprudenziali e orientamenti dell’EDPB\nGli interventi delle Autorità di controllo nazionali: le Linee Guida sui cookies dei Garanti privacy UE tra analogie e differenze\nI contenuti essenziali della policy per la corretta gestione dei cookies e degli altri sistemi di tracciamento\nDott. Riccardo Acciai\nGarante per la Protezione dei Dati Personali \nIl principio di trasparenza e il diritto dell’interessato ad essere informato\nLa nozione di trasparenza nel GDPR\nLe informazioni da fornire all’interessato\nIl principio di trasparenza attuato attraverso strumenti diversi dalla comunicazione linguistica\nLe eccezioni all’obbligo di rendere informazioni\nTrasparenza e limitazioni ai diritti degli interessati\nLe indicazioni di cui alle Linee Guida WP29/EDPB del 25 maggio 2018\nTrasparenza e dark pattern: le Linee Guida EDPB del 15 marzo 2022\nUlteriori Linee Guida EDPB contenenti indicazioni rilevanti in materia di trasparenza\nAvv. Anna Cataleta\nP4i \nL’apparato sanzionatorio relativo alle violazioni data protection e le implicazioni della recente ordinanza della Corte di Cassazione\, Prima Sezione Civile\, del 22 settembre 2023\nDiritto al risarcimento e responsabilità per violazioni civilistiche delle norme sulla protezione dei dati personali\nLa ripartizione e l’imputazione delle responsabilità civilistiche tra titolare del trattamento\, responsabile del trattamento\, rappresentante del titolare nella UE\, sub-responsabili del trattamento e persone autorizzate al trattamento\nLe sanzioni amministrative: criteri di determinazione della sanzione alla luce degli art. 83 e 84 del GDPR\, delle Linee Guida n. 4/2022 EDPB e dell’ordinanza della Corte di Cassazione del settembre 2023\nL’istituto della composizione amichevole e i presupposti del possibile utilizzo\nGli illeciti penali: i reati data protection previsti nel Codice privacy\nL’illecito trattamento di dati ex art. 167 D. Lgs. n. 196/2003\nLa comunicazione o diffusione illecita di dati ex art. 167-bis D. Lgs. n. 196/2003\nL’acquisizione fraudolenta di dati ex art. 167-ter D. Lgs. n. 196/2003\nGli altri delitti data protection (artt. 168-171 D. Lgs. n. 196/2003)\nAvv. Fabio Valerini\nStudio Legale Valerini \n\n\n		\n	\nDocenti\n	\n		\n			Dott. Riccardo Acciai\nDirettore\nDipartimento Libertà di Manifestazione del Pensiero e Cyberbullismo\ne Dipartimento Reti Telematiche e Marketing\nGarante per la Protezione dei Dati Personali \nAvv. Anna Cataleta\nSenior Partner\nP4i \nProf. Avv. Alessandro Del Ninno\nDocente a contratto di Informatica Giuridica\nLUISS Guido Carli di Roma\nPartner\nFIVELEX Studio Legale e Tributario \nAvv. Ugo Ettore Di Stefano\nSenior Partner\nResponsabile Dipartimento Privacy & Corporate Compliance\nLexellent \nAvv. Adriano D’Ottavio\nCounsel\nco-Head of the Italian Privacy and Data Protection Team\nBird & Bird \nAvv. Giovanni Guerra\nPartner\nStudio Legale Guerra-Ricchiuto \nAvv. Rocco Panetta\nManaging Partner\nPanetta & Associati\nIAPP Country Leader Italia \nProf. Avv. Pierluigi Perri\nAssociato di Sicurezza Informatica\,\nPrivacy e Protezione dei Dati Sensibili\nUniversità degli Studi di Milano\nOf Counsel\nChiomenti \nAvv. Giuseppe Vaciago\nPartner\n42 Law Firm \nAvv. Fabio Valerini\nFondatore\nStudio Legale Valerini\nDocente a contratto di Diritto Processuale Civile\nUniversità di Roma Tor Vergata \n\n\n		\n	\nBrochure\n	\n		\n			 Scarica la brochure\n\n		\n	\nIscrizioni e Condizioni\n	\n		\n			Quota di partecipazione \nLa quota di partecipazione in aula virtuale (diretta streaming) include l’invio del materiale didattico in formato elettronico e la possibilità di sottoporre ai relatori quesiti di specifico interesse a mezzo chat. È altresì possibile anticipare domande e richieste di approfondimento inviando una e-mail a info@paradigma.it entro il giorno antecedente l’evento. \nIn caso di videoconferenza con accessi multipli è necessario contattare la Segreteria organizzativa per un preventivo personalizzato. \nModalità di funzionamento della videoconferenza \nE’ possibile accedere all’aula virtuale da qualsiasi luogo\, utilizzando il proprio PC o tablet con una semplice connessione a Internet. La piattaforma informatica utilizzata da Paradigma (Adobe Connect) non necessita di requisiti tecnici particolari. \nNei giorni antecedenti l’evento il partecipante riceverà per posta elettronica le credenziali e le istruzioni di accesso. Il giorno dell’evento sarà sufficiente selezionare il link che troverà nella mail e inserire le credenziali per accedere all’aula virtuale. \nDurante gli interventi\, oltre a vedere e sentire i docenti\, è possibile consultare simultaneamente la documentazione predisposta dal relatore. Ogni utente collegato potrà porre domande sulle tematiche affrontate a mezzo chat\, alle quali il docente risponderà nel corso dell’intervento. \nModalità di iscrizione \nL’iscrizione si perfeziona al momento del ricevimento del modulo di registrazione\, da inviare via e-mail all’indirizzo info@paradigma.it\, integralmente compilato. Il numero dei collegamenti disponibili è limitato e la priorità d’iscrizione è determinata dalla data di ricezione del modulo di registrazione. Si consiglia pertanto di effettuare una preiscrizione telefonica. \nModalità di pagamento \nLa quota di partecipazione deve essere versata all’atto della presentazione della richiesta di iscrizione e\, in ogni caso\, prima dell’effettuazione dell’evento formativo\, tramite bonifico bancario intestato a: \nParadigma Srl – Corso Vittorio Emanuele II\, 68 – 10121 Torino\nc/o Banco BPM Spa\nIBAN IT 14 V 05034 01017 000000002530 \nFormazione finanziata \nLa quota di partecipazione può essere completamente rimborsata tramite voucher promossi dai Fondi Paritetici Interprofessionali. Paradigma offre la completa e gratuita gestione delle spese di progettazione\, monitoraggio e rendicontazione. La possibilità di accedere alla formazione finanziata con partecipazione mediante videoconferenza può variare a seconda dell’Ente erogante. \nAttestato di frequenza \nL’attestato di partecipazione nominativo sarà inviato al termine dell’evento formativo ai partecipanti che si sono regolarmente collegati all’aula virtuale. \nDiritto di recesso e modalità di disdetta \nÈ attribuita ai partecipanti la facoltà di recedere ai sensi dell’art. 1373 c.c. Il recesso dovrà essere comunicato in forma scritta almeno sette giorni prima della data di inizio dell’evento formativo (escluso il sabato e la domenica). Qualora la disdetta pervenga oltre tale termine o si verifichi di fatto con il mancato collegamento alla videoconferenza\, la quota di partecipazione sarà addebitata per intero e sarà inviato al partecipante il materiale didattico. In qualunque momento l’azienda o lo studio potranno comunque sostituire il partecipante\, comunicando il nuovo nominativo alla nostra Segreteria organizzativa. \nVariazioni di programma \nParadigma\, per ragioni eccezionali e imprevedibili\, si riserva di annullare o modificare la data dell’evento formativo\, dandone comunicazione agli interessati entro tre giorni dalla data di inizio prevista. In tali casi le quote di partecipazione pervenute verranno rimborsate\, con esclusione di qualsivoglia onere o obbligo a carico di Paradigma. Paradigma si riserva inoltre\, per ragioni sopravvenute e per cause di forza maggiore\, di modificare l’articolazione del programma e di sostituire i docenti previsti con altri docenti di pari livello professionale. \nPer ulteriori informazioni è possibile contattare la Segreteria organizzativa al numero 011.538686 o all’indirizzo e-mail info@paradigma.it. \n\n\n		\n	\n\n\n	\n		\n			Quota di partecipazione\n	\n		\n			€ 1.100 + Iva una giornata€ 2.050 + Iva due giornate\n\n		\n	\n\n	\n		\n			In caso di videoconferenza con accessi multipli è necessario contattare la Segreteria organizzativa per un preventivo personalizzato. \n\n		\n	\n\n\n		\n	\n\n	\n		\n			\n\n\n\n\n\n\n	\n		\n			Early booking -20%\nInviando il modulo di iscrizione entro il 13 febbraio si avrà diritto a una riduzione del 20% sulla quota di partecipazione.\n \n\n		\n	\n\n\n\n		\n	\n\n	\n		\n			\n\n		\n	\n\n	\n		\n			\n\n		\n	\n\n	\n		\n			\n\n\n\n\n\n\n	\n		\n			Progetto Giovani Eccellenze -50%\nL’adesione all’evento formativo permette di iscrivere una seconda risorsa\, che non abbia compiuto il 30° anno di età e proveniente dalla stessa organizzazione\, con una riduzione del 50% sulla seconda quota di partecipazione. L’agevolazione è calcolata sulla quota ordinaria. \n\n		\n	\n\n\n\n		\n	\n\n	\n		\n			\n\n\n\n\n\n\n	\n		\n			Formazione finanziata\nLa quota di partecipazione all’iniziativa può essere completamente rimborsata tramite voucher promossi dai Fondi Paritetici Interprofessionali. Paradigma offre la completa e gratuita gestione delle spese di progettazione\, monitoraggio e rendiconto. \n\n		\n	\n\n\n\n		\n	\n\n	\n		\n			\n\n\n\n\n\n\n	\n		\n			Mercati elettronici della PA\nParadigma opera sul MePA e sui principali mercati elettronici di soggetti aggregatori e centrali di committenza. \n\n		\n	\n\n\n\n		\n	\n\n	\n		\n			\n	\n\n\n	I campi con (*) sono obbligatori\n	\n		\n		Dati relativi all'evento\n		\n		\n			Partecipazione in aula\n			Partecipazione in videoconferenza\n		\n		\n\n		Dati relativi al richiedente\n		\n		\n		\n		\n		\n		\n		\n		\n\n	\n\n	\n\n		Dati per eventuale partecipante under 30\n		\n		\n		\n\n	\n\n	\n\n		Dati per la fatturazione elettronica\n		\n		\n		\n		\n		\n		\n				\n		\n		\n		  Split Payment:\n          \n            \n              \n              Si \n            No\n          \n        \n		\n		\n		\n		\n	\n\n	\n\n		Per informazioni contattare\n		\n		\n		\n		\n		\n	\n	L'iscrizione all'evento formativo si intende perfezionata al momento del ricevimento\, da parte di Paradigma Srl\, del presente modulo di registrazione compilato in ogni sua parte\, stampato\, firmato e inviato via e-mail all'indirizzo info@paradigma.it. Riceverete via email conferma dell'avvenuta iscrizione. \n\n\n		\n	     Acconsento all'invio di comunicazioni sui servizi Paradigma Srl - Consenso finalizzato\, anche con modalità automatizzate\, all'invio di comunicazioni relative a prodotti e servizi di Paradigma Srl e al fine di ricevere materiale informativo o promozionale.\n	\n	     Acconsento alla personalizzazione delle offerte - Consenso finalizzato\, mediante modalità automatizzate\, a personalizzare i servizi forniti e meglio indirizzare le proposte promozionali grazie ad attività di profilazione.\n	\n	Inviando i dati autorizzi Paradigma Srl a utilizzare i tuoi dati personali per evadere la richiesta di partecipazione all’evento formativo e svolgere le attività a ciò connesse. I dati potranno essere trattati\, per conto di Paradigma Srl\, da dipendenti e collaboratori incaricati di svolgere specifici servizi necessari all’esecuzione delle tue richieste. Il conferimento dei tuoi dati\, pur essendo facoltativo\, si rende necessario per l’esecuzione del servizio richiesto.	\n\n\n\n\n		\n\n\n\n\n\n		\n	\n[/vc_column][/vc_row]
URL:https://paradigma.it/iniziativa/data-protection-compliance-3/
CATEGORIES:Privacy e tutela dei Dati Personali
ORGANIZER;CN="Angela%20Siniscalchi":MAILTO:asiniscalchi@paradigma.it
END:VEVENT
END:VCALENDAR