BEGIN:VCALENDAR
VERSION:2.0
PRODID:-//Paradigma srl - ECPv5.2.1//NONSGML v1.0//EN
CALSCALE:GREGORIAN
METHOD:PUBLISH
X-WR-CALNAME:Paradigma srl
X-ORIGINAL-URL:https://paradigma.it
X-WR-CALDESC:Eventi per Paradigma srl
BEGIN:VTIMEZONE
TZID:Europe/Rome
BEGIN:DAYLIGHT
TZOFFSETFROM:+0100
TZOFFSETTO:+0200
TZNAME:CEST
DTSTART:20230326T010000
END:DAYLIGHT
BEGIN:STANDARD
TZOFFSETFROM:+0200
TZOFFSETTO:+0100
TZNAME:CET
DTSTART:20231029T010000
END:STANDARD
END:VTIMEZONE
BEGIN:VEVENT
DTSTART;TZID=Europe/Rome:20230228T093000
DTEND;TZID=Europe/Rome:20230228T180000
DTSTAMP:20260421T205313
CREATED:20230207T152315Z
LAST-MODIFIED:20230224T102105Z
UID:17301-1677576600-1677607200@paradigma.it
SUMMARY:Corporate Governance
DESCRIPTION:[vc_row][vc_column]\n	\n		\n			\n		\n	\n\n	\n		\n			\nIl rapporto sull’applicazione del Codice e le raccomandazioni per il 2023\n\nI docenti\, nel corso dell’evento formativo\, risponderanno alle domande e alle richieste di chiarimenti formulate dai partecipanti. Eventuali quesiti potranno essere anticipati inviando una email all’indirizzo asorba@paradigma.it \n \n\n		\n	\n\n	\n		\n			Evento in videoconferenza \n\n		\n	\n\n	\n		\n			28 febbraio 2023 \n\n		\n	\n\n	\n		\n			 \n\n		\n	\n\n	\n		\n			\n\n		\n	\nPresentazioneProgrammaDocentiBrochureIscrizioni e CondizioniPresentazione\n	\n		\n			Contenuti dell’evento \nNel corso della giornata di studi saranno analizzati i contenuti del Rapporto sull’applicazione del Codice di Corporate Governance e saranno presentate le corrette modalità di adeguamento alle raccomandazioni del Comitato italiano per la Corporate Governance per il 2023. \nIn particolare\, dopo una disamina dei risultati dell’attività di monitoraggio sull’applicazione del Codice\, saranno esaminate singolarmente tutte le tematiche che il Comitato ha portato all’attenzione per il 2023 e\, in particolare: \nil rafforzamento del dialogo con gli azionisti e gli altri stakeholder \nle raccomandazioni relative alla composizione e al funzionamento del CdA\nI criteri per la valutazione della significatività della relazione che può influenzare l’indipendenza dell’amministratore\nLe raccomandazioni relative alle politiche di remunerazione degli amministratori e del top management \nDestinatari dell’evento \nL’evento formativo è rivolto ai Responsabili della Segreteria Societaria\, ai Responsabili degli Affari Legali e Societari\, ai General Counsel\, ai componenti dei Board\, ai Sindaci\, ai componenti dei Comitati di tutte le società quotate\, nonchè ai professionisti esterni che operano nel settore societario e supportano le aziende nelle decisioni strategiche. \nObiettivi dell’evento \nObiettivo dell’incontro è fornire ai partecipanti un quadro dettagliato e completo dei contenuti del Rapporto sull’applicazione del Codice di Corporate Governance\, presentando le corrette modalità di adeguamento alle raccomandazioni del Comitato italiano per la Corporate Governance per il 2023. \n\n\n		\n	\nProgramma\n	\n		\n			Martedì 28 febbraio 2023 \nI risultati dell’attività di monitoraggio\, le principali criticità riscontrate e l’evoluzione delle prassi di governance\nRagioni e metodologia del monitoraggio\nIl graduale recepimento del principio del successo sostenibile\nLe raccomandazioni del Comitato per il 2023\nAvv. Alessandro Chieffi\nKoiné Società tra Avvocati\nBorsa Italiana \nIl rafforzamento del dialogo con gli azionisti e gli altri stakeholder rilevanti per la società\nL’implementazione delle politiche di dialogo con gli azionisti e con gli altri stakeholder\nL’applicazione del principio di proporzionalità\nLe tempistiche dell’engagement\nLe opportune integrazioni alla Relazione di Corporate Governance\nDott. Andrea Di Segni\nMorrow Sodali\nDott. Cesare Schiavon\nMorrow Sodali \nLe raccomandazioni relative alla composizione e al funzionamento del CdA\nL’attribuzione di deleghe gestionali al Presidente: integrazioni alla Relazione di Corporate Governance\, business judgment rule\, rischi e responsabilità\nLa tempestività e l’adeguatezza dell’informativa pre-consiliare: rispetto del termine di preavviso ed esenzioni al termine “per ragioni di riservatezza”\nLa partecipazione dei manager alle riunioni del Consiglio: definizione delle modalità di accesso\, ruolo del Presidente e le informazioni sulla partecipazione dei manager\nGli orientamenti sulla composizione ottimale del Consiglio\nAvv. Bruno Cova\nDelfino e Associati Willkie Farr & Gallagher \nLe opportunità connesse alla partecipazione dei manager alle riunioni del Consiglio\nLe relazioni tra amministratori e manager nello svolgimento dei lavori consiliari\nIl ruolo dei manager per il corretto funzionamento degli organi di governance e per la formazione della volontà consiliare: opportunità ed elementi di attenzione\nDifferenze tra manager delle diverse funzioni di business e di controllo\nLa gestione e l’alimentazione dei flussi informativi\nProf. Dott. Marco Giorgino\nPolitecnico di Milano \nI criteri per la valutazione della significatività della relazione che può influenzare l’indipendenza dell’amministratore\nL’indipendenza dei consiglieri: novità del Codice\, risultanze del Rapporto annuale e raccomandazioni del Comitato\nLa determinazione di parametri quantitativi e i criteri qualitativi per valutare la significatività delle relazioni commerciali\, finanziarie o professionali e delle eventuali remunerazioni aggiuntive\nLa previsione di parametri quantitativi per la carica e per la partecipazione ai Comitati\nProf. Avv. Mario Stella Richter\nUniversità di Roma Tor Vergata \nLe raccomandazioni relative alle politiche di remunerazione degli amministratori e del top management\nLa trasparenza delle politiche di remunerazione sul peso delle componenti variabili\nGli orizzonti di lungo periodo nelle politiche di remunerazione\nI parametri ESG per le remunerazioni degli amministratori\nProf. Massimo Belcredi\nUniversità Cattolica del Sacro Cuore di Milano\nProf. Stefano Bozzi\nUniversità Cattolica del Sacro Cuore di Roma\n \n\n\n		\n	\nDocenti\n	\n		\n			Prof. Massimo Belcredi\nOrdinario di Finanza Aziendale\nDirettore\nCentro di Ricerche Finanziarie sulla Corporate Governance (FIN-GOV)\nUniversità Cattolica del Sacro Cuore di Milano \nProf. Stefano Bozzi\nOrdinario di Finanza Aziendale\nUniversità Cattolica del Sacro Cuore di Roma \nAvv. Alessandro Chieffi\nPartner\nKoiné Società tra Avvocati\nSegretario e Membro della Segreteria Tecnica\nComitato per la Corporate Governance\nBorsa Italiana \nAvv. Bruno Cova\nPartner\nDelfino e Associati Willkie Farr & Gallagher\nMembro Gruppo Esperti\nComitato per la Corporate Governance\nBorsa Italiana \nDott. Andrea Di Segni\nManaging Director\nMorrow Sodali \nProf. Dott. Marco Giorgino\nOrdinario di Istituzioni e Mercati Finanziari\nPolitecnico di Milano\nPresidente Comitato Rischi e Sostenibilità\nBanca Monte dei Paschi di Siena\nPresidente Comitato per le Operazioni con Parti Correlate\nTerna \nDott. Cesare Schiavon\nManager\nMorrow Sodali \nProf. Avv. Mario Stella Richter\nOrdinario di Diritto Commerciale\nUniversità di Roma Tor Vergata\nStudio Stella Richter \n\n\n		\n	\nBrochure\n	\n		\n			 Scarica la brochure\n\n		\n	\nIscrizioni e Condizioni\n	\n		\n			Quota di partecipazione \nLa quota di partecipazione in aula virtuale (diretta streaming) include l’invio del materiale didattico in formato elettronico e la possibilità di sottoporre ai relatori quesiti di specifico interesse a mezzo chat. È altresì possibile anticipare domande e richieste di approfondimento inviando una e-mail a info@paradigma.it entro il giorno antecedente l’evento. \nIn caso di videoconferenza con accessi multipli è necessario contattare la Segreteria organizzativa per un preventivo personalizzato. \nModalità di funzionamento della videoconferenza \nE’ possibile accedere all’aula virtuale da qualsiasi luogo\, utilizzando il proprio PC o tablet con una semplice connessione a Internet. La piattaforma informatica utilizzata da Paradigma (Adobe Connect) non necessita di requisiti tecnici particolari. \nNei giorni antecedenti l’evento il partecipante riceverà per posta elettronica le credenziali e le istruzioni di accesso. Il giorno dell’evento sarà sufficiente selezionare il link che troverà nella mail e inserire le credenziali per accedere all’aula virtuale. \nDurante gli interventi\, oltre a vedere e sentire i docenti\, è possibile consultare simultaneamente la documentazione predisposta dal relatore. Ogni utente collegato potrà porre domande sulle tematiche affrontate a mezzo chat\, alle quali il docente risponderà nel corso dell’intervento. \nModalità di iscrizione \nL’iscrizione si perfeziona al momento del ricevimento del modulo di registrazione\, da inviare via e-mail all’indirizzo info@paradigma.it\, integralmente compilato. Il numero dei collegamenti disponibili è limitato e la priorità d’iscrizione è determinata dalla data di ricezione del modulo di registrazione. Si consiglia pertanto di effettuare una preiscrizione telefonica. \nModalità di pagamento \nLa quota di partecipazione deve essere versata all’atto della presentazione della richiesta di iscrizione e\, in ogni caso\, prima dell’effettuazione dell’evento formativo\, tramite bonifico bancario intestato a: \nParadigma Srl – Corso Vittorio Emanuele II\, 68 – 10121 Torino\nc/o Banco BPM Spa\nIBAN IT 14 V 05034 01017 000000002530 \nFormazione finanziata \nLa quota di partecipazione può essere completamente rimborsata tramite voucher promossi dai Fondi Paritetici Interprofessionali. Paradigma offre la completa e gratuita gestione delle spese di progettazione\, monitoraggio e rendicontazione. La possibilità di accedere alla formazione finanziata con partecipazione mediante videoconferenza può variare a seconda dell’Ente erogante. \nAttestato di frequenza \nL’attestato di partecipazione nominativo sarà inviato al termine dell’evento formativo ai partecipanti che si sono regolarmente collegati all’aula virtuale. \nDiritto di recesso e modalità di disdetta \nÈ attribuita ai partecipanti la facoltà di recedere ai sensi dell’art. 1373 c.c. Il recesso dovrà essere comunicato in forma scritta almeno sette giorni prima della data di inizio dell’evento formativo (escluso il sabato e la domenica). Qualora la disdetta pervenga oltre tale termine o si verifichi di fatto con il mancato collegamento alla videoconferenza\, la quota di partecipazione sarà addebitata per intero e sarà inviato al partecipante il materiale didattico. In qualunque momento l’azienda o lo studio potranno comunque sostituire il partecipante\, comunicando il nuovo nominativo alla nostra Segreteria organizzativa. \nVariazioni di programma \nParadigma\, per ragioni eccezionali e imprevedibili\, si riserva di annullare o modificare la data dell’evento formativo\, dandone comunicazione agli interessati entro tre giorni dalla data di inizio prevista. In tali casi le quote di partecipazione pervenute verranno rimborsate\, con esclusione di qualsivoglia onere o obbligo a carico di Paradigma. Paradigma si riserva inoltre\, per ragioni sopravvenute e per cause di forza maggiore\, di modificare l’articolazione del programma e di sostituire i docenti previsti con altri docenti di pari livello professionale. \nPer ulteriori informazioni è possibile contattare la Segreteria organizzativa al numero 011.538686 o all’indirizzo e-mail info@paradigma.it. \n\n\n		\n	\n\n\n	\n		\n			Quota di partecipazione\n	\n		\n			€ 1.100 + Iva\n\n		\n	\n\n	\n		\n			In caso di videoconferenza con accessi multipli è necessario contattare la Segreteria organizzativa per un preventivo personalizzato. \n\n		\n	\n\n\n		\n	\n\n	\n		\n			\n\n\n\n\n\n\n	\n		\n			Early booking -20%\nInviando il modulo di iscrizione entro il 14 febbraio si avrà diritto a una riduzione del 20% sulla quota di partecipazione. \n\n		\n	\n\n\n\n		\n	\n\n	\n		\n			\n\n		\n	\n\n	\n		\n			\n\n		\n	\n\n	\n		\n			\n\n\n\n\n\n\n	\n		\n			Progetto Giovani Eccellenze -50%\nL’adesione all’evento formativo permette di iscrivere una seconda risorsa\, che non abbia compiuto il 30° anno di età e proveniente dalla stessa organizzazione\, con una riduzione del 50% sulla seconda quota di partecipazione. L’agevolazione è calcolata sulla quota ordinaria. \n\n		\n	\n\n\n\n		\n	\n\n	\n		\n			\n\n\n\n\n\n\n	\n		\n			Formazione finanziata\nLa quota di partecipazione all’iniziativa può essere completamente rimborsata tramite voucher promossi dai Fondi Paritetici Interprofessionali. Paradigma offre la completa e gratuita gestione delle spese di progettazione\, monitoraggio e rendiconto. \n\n		\n	\n\n\n\n		\n	\n\n	\n		\n			\n\n\n\n\n\n\n	\n		\n			Mercati elettronici della PA\nParadigma opera sul MePA e sui principali mercati elettronici di soggetti aggregatori e centrali di committenza. \n\n		\n	\n\n\n\n		\n	\n\n	\n		\n			\n	\n\n\n	I campi con (*) sono obbligatori\n	\n		\n		Dati relativi all'evento\n		\n		\n			Partecipazione in aula\n			Partecipazione in videoconferenza\n		\n		\n\n		Dati relativi al richiedente\n		\n		\n		\n		\n		\n		\n		\n		\n\n	\n\n	\n\n		Dati per eventuale partecipante under 30\n		\n		\n		\n\n	\n\n	\n\n		Dati per la fatturazione elettronica\n		\n		\n		\n		\n		\n		\n				\n		\n		\n		  Split Payment:\n          \n            \n              \n              Si \n            No\n          \n        \n		\n		\n		\n		\n	\n\n	\n\n		Per informazioni contattare\n		\n		\n		\n		\n		\n	\n	L'iscrizione all'evento formativo si intende perfezionata al momento del ricevimento\, da parte di Paradigma Srl\, del presente modulo di registrazione compilato in ogni sua parte\, stampato\, firmato e inviato via e-mail all'indirizzo info@paradigma.it. Riceverete via email conferma dell'avvenuta iscrizione. \n\n\n		\n	     Acconsento all'invio di comunicazioni sui servizi Paradigma Srl - Consenso finalizzato\, anche con modalità automatizzate\, all'invio di comunicazioni relative a prodotti e servizi di Paradigma Srl e al fine di ricevere materiale informativo o promozionale.\n	\n	     Acconsento alla personalizzazione delle offerte - Consenso finalizzato\, mediante modalità automatizzate\, a personalizzare i servizi forniti e meglio indirizzare le proposte promozionali grazie ad attività di profilazione.\n	\n	Inviando i dati autorizzi Paradigma Srl a utilizzare i tuoi dati personali per evadere la richiesta di partecipazione all’evento formativo e svolgere le attività a ciò connesse. I dati potranno essere trattati\, per conto di Paradigma Srl\, da dipendenti e collaboratori incaricati di svolgere specifici servizi necessari all’esecuzione delle tue richieste. Il conferimento dei tuoi dati\, pur essendo facoltativo\, si rende necessario per l’esecuzione del servizio richiesto.	\n\n\n\n\n		\n\n\n\n\n\n		\n	\n[/vc_column][/vc_row]
URL:https://paradigma.it/iniziativa/corporate-governance/
CATEGORIES:Governance e Diritto Societario
ORGANIZER;CN="Veronica%20Spiez":MAILTO:vspiez@paradigma.it
END:VEVENT
END:VCALENDAR