BEGIN:VCALENDAR
VERSION:2.0
PRODID:-//Paradigma srl - ECPv5.2.1//NONSGML v1.0//EN
CALSCALE:GREGORIAN
METHOD:PUBLISH
X-WR-CALNAME:Paradigma srl
X-ORIGINAL-URL:https://paradigma.it
X-WR-CALDESC:Eventi per Paradigma srl
BEGIN:VTIMEZONE
TZID:Europe/Rome
BEGIN:DAYLIGHT
TZOFFSETFROM:+0100
TZOFFSETTO:+0200
TZNAME:CEST
DTSTART:20240331T010000
END:DAYLIGHT
BEGIN:STANDARD
TZOFFSETFROM:+0200
TZOFFSETTO:+0100
TZNAME:CET
DTSTART:20241027T010000
END:STANDARD
END:VTIMEZONE
BEGIN:VEVENT
DTSTART;TZID=Europe/Rome:20241212T093000
DTEND;TZID=Europe/Rome:20241212T170000
DTSTAMP:20260419T191500
CREATED:20241104T165703Z
LAST-MODIFIED:20241210T133615Z
UID:21747-1733995800-1734022800@paradigma.it
SUMMARY:Collegio Consultivo Tecnico  e altre ADR  nell’esecuzione  dei contratti pubblici
DESCRIPTION:[vc_row][vc_column]\n	\n		\n			\n		\n	\n\n	\n		\n			\nRegime vigente e modifiche previste dal Decreto correttivo\nAnalisi degli istituti\nCasistica operativa\n\nIl docente\, nel corso dell’evento formativo\, risponderà alle domande e alle richieste di chiarimenti formulate dai partecipanti. Eventuali quesiti potranno essere anticipati inviando una email all’indirizzo info@paradigma.it \n \n\n		\n	\n\n	\n		\n			Evento in videoconferenza \n\n		\n	\n\n	\n		\n			12 dicembre 2024 \n\n		\n	\n\n	\n		\n			 \n\n		\n	\n\n	\n		\n			\n\n		\n	\nPresentazioneProgrammaDocentiBrochureIscrizioni e CondizioniPresentazione\n	\n		\n			Contenuti dell’evento \nLa fase esecutiva dei contratti pubblici è\, non meno di quella di selezione dell’affidatario\, densa di problematiche che possono condizionare l’effettivo soddisfacimento\, nei tempi e nelle modalità previste\, dell’interesse pubblico sotteso alla scelta di approvvigionamento. \nNon deve pertanto stupire che il Legislatore\, dal D.L. “Sblocca cantieri” del 2019 (che modificava il previgente Codice) in poi\, abbia mostrato particolare attenzione e determinazione nel cercare di risolvere le criticità proprie di tale fase. In questa prospettiva\, è stato dapprima reintrodotto e poi\, via via\, potenziato il Collegio Consultivo Tecnico (CCT)\, reso obbligatorio\, nel nuovo Codice dei contratti pubblici\, anche per i servizi e le forniture. \nOltre a tale rimedio generale di risoluzione dei possibili contenziosi tra committente e appaltatore\, obbligatoriamente previsto per gli appalti sopra soglia\, con funzioni consultive e di mediazione e conciliazione\, il Legislatore sta ora per introdurre\, attraverso il Decreto Legislativo correttivo del Codice dei contratti pubblici\, un nuovo\, importante strumento di “governo” del contratto di appalto\, che è l’accordo di collaborazione\, generante un vincolo plurilaterale (obbligando dunque anche altri soggetti\, oltre al committente e all’appaltatore) finalizzato alla gestione di tutti gli aspetti della fase di esecuzione in funzione del principio del risultato codificato dal Codice del 2023\, nonché degli elementari principi di buona fede e correttezza caratterizzanti tutti i contratti\, anche di diritto comune. \nDestinatari dell’evento \nL’evento formativo è rivolto ai Responsabili Gare e agli Uffici Legali\, Compliance e Acquisti degli operatori economici; a tutte le stazioni appaltanti e in particolare ai loro Uffici Gare\, Appalti e Approvvigionamenti\, nonché ai loro Uffici Tecnici; a tutti i professionisti e consulenti che operano nell’ambito delle procedure a evidenza pubblica e a quanti\, più in generale\, abbisognano di un approfondimento mirato sulle tematiche oggetto del convegno. \nObiettivi dell’evento \nObiettivo dell’incontro è fornire agli operatori economici e alle stazioni appaltanti un quadro il più possibile esaustivo dell’operatività del Collegio Consultivo Tecnico e degli altri strumenti di risoluzione delle controversie attinenti alla fase esecutiva dell’appalto\, dedicando adeguata attenzione a tutti i profili di possibile incertezza applicativa\, e fornendo una prima analisi delle principali novità in corso di introduzione ad opera del Decreto correttivo\, in primis l’accordo di collaborazione. \n\n\n		\n	\nProgramma\n	\n		\n			Giovedì 12 dicembre 2024 \nLa più significativa innovazione prevista dallo schema di Decreto correttivo con riferimento alla fase dell’esecuzione: l’accordo di collaborazione\nLe finalità della nuova fattispecie di accordo prevista dal futuro art. 82-bis\, comma 3\, del Codice\nParti\, struttura\, contenuto dell’accordo di collaborazione\nL’accordo di collaborazione e la risoluzione alternativa delle controversie della fase esecutiva\nÈ già possibile introdurre l’accordo di collaborazione nelle procedure di affidamento di prossima indizione\, senza attendere l’entrata in vigore del Decreto correttivo? \nIl CCT nel quadro delle ADR sull’esecuzione dell’appalto\nIl CCT come tipologia di ADR finalisticamente orientata ad agevolare la realizzazione dell’opera (o l’espletamento del servizio o della fornitura) e il suo rapporto con il principio del risultato\nI suoi elementi di atipicità\nIl confronto con il modello del Dispute Board dei contratti d’appalto internazionali\nContratti per i quali l’organismo è obbligatorio\nRapporti tra CCT ante operam e in fase di esecuzione\nLa scelta dei componenti e del Presidente (e la titolarità del relativo potere)\nI requisiti soggettivi\nLe incompatibilità\nLa durata nella carica\nInottemperanza dei termini di costituzione \nInsediamento\, funzioni\, competenze del CCT\nLa funzione consultiva: i pareri del CCT\nLa natura di lodo contrattuale delle decisioni del Collegio in determinati ambiti\nCondizioni affinchè il CCT possa operare come collegio arbitrale ai sensi e per gli effetti dell’art. 808-ter CPC\nDocumenti da fornire al CCT (e poteri sostitutivi)\nTempi per le determinazioni del CCT\nCTT e soggetti dell’esecuzione contrattuale: rapporti e cooperazione\nI pareri obbligatori non vincolanti del CCT e le competenze decisionali di DL e RUP in materia di sospensione e della stazione appaltante in materia di risoluzione del contratto\nIn quali casi le determinazioni del CCT assumono carattere dispositivo\nLe determinazioni del CCT facoltativo\nI compensi: disciplina vigente e modifiche previste dal decreto correttivo \nCCT\, accordo bonario\, transazione: pro e contro di ciascuna modalità di risoluzione delle controversie \n  \nPres. Claudio Contessa\nConsiglio di Stato \n\n\n		\n	\nDocenti\n	\n		\n			Pres. Claudio Contessa\nPresidente\nVII Sez. Giurisdizionale\nConsiglio di Stato \n\n\n		\n	\nBrochure\n	\n		\n			 Scarica la brochure\n\n		\n	\nIscrizioni e Condizioni\n	\n		\n			Quota di partecipazione \nLa quota di partecipazione in aula virtuale (diretta streaming) include la fruizione in diretta delle docenze\, nonché l’invio\, in formato elettronico\, del materiale didattico che i relatori riterranno di mettere a disposizione. È inoltre prevista la possibilità di presentare in diretta domande e quesiti di specifico interesse a mezzo chat\, nonché di sottoporli in via preventiva\, inviando una email a info@paradigma.it entro il giorno antecedente l’evento. \nIn caso di videoconferenza con accessi multipli è necessario contattare la Segreteria organizzativa per un preventivo personalizzato. \nModalità di funzionamento della videoconferenza \nE’ possibile accedere all’aula virtuale da qualsiasi luogo\, utilizzando il proprio PC o tablet con una semplice connessione a Internet. La piattaforma informatica utilizzata da Paradigma (Adobe Connect) non necessita di requisiti tecnici particolari. \nNei giorni antecedenti l’evento il partecipante riceverà per posta elettronica le credenziali e le istruzioni di accesso. Il giorno dell’evento sarà sufficiente selezionare il link che troverà nella mail e inserire le credenziali per accedere all’aula virtuale. \nDurante gli interventi\, oltre a vedere e sentire i docenti\, è possibile consultare simultaneamente la documentazione predisposta dal relatore. Ogni utente collegato potrà porre domande sulle tematiche affrontate a mezzo chat\, alle quali il docente risponderà nel corso dell’intervento. \nModalità di iscrizione \nL’iscrizione si perfeziona al momento del ricevimento del modulo di registrazione\, da inviare via e-mail all’indirizzo info@paradigma.it\, integralmente compilato. Il numero dei collegamenti disponibili è limitato e la priorità d’iscrizione è determinata dalla data di ricezione del modulo di registrazione. Si consiglia pertanto di effettuare una preiscrizione telefonica. \nModalità di pagamento \nLa quota di partecipazione deve essere versata all’atto della presentazione della richiesta di iscrizione e\, in ogni caso\, prima dell’effettuazione dell’evento formativo\, tramite bonifico bancario intestato a: \nParadigma Srl – Corso Vittorio Emanuele II\, 68 – 10121 Torino\nc/o Banco BPM Spa\nIBAN IT 14 V 05034 01017 000000002530 \nFormazione finanziata \nLa quota di partecipazione può essere completamente rimborsata tramite voucher promossi dai Fondi Paritetici Interprofessionali. Paradigma offre la completa e gratuita gestione delle spese di progettazione\, monitoraggio e rendicontazione. La possibilità di accedere alla formazione finanziata con partecipazione mediante videoconferenza può variare a seconda dell’Ente erogante. \nAttestato di frequenza \nL’attestato di partecipazione nominativo sarà inviato al termine dell’evento formativo ai partecipanti che si sono regolarmente collegati all’aula virtuale. \nDiritto di recesso e modalità di disdetta \nÈ attribuita ai partecipanti la facoltà di recedere ai sensi dell’art. 1373 c.c. Il recesso dovrà essere comunicato in forma scritta almeno sette giorni prima della data di inizio dell’evento formativo (escluso il sabato e la domenica). Qualora la disdetta pervenga oltre tale termine o si verifichi di fatto con il mancato collegamento alla videoconferenza\, la quota di partecipazione sarà addebitata per intero e sarà inviato al partecipante il materiale didattico. In qualunque momento l’azienda o lo studio potranno comunque sostituire il partecipante\, comunicando il nuovo nominativo alla nostra Segreteria organizzativa. \nVariazioni di programma \nParadigma\, per ragioni eccezionali e imprevedibili\, si riserva di annullare o modificare la data dell’evento formativo\, dandone comunicazione agli interessati entro tre giorni dalla data di inizio prevista. In tali casi le quote di partecipazione pervenute verranno rimborsate\, con esclusione di qualsivoglia onere o obbligo a carico di Paradigma. Paradigma si riserva inoltre\, per ragioni sopravvenute e per cause di forza maggiore\, di modificare l’articolazione del programma e di sostituire i docenti previsti con altri docenti di pari livello professionale. \nPer ulteriori informazioni è possibile contattare la Segreteria organizzativa al numero 011.538686 o all’indirizzo e-mail info@paradigma.it. \n\n\n		\n	\n\n\n	\n		\n			Quota di partecipazione\n	\n		\n			€ 1.100 + Iva\n\n		\n	\n\n	\n		\n			In caso di videoconferenza con accessi multipli è necessario contattare la Segreteria organizzativa per un preventivo personalizzato. \n\n		\n	\n\n\n		\n	\n\n	\n		\n			\n\n\n\n\n\n\n	\n		\n			Early booking -20%\nInviando il modulo di iscrizione entro il 21 novembre si avrà diritto a una riduzione del 20% sulla quota di partecipazione. \n\n		\n	\n\n\n\n		\n	\n\n	\n		\n			\n\n		\n	\n\n	\n		\n			\n\n		\n	\n\n	\n		\n			\n\n\n\n\n\n\n	\n		\n			Progetto Giovani Eccellenze -50%\nL’adesione all’evento formativo permette di iscrivere una seconda risorsa\, che non abbia compiuto il 30° anno di età e proveniente dalla stessa organizzazione\, con una riduzione del 50% sulla seconda quota di partecipazione. L’agevolazione è calcolata sulla quota ordinaria. \n\n		\n	\n\n\n\n		\n	\n\n	\n		\n			\n\n\n\n\n\n\n	\n		\n			Formazione finanziata\nLa quota di partecipazione all’iniziativa può essere completamente rimborsata tramite voucher promossi dai Fondi Paritetici Interprofessionali. Paradigma offre la completa e gratuita gestione delle spese di progettazione\, monitoraggio e rendiconto. \n\n		\n	\n\n\n\n		\n	\n\n	\n		\n			\n\n\n\n\n\n\n	\n		\n			Mercati elettronici della PA\nParadigma opera sul MePA e sui principali mercati elettronici di soggetti aggregatori e centrali di committenza. \n\n		\n	\n\n\n\n		\n	\n\n	\n		\n			\n	\n\n\n	I campi con (*) sono obbligatori\n	\n		\n		Dati relativi all'evento\n		\n		\n			Partecipazione in aula\n			Partecipazione in videoconferenza\n		\n		\n\n		Dati relativi al richiedente\n		\n		\n		\n		\n		\n		\n		\n		\n\n	\n\n	\n\n		Dati per eventuale partecipante under 30\n		\n		\n		\n\n	\n\n	\n\n		Dati per la fatturazione elettronica\n		\n		\n		\n		\n		\n		\n				\n		\n		\n		  Split Payment:\n          \n            \n              \n              Si \n            No\n          \n        \n		\n		\n		\n		\n	\n\n	\n\n		Per informazioni contattare\n		\n		\n		\n		\n		\n	\n	L'iscrizione all'evento formativo si intende perfezionata al momento del ricevimento\, da parte di Paradigma Srl\, del presente modulo di registrazione compilato in ogni sua parte\, stampato\, firmato e inviato via e-mail all'indirizzo info@paradigma.it. Riceverete via email conferma dell'avvenuta iscrizione. \n\n\n		\n	     Acconsento all'invio di comunicazioni sui servizi Paradigma Srl - Consenso finalizzato\, anche con modalità automatizzate\, all'invio di comunicazioni relative a prodotti e servizi di Paradigma Srl e al fine di ricevere materiale informativo o promozionale.\n	\n	     Acconsento alla personalizzazione delle offerte - Consenso finalizzato\, mediante modalità automatizzate\, a personalizzare i servizi forniti e meglio indirizzare le proposte promozionali grazie ad attività di profilazione.\n	\n	Inviando i dati autorizzi Paradigma Srl a utilizzare i tuoi dati personali per evadere la richiesta di partecipazione all’evento formativo e svolgere le attività a ciò connesse. I dati potranno essere trattati\, per conto di Paradigma Srl\, da dipendenti e collaboratori incaricati di svolgere specifici servizi necessari all’esecuzione delle tue richieste. Il conferimento dei tuoi dati\, pur essendo facoltativo\, si rende necessario per l’esecuzione del servizio richiesto.	\n\n\n\n\n		\n\n\n\n\n\n		\n	\n[/vc_column][/vc_row]
URL:https://paradigma.it/iniziativa/collegio-consultivo-tecnico-e-altre-adr-nellesecuzione-dei-contratti-pubblici/
CATEGORIES:Gare e Appalti
ORGANIZER;CN="Veronica%20Spiez":MAILTO:vspiez@paradigma.it
END:VEVENT
END:VCALENDAR