BEGIN:VCALENDAR
VERSION:2.0
PRODID:-//Paradigma srl - ECPv5.2.1//NONSGML v1.0//EN
CALSCALE:GREGORIAN
METHOD:PUBLISH
X-WR-CALNAME:Paradigma srl
X-ORIGINAL-URL:https://paradigma.it
X-WR-CALDESC:Eventi per Paradigma srl
BEGIN:VTIMEZONE
TZID:Europe/Rome
BEGIN:DAYLIGHT
TZOFFSETFROM:+0100
TZOFFSETTO:+0200
TZNAME:CEST
DTSTART:20250330T010000
END:DAYLIGHT
BEGIN:STANDARD
TZOFFSETFROM:+0200
TZOFFSETTO:+0100
TZNAME:CET
DTSTART:20251026T010000
END:STANDARD
END:VTIMEZONE
BEGIN:VEVENT
DTSTART;TZID=Europe/Rome:20250409T093000
DTEND;TZID=Europe/Rome:20250409T163000
DTSTAMP:20260421T153340
CREATED:20250225T163456Z
LAST-MODIFIED:20250407T103914Z
UID:22640-1744191000-1744216200@paradigma.it
SUMMARY:Clausole sociali  e altre disposizioni  a tutela del lavoro  dipendente e autonomo  nei contratti pubblici
DESCRIPTION:[vc_row][vc_column]\n	\n		\n			\n		\n	\n\n	\n		\n			\nLa nuova formulazione dell’obbligo di prevedere clausole sociali\nIl CCNL di riferimento nel bando di gara e il principio di equivalenza\nL’ammissibilità dei ribassi sul costo della manodopera\nL’equo compenso (e l’equo ribasso) per gli incarichi professionali\n\nI docenti\, nel corso dell’evento formativo\, risponderanno alle domande e alle richieste di chiarimenti formulate dai partecipanti. Eventuali quesiti potranno essere anticipati inviando una email all’indirizzo info@paradigma.it \n \n\n		\n	\n\n	\n		\n			Evento in videoconferenza \n\n		\n	\n\n	\n		\n			9 aprile 2025 \n\n		\n	\n\n	\n		\n			 \n\n		\n	\n\n	\n		\n			\n\n		\n	\nPresentazioneProgrammaDocentiBrochureIscrizioni e CondizioniPresentazione\n	\n		\n			Contenuti dell’evento \nNel corso della giornata di studio sarà offerta un’approfondita trattazione di talune questioni di grande attualità nell’ambito della contrattualistica pubblica\, accomunate dalla caratteristica di essere tutte rilevanti sotto il profilo delle ricadute sociali degli affidamenti. \nPrima tra queste\, l’applicazione delle clausole sociali\, notevolmente innovate dal Codice dei contratti pubblici del 2023 (D. Lgs. n. 36/2023) rispetto alla configurazione che ne veniva data nel previgente Codice\, il quale ne prevedeva l’obbligatorietà per i soli appalti ad alta intensità di manodopera\, con un regime di facoltatività per gli altri contratti e l’esclusione per gli affidamenti di servizi di natura intellettuale (confermata\, quest’ultima\, dal nuovo testo). Il Decreto correttivo (D. Lgs. n. 209/2024) del dicembre scorso ha riscritto il primo comma dell’art. 57 del Codice\, sanando anche taluni difetti di coordinamento con l’art. 61. \nUlteriore tema di grande problematicità è quello riguardante la remunerazione delle attività lavorative rese nell’ambito dei contratti di appalto. La corretta determinazione della stima dei costi della manodopera ha costituito\, nel primo anno e mezzo di applicazione del Codice dei contratti pubblici\, uno degli aspetti più dibattuti. Si tratta di un adempimento particolarmente delicato\, sia perché rilevante ai fini della corretta instaurazione del gioco concorrenziale tra i partecipanti\, sia perché\, nella fase esecutiva\, occorrerà partire proprio da quella stima per valutare la congruità della manodopera in concreto impiegata. \nIl Decreto correttivo è intervenuto\, anche a tal riguado\, con alcune rilevanti modifiche e integrazioni\, auspicabilmente risolutive. \nInfine\, il Decreto correttivo è intervenuto anche sul versante della remunerazione delle prestazioni d’opera intellettuale rese da liberi professionisti\, cercando di trovare un punto di equilibrio tra l’applicazione della legge sull’equo compenso (L. n. 49/2023)\, nonchè dello stesso principio dell’equo compenso riconosciuto dall’art. 8 del Codice\, e la possibilità di attivare comunque\, in sede di gara\, un confronto competitivo almeno parzialmente incentrato anche sul “prezzo” (nuovi commi 15-bis\, ter e quater dell’art. 41 del Codice). \nDestinatari dell’evento  \nL’evento formativo è rivolto ai Responsabili dell’Ufficio Gare e dell’Ufficio Tecnico\, ai RUP\, ai Responsabili dell’esecuzione contrattuale\, ai Direttori dei Lavori e agli Uffici Legali di amministrazioni aggiudicatrici e enti aggiudicatori\, nonché a tutti i professionisti e consulenti che operano nell’ambito delle procedure a evidenza pubblica. \nObiettivi dell’evento \nObiettivo dell’incontro è fornire ai partecipanti una disamina delle ricadute operative della disciplina vigente in materia di clausole sociali\, costi della manodopera\, congruità della manodopera impiegata\, costi della sicurezza ed equo compenso\, con un’esaustiva ricostruzione delle novità introdotte dal Decreto correttivo e delle soluzioni interpretative più accreditate dalla giurisprudenza. \n\n\n		\n	\nProgramma\n	\n		\n			Mercoledì 9 aprile 2025 \nLe clausole sociali \nLa previsione contenuta nella Legge delega n. 78/2022\, art. 1\, c.2\, lettera h\, secondo periodo: l’obbligo per le SSAA di introdurre nei bandi e nei capitolati specifiche clausole sociali\nL’enunciazione esemplificativa di cui all’art. 57\, c. 1 del Codice\, così come modificata dal D. Lgs. n. 209/2024\, e il superamento del difetto di coordinamento con l’art. 61\, cc. 1 e 2\nLa clausola di stabilità occupazionale quale caso paradigmatico\nLa corrispondenza tra art. 57\, c. 1 e art. 102\, c. 1 del Codice in ordine agli impegni esigibili dall’operatore economico\nLe clausole sociali di cui all’art. 186 c. 2 relative agli obblighi di esternalizzazione per gli affidatari di concessioni in deroga al diritto UE\nAppalti PNRR e clausole sociali di cui al D.L. n. 77/2021\, art. 47\nLa certificazione di parità e la premialità prevista dall’art. 108\, c. 7 del Codice\nAvv. Antonio Papi Rossi\nFIVERS Studio Legale e Tributario \nL’indicazione nei bandi di gara del contratto collettivo di riferimento\, in applicazione dell’art. 11 del Codice dei contratti pubblici: ambito di applicazione\, modalità operative e strumenti di ausilio nella scelta\nLe modifiche apportate dal D. Lgs. n. 209/2024 all’art. 11 del Codice\nLe importanti novità contenute dall’Allegato I.01\nL’ambito di applicazione dell’obbligo di indicare nella lex specialis il CCNL di riferimento\nL’individuazione\, in concreto\, del contratto da indicare nel bando di gara\nL’adozione di meccanismi per la valutazione di equipollenza tra i contratti sottoscritti dalle organizzazioni sindacali maggiormente rappresentative\, diversificati per il settore dei lavori e quello dei servizi e forniture\nGli effetti della previsione di legge sulla scelta da parte dell’appaltatore e dei suoi subappaltatori\, alla luce del divieto di trattamento deteriore e degli orientamenti giurisprudenziali\nAvv. Daniela Anselmi\nAnselmi & Associati Law Lab \nLa stima del costo della manodopera da parte delle stazioni appaltanti\nLa corretta stima del costo della manodopera ai fini della esatta individuazione dell’importo a base di gara: riferimenti testuali a confronto tra Codice del 2023 e Codice previgente\nLa portata applicativa dell’art. 41\, cc. 13 e 14 del Codice\, tra esigenze di tutela sociale e libertà di iniziativa economica\nI criteri dal Bando-tipo ANAC\nIl caso dei servizi ad alta intensità di manodopera\nAvv. Danilo Tassan Mazzocco\nSZA Studio Legale \nIl ribasso sui costi della manodopera: riferimenti normativi\, prassi e orientamenti giurisprudenziali\nRiferimenti testuali a confronto tra nuovo Codice e Codice previgente\nL’orientamento che riconosce la legittimità del ribasso praticato dal concorrente rispetto ai costi della manodopera stimati dalla stazione appaltante e la ratio sottesa: dalla sentenza Consiglio di Stato\, Sez. V\, n. 5665/2023\, alle indicazioni dell’ANAC e del MIT\nL’orientamento giurisprudenziale (solo apparentemente) di segno opposto\nImplicazioni sulla strutturazione delle offerte e valutazione dell’anomalia delle stesse\nAvv. Adriano Cavina\nP&I – Studio Legale Guccione e Associati \nLa remunerazione del lavoro libero-professionale nel Codice dei contratti pubblici\nIl principio generale di non gratuità delle prestazioni d’opera intellettuale stabilito dal D. Lgs. n. 36/2023\, in conformità con la Legge Delega\nIl mantenimento dell’eccezione costituita da incarichi remunerati tramite corrispettivo non finanziario e le possibili motivazioni adducibili a sostegno dell’utilizzo di tale soluzione\nLe osservazioni in materia di equo compenso nei contratti pubblici svolte dal Consiglio di Stato nel parere n. 1463/2024 e nella sentenza n. 594/2025\nI nuovi commi 15-bis\, ter e quater dell’art. 41 introdotti dal D. Lgs. n. 209/2024\nL’applicazione del principio dell’equo compenso agli incarichi professionali relativi a professioni non ordinistiche\nProf. Avv. Luciano Salomoni\nUniversità di Milano Bicocca \n\n\n		\n	\nDocenti\n	\n		\n			Avv. Daniela Anselmi\nFounding Partner\nAnselmi & Associati Law Lab \nAvv. Adriano Cavina\nPartner\nP&I – Studio Legale Guccione e Associati \nAvv. Antonio Papi Rossi\nPartner\nFIVERS Studio Legale e Tributario \nProf. Avv. Luciano Salomoni\nProfessore Aggregato di Diritto Pubblico dell’Economia\nUniversità di Milano Bicocca\nFounding Partner\nSalomoni Santoro – Studio Legale Associato \nAvv. Danilo Tassan Mazzocco\nFounding Partner\nSZA Studio Legale \n\n\n		\n	\nBrochure\n	\n		\n			 Scarica la brochure\n\n		\n	\nIscrizioni e Condizioni\n	\n		\n			Quota di partecipazione \nLa quota di partecipazione in aula virtuale (diretta streaming) include la fruizione in diretta delle docenze\, nonché l’invio\, in formato elettronico\, del materiale didattico che i relatori riterranno di mettere a disposizione. È inoltre prevista la possibilità di presentare in diretta domande e quesiti di specifico interesse a mezzo chat\, nonché di sottoporli in via preventiva\, inviando una email a info@paradigma.it entro il giorno antecedente l’evento. \nIn caso di videoconferenza con accessi multipli è necessario contattare la Segreteria organizzativa per un preventivo personalizzato. \nModalità di funzionamento della videoconferenza \nE’ possibile accedere all’aula virtuale da qualsiasi luogo\, utilizzando il proprio PC o tablet con una semplice connessione a Internet. La piattaforma informatica utilizzata da Paradigma (Adobe Connect) non necessita di requisiti tecnici particolari. \nNei giorni antecedenti l’evento il partecipante riceverà per posta elettronica le credenziali e le istruzioni di accesso. Il giorno dell’evento sarà sufficiente selezionare il link che troverà nella mail e inserire le credenziali per accedere all’aula virtuale. \nDurante gli interventi\, oltre a vedere e sentire i docenti\, è possibile consultare simultaneamente la documentazione predisposta dal relatore. Ogni utente collegato potrà porre domande sulle tematiche affrontate a mezzo chat\, alle quali il docente risponderà nel corso dell’intervento. \nModalità di iscrizione \nL’iscrizione si perfeziona al momento del ricevimento del modulo di registrazione\, da inviare via e-mail all’indirizzo info@paradigma.it\, integralmente compilato. Il numero dei collegamenti disponibili è limitato e la priorità d’iscrizione è determinata dalla data di ricezione del modulo di registrazione. Si consiglia pertanto di effettuare una preiscrizione telefonica. \nModalità di pagamento \nLa quota di partecipazione deve essere versata all’atto della presentazione della richiesta di iscrizione e\, in ogni caso\, prima dell’effettuazione dell’evento formativo\, tramite bonifico bancario intestato a: \nParadigma Srl – Corso Vittorio Emanuele II\, 68 – 10121 Torino\nc/o Banco BPM Spa\nIBAN IT 14 V 05034 01017 000000002530 \nFormazione finanziata \nLa quota di partecipazione può essere completamente rimborsata tramite voucher promossi dai Fondi Paritetici Interprofessionali. Paradigma offre la completa e gratuita gestione delle spese di progettazione\, monitoraggio e rendicontazione. La possibilità di accedere alla formazione finanziata con partecipazione mediante videoconferenza può variare a seconda dell’Ente erogante. \nAttestato di frequenza \nL’attestato di partecipazione nominativo sarà inviato al termine dell’evento formativo ai partecipanti che si sono regolarmente collegati all’aula virtuale. \nDiritto di recesso e modalità di disdetta \nÈ attribuita ai partecipanti la facoltà di recedere ai sensi dell’art. 1373 c.c. Il recesso dovrà essere comunicato in forma scritta almeno sette giorni prima della data di inizio dell’evento formativo (escluso il sabato e la domenica). Qualora la disdetta pervenga oltre tale termine o si verifichi di fatto con il mancato collegamento alla videoconferenza\, la quota di partecipazione sarà addebitata per intero e sarà inviato al partecipante il materiale didattico. In qualunque momento l’azienda o lo studio potranno comunque sostituire il partecipante\, comunicando il nuovo nominativo alla nostra Segreteria organizzativa. \nVariazioni di programma \nParadigma\, per ragioni eccezionali e imprevedibili\, si riserva di annullare o modificare la data dell’evento formativo\, dandone comunicazione agli interessati entro tre giorni dalla data di inizio prevista. In tali casi le quote di partecipazione pervenute verranno rimborsate\, con esclusione di qualsivoglia onere o obbligo a carico di Paradigma. Paradigma si riserva inoltre\, per ragioni sopravvenute e per cause di forza maggiore\, di modificare l’articolazione del programma e di sostituire i docenti previsti con altri docenti di pari livello professionale. \nPer ulteriori informazioni è possibile contattare la Segreteria organizzativa al numero 011.538686 o all’indirizzo e-mail info@paradigma.it. \n\n\n		\n	\n\n\n	\n		\n			Quota di partecipazione\n	\n		\n			€ 1.100 + Iva\n\n		\n	\n\n	\n		\n			In caso di videoconferenza con accessi multipli è necessario contattare la Segreteria organizzativa per un preventivo personalizzato. \n\n		\n	\n\n\n		\n	\n\n	\n		\n			\n\n\n\n\n\n\n	\n		\n			Early booking -20%\nInviando il modulo di iscrizione entro il 19 marzo si avrà diritto a una riduzione del 20% sulla quota di partecipazione. \n\n		\n	\n\n\n\n		\n	\n\n	\n		\n			\n\n		\n	\n\n	\n		\n			\n\n		\n	\n\n	\n		\n			\n\n\n\n\n\n\n	\n		\n			Progetto Giovani Eccellenze -50%\nL’adesione all’evento formativo permette di iscrivere una seconda risorsa\, che non abbia compiuto il 30° anno di età e proveniente dalla stessa organizzazione\, con una riduzione del 50% sulla seconda quota di partecipazione. L’agevolazione è calcolata sulla quota ordinaria. \n\n		\n	\n\n\n\n		\n	\n\n	\n		\n			\n\n\n\n\n\n\n	\n		\n			Formazione finanziata\nLa quota di partecipazione all’iniziativa può essere completamente rimborsata tramite voucher promossi dai Fondi Paritetici Interprofessionali. Paradigma offre la completa e gratuita gestione delle spese di progettazione\, monitoraggio e rendiconto. \n\n		\n	\n\n\n\n		\n	\n\n	\n		\n			\n\n\n\n\n\n\n	\n		\n			Mercati elettronici della PA\nParadigma opera sul MePA e sui principali mercati elettronici di soggetti aggregatori e centrali di committenza. \n\n		\n	\n\n\n\n		\n	\n\n	\n		\n			\n	\n\n\n	I campi con (*) sono obbligatori\n	\n		\n		Dati relativi all'evento\n		\n		\n			Partecipazione in aula\n			Partecipazione in videoconferenza\n		\n		\n\n		Dati relativi al richiedente\n		\n		\n		\n		\n		\n		\n		\n		\n\n	\n\n	\n\n		Dati per eventuale partecipante under 30\n		\n		\n		\n\n	\n\n	\n\n		Dati per la fatturazione elettronica\n		\n		\n		\n		\n		\n		\n				\n		\n		\n		  Split Payment:\n          \n            \n              \n              Si \n            No\n          \n        \n		\n		\n		\n		\n	\n\n	\n\n		Per informazioni contattare\n		\n		\n		\n		\n		\n	\n	L'iscrizione all'evento formativo si intende perfezionata al momento del ricevimento\, da parte di Paradigma Srl\, del presente modulo di registrazione compilato in ogni sua parte\, stampato\, firmato e inviato via e-mail all'indirizzo info@paradigma.it. Riceverete via email conferma dell'avvenuta iscrizione. \n\n\n		\n	     Acconsento all'invio di comunicazioni sui servizi Paradigma Srl - Consenso finalizzato\, anche con modalità automatizzate\, all'invio di comunicazioni relative a prodotti e servizi di Paradigma Srl e al fine di ricevere materiale informativo o promozionale.\n	\n	     Acconsento alla personalizzazione delle offerte - Consenso finalizzato\, mediante modalità automatizzate\, a personalizzare i servizi forniti e meglio indirizzare le proposte promozionali grazie ad attività di profilazione.\n	\n	Inviando i dati autorizzi Paradigma Srl a utilizzare i tuoi dati personali per evadere la richiesta di partecipazione all’evento formativo e svolgere le attività a ciò connesse. I dati potranno essere trattati\, per conto di Paradigma Srl\, da dipendenti e collaboratori incaricati di svolgere specifici servizi necessari all’esecuzione delle tue richieste. Il conferimento dei tuoi dati\, pur essendo facoltativo\, si rende necessario per l’esecuzione del servizio richiesto.	\n\n\n\n\n		\n\n\n\n\n\n		\n	\n[/vc_column][/vc_row]
URL:https://paradigma.it/iniziativa/clausole-sociali-e-altre-disposizioni-a-tutela-del-lavoro-dipendente-e-autonomo-nei-contratti-pubblici-2/
CATEGORIES:Gare e Appalti
ORGANIZER;CN="Veronica%20Spiez":MAILTO:vspiez@paradigma.it
END:VEVENT
END:VCALENDAR