BEGIN:VCALENDAR
VERSION:2.0
PRODID:-//Paradigma srl - ECPv5.2.1//NONSGML v1.0//EN
CALSCALE:GREGORIAN
METHOD:PUBLISH
X-WR-CALNAME:Paradigma srl
X-ORIGINAL-URL:https://paradigma.it
X-WR-CALDESC:Eventi per Paradigma srl
BEGIN:VTIMEZONE
TZID:Europe/Rome
BEGIN:DAYLIGHT
TZOFFSETFROM:+0100
TZOFFSETTO:+0200
TZNAME:CEST
DTSTART:20240331T010000
END:DAYLIGHT
BEGIN:STANDARD
TZOFFSETFROM:+0200
TZOFFSETTO:+0100
TZNAME:CET
DTSTART:20241027T010000
END:STANDARD
END:VTIMEZONE
BEGIN:VEVENT
DTSTART;TZID=Europe/Rome:20240530T093000
DTEND;TZID=Europe/Rome:20240530T170000
DTSTAMP:20260421T151650
CREATED:20240410T100233Z
LAST-MODIFIED:20240528T101830Z
UID:20333-1717061400-1717088400@paradigma.it
SUMMARY:Cartolarizzazioni e NPL  alla luce del recepimento  della Secondary Market Directive (Direttiva UE 2021/2167)
DESCRIPTION:[vc_row][vc_column]\n	\n		\n			\n		\n	\n\n	\n		\n			\nLa liberalizzazione della cessione di crediti deteriorati da parte degli enti creditizi\nI nuovi intermediari per la gestione dei crediti in sofferenza\nLe previsioni in materia di trasparenza e rapporti con i clienti\n\nI docenti\, nel corso dell’evento formativo\, risponderanno alle domande e alle richieste di chiarimenti formulate dai partecipanti. Eventuali quesiti potranno essere anticipati inviando una email all’indirizzo info@paradigma.it \n \n\n		\n	\n\n	\n		\n			Evento in videoconferenza \n\n		\n	\n\n	\n		\n			30 maggio 2024 \n\n		\n	\n\n	\n		\n			 \n\n		\n	\n\n	\n		\n			\n\n		\n	\nPresentazioneProgrammaDocentiBrochureIscrizioni e CondizioniPresentazione\n	\n		\n			Contenuti dell’evento \nNel corso dell’evento di Paradigma verranno approfonditi i profili di maggiore interesse\, sul piano normativo e giurisprudenziale\, riguardanti il settore delle cartolarizzazioni\, che è sempre più oggetto di significativo interesse da parte di investitori\, asset manager\, servicer. \nAlle novità introdotte negli ultimi anni\, si vanno ora ad aggiungere le disposizioni di recepimento della Direttiva (UE) 2021/2167\, avente ad oggetto la disciplina dei gestori e degli acquirenti di crediti e finalizzata a migliorare l’efficienza e la trasparenza nel mercato degli NPL\, attraverso nuove figure di intermediari specializzati e nuove tutele per i debitori. Gli aggiornamenti normativi anzidetti potranno fornire nuovo impulso al mercato delle cartolarizzazioni\, proseguendo il trend positivo in atto. \nLo schema di Decreto Legislativo messo a punto dal Legislatore nazionale\, sfruttando i margini di flessibilità previsti dalla Direttiva\, prevede che la liberalizzazione della cessione sia circoscritta ai soli crediti classificabili come “in sofferenza” ai sensi delle disposizioni attuative della Banca d’Italia. Le altre scelte di maggiore rilevanza operate dal Legislatore nazionale saranno dettagliatamente approfondite nel corso del webinar. \nDestinatari dell’evento \nL’evento formativo è rivolto ai Responsabili e agli Addetti dell’Area Crediti\, dell’Area NPL\, dell’Area Finanza\, Legale e Compliance\, CRO\, CFO e Direzioni Generali di banche e operatori specializzati nelle operazioni di cartolarizzazione\, nonché al Management e ai Responsabili e agli Addetti Legali e Fiscali delle ReoCo e delle SPV ex L. n. 130 e ai Responsabili e ai Responsabili e agli Addetti del settore Finance di tutti i soggetti le cui emissioni obbligazionarie costituiranno possibile oggetto di tali operazioni\, e agli avvocati e consulenti esperti del settore. \nObiettivi dell’evento \nObiettivo dell’incontro è quello di fornire un quadro aggiornato e approfondito del regime giuridico delle operazioni di cartolarizzazione\, evidenziandone opportunità e criticità e tenendo conto delle recenti novità normative e delle indicazioni provenienti dalla prassi applicativa. \n\n\n		\n	\nProgramma\n	\n		\n			Giovedì 30 maggio 2024 \nLA GESTIONE DI CREDITI NPL ALLA LUCE DELLA RECENTE GIURISPRUDENZA \nLa gestione di crediti NPL: i recenti orientamenti giurisprudenziali sulla struttura di servicing nel contesto di operazioni di cartolarizzazione\nIl quadro evolutivo delle strutture di servicing nel contesto delle cartolarizzazioni: outsourcing e strutture a raggiera\, double-decker\, etc.\nIl trend giurisprudenziale recente sul difetto di legittimazione ad agire in giudizio di special servicers non iscritti all’albo ex art. 106 TUB\nI possibili ulteriori sviluppi della prassi \nAvv. Elena Cannazza\niLS Milan\nDott. Marcello Grimaldi\nGruppo Fire\nDott. Giovanni Iaquinta\nEffe46\nAvv. Norman Pepe\niLS Milan\niLS London\nAvv. Cristian Sgaramella\nPwC TLS Avvocati e Commercialisti \n  \nLE NUOVE STRUTTURE PER LA GESTIONE DEI CREDITI IN SOFFERENZA E LE ULTERIORI NOVITÀ DELLA SMD \nL’acquisizione di crediti NPL: le possibili nuove strutture alla luce della trasposizione della Secondary Market Directive e i pericoli di sovrapposizione\nLa ricognizione delle strutture esistenti prima della trasposizione della Secondary Market Directive (Cartolarizzazione ex L. n. 130/1999\, ex art. 115 TULPS e ex DM n. 53/2015)\nLa “liberalizzazione” conseguente alla trasposizione della Secondary Market Directive e i nuovi presidi per la gestione\nLa riserva di attività finanziaria\nI contratti di esternalizzazione\nGli spazi d’azione dei fondi di ristrutturazione\nGli ambiti e i profili lasciati irrisolti dalla Secondary Market Directive (ad es. cartolarizzazione “regolamentare” vs. cartolarizzazione mono-tranche\, ect.) \nAvv. Elena Cannazza\niLS Milan\nAvv. Fabio Coco\nZitiello Associati\nDott.ssa Nausica Pinese\nBanca Finint\nAvv. Norman Pepe\niLS Milan\niLS London \n\n\n		\n	\nDocenti\n	\n		\n			Avv. Elena Cannazza\nPartner\niLS Milan \nAvv. Fabio Coco\nPartner\nZitiello Associati \nDott. Marcello Grimaldi\nGeneral Counsel\nGruppo Fire \nDott. Giovanni Iaquinta\nDirettore Generale\nEffe46 \nAvv. Norman Pepe\nChairman\niLS Milan\nPartner\niLS London \nDott.ssa Nausica Pinese\nExecutive Director – Head of Securitisation Services\nCorporate & Investment Banking\nBanca Finint \nAvv. Cristian Sgaramella\nLegal Partner\nResponsabile Team Structured finance e Portfolio transaction\nPwC TLS Avvocati e Commercialisti \n\n\n		\n	\nBrochure\n	\n		\n			 Scarica la brochure\n\n		\n	\nIscrizioni e Condizioni\n	\n		\n			Quota di partecipazione \nLa quota di partecipazione in aula virtuale (diretta streaming) include la fruizione in diretta delle docenze\, nonché l’invio\, in formato elettronico\, del materiale didattico che i relatori riterranno di mettere a disposizione. È inoltre prevista la possibilità di presentare in diretta domande e quesiti di specifico interesse a mezzo chat\, nonché di sottoporli in via preventiva\, inviando una email a info@paradigma.it entro il giorno antecedente l’evento. \nIn caso di videoconferenza con accessi multipli è necessario contattare la Segreteria organizzativa per un preventivo personalizzato. \nModalità di funzionamento della videoconferenza \nE’ possibile accedere all’aula virtuale da qualsiasi luogo\, utilizzando il proprio PC o tablet con una semplice connessione a Internet. La piattaforma informatica utilizzata da Paradigma (Adobe Connect) non necessita di requisiti tecnici particolari. \nNei giorni antecedenti l’evento il partecipante riceverà per posta elettronica le credenziali e le istruzioni di accesso. Il giorno dell’evento sarà sufficiente selezionare il link che troverà nella mail e inserire le credenziali per accedere all’aula virtuale. \nDurante gli interventi\, oltre a vedere e sentire i docenti\, è possibile consultare simultaneamente la documentazione predisposta dal relatore. Ogni utente collegato potrà porre domande sulle tematiche affrontate a mezzo chat\, alle quali il docente risponderà nel corso dell’intervento. \nModalità di iscrizione \nL’iscrizione si perfeziona al momento del ricevimento del modulo di registrazione\, da inviare via e-mail all’indirizzo info@paradigma.it\, integralmente compilato. Il numero dei collegamenti disponibili è limitato e la priorità d’iscrizione è determinata dalla data di ricezione del modulo di registrazione. Si consiglia pertanto di effettuare una preiscrizione telefonica. \nModalità di pagamento \nLa quota di partecipazione deve essere versata all’atto della presentazione della richiesta di iscrizione e\, in ogni caso\, prima dell’effettuazione dell’evento formativo\, tramite bonifico bancario intestato a: \nParadigma Srl – Corso Vittorio Emanuele II\, 68 – 10121 Torino\nc/o Banco BPM Spa\nIBAN IT 14 V 05034 01017 000000002530 \nFormazione finanziata \nLa quota di partecipazione può essere completamente rimborsata tramite voucher promossi dai Fondi Paritetici Interprofessionali. Paradigma offre la completa e gratuita gestione delle spese di progettazione\, monitoraggio e rendicontazione. La possibilità di accedere alla formazione finanziata con partecipazione mediante videoconferenza può variare a seconda dell’Ente erogante. \nAttestato di frequenza \nL’attestato di partecipazione nominativo sarà inviato al termine dell’evento formativo ai partecipanti che si sono regolarmente collegati all’aula virtuale. \nDiritto di recesso e modalità di disdetta \nÈ attribuita ai partecipanti la facoltà di recedere ai sensi dell’art. 1373 c.c. Il recesso dovrà essere comunicato in forma scritta almeno sette giorni prima della data di inizio dell’evento formativo (escluso il sabato e la domenica). Qualora la disdetta pervenga oltre tale termine o si verifichi di fatto con il mancato collegamento alla videoconferenza\, la quota di partecipazione sarà addebitata per intero e sarà inviato al partecipante il materiale didattico. In qualunque momento l’azienda o lo studio potranno comunque sostituire il partecipante\, comunicando il nuovo nominativo alla nostra Segreteria organizzativa. \nVariazioni di programma \nParadigma\, per ragioni eccezionali e imprevedibili\, si riserva di annullare o modificare la data dell’evento formativo\, dandone comunicazione agli interessati entro tre giorni dalla data di inizio prevista. In tali casi le quote di partecipazione pervenute verranno rimborsate\, con esclusione di qualsivoglia onere o obbligo a carico di Paradigma. Paradigma si riserva inoltre\, per ragioni sopravvenute e per cause di forza maggiore\, di modificare l’articolazione del programma e di sostituire i docenti previsti con altri docenti di pari livello professionale. \nPer ulteriori informazioni è possibile contattare la Segreteria organizzativa al numero 011.538686 o all’indirizzo e-mail info@paradigma.it. \n\n\n		\n	\n\n\n	\n		\n			Quota di partecipazione\n	\n		\n			€ 1.100 + Iva\n\n		\n	\n\n	\n		\n			In caso di videoconferenza con accessi multipli è necessario contattare la Segreteria organizzativa per un preventivo personalizzato. \n\n		\n	\n\n\n		\n	\n\n	\n		\n			\n\n\n\n\n\n\n	\n		\n			Early booking -20%\nInviando il modulo di iscrizione entro il 9 maggio si avrà diritto a una riduzione del 20% sulla quota di partecipazione. \n\n		\n	\n\n\n\n		\n	\n\n	\n		\n			\n\n		\n	\n\n	\n		\n			\n\n		\n	\n\n	\n		\n			\n\n\n\n\n\n\n	\n		\n			Progetto Giovani Eccellenze -50%\nL’adesione all’evento formativo permette di iscrivere una seconda risorsa\, che non abbia compiuto il 30° anno di età e proveniente dalla stessa organizzazione\, con una riduzione del 50% sulla seconda quota di partecipazione. L’agevolazione è calcolata sulla quota ordinaria. \n\n		\n	\n\n\n\n		\n	\n\n	\n		\n			\n\n\n\n\n\n\n	\n		\n			Formazione finanziata\nLa quota di partecipazione all’iniziativa può essere completamente rimborsata tramite voucher promossi dai Fondi Paritetici Interprofessionali. Paradigma offre la completa e gratuita gestione delle spese di progettazione\, monitoraggio e rendiconto. \n\n		\n	\n\n\n\n		\n	\n\n	\n		\n			\n\n\n\n\n\n\n	\n		\n			Mercati elettronici della PA\nParadigma opera sul MePA e sui principali mercati elettronici di soggetti aggregatori e centrali di committenza. \n\n		\n	\n\n\n\n		\n	\n\n	\n		\n			\n	\n\n\n	I campi con (*) sono obbligatori\n	\n		\n		Dati relativi all'evento\n		\n		\n			Partecipazione in aula\n			Partecipazione in videoconferenza\n		\n		\n\n		Dati relativi al richiedente\n		\n		\n		\n		\n		\n		\n		\n		\n\n	\n\n	\n\n		Dati per eventuale partecipante under 30\n		\n		\n		\n\n	\n\n	\n\n		Dati per la fatturazione elettronica\n		\n		\n		\n		\n		\n		\n				\n		\n		\n		  Split Payment:\n          \n            \n              \n              Si \n            No\n          \n        \n		\n		\n		\n		\n	\n\n	\n\n		Per informazioni contattare\n		\n		\n		\n		\n		\n	\n	L'iscrizione all'evento formativo si intende perfezionata al momento del ricevimento\, da parte di Paradigma Srl\, del presente modulo di registrazione compilato in ogni sua parte\, stampato\, firmato e inviato via e-mail all'indirizzo info@paradigma.it. Riceverete via email conferma dell'avvenuta iscrizione. \n\n\n		\n	     Acconsento all'invio di comunicazioni sui servizi Paradigma Srl - Consenso finalizzato\, anche con modalità automatizzate\, all'invio di comunicazioni relative a prodotti e servizi di Paradigma Srl e al fine di ricevere materiale informativo o promozionale.\n	\n	     Acconsento alla personalizzazione delle offerte - Consenso finalizzato\, mediante modalità automatizzate\, a personalizzare i servizi forniti e meglio indirizzare le proposte promozionali grazie ad attività di profilazione.\n	\n	Inviando i dati autorizzi Paradigma Srl a utilizzare i tuoi dati personali per evadere la richiesta di partecipazione all’evento formativo e svolgere le attività a ciò connesse. I dati potranno essere trattati\, per conto di Paradigma Srl\, da dipendenti e collaboratori incaricati di svolgere specifici servizi necessari all’esecuzione delle tue richieste. Il conferimento dei tuoi dati\, pur essendo facoltativo\, si rende necessario per l’esecuzione del servizio richiesto.	\n\n\n\n\n		\n\n\n\n\n\n		\n	\n[/vc_column][/vc_row]
URL:https://paradigma.it/iniziativa/cartolarizzazioni-e-npl-alla-luce-del-recepimento-della-secondary-market-directive-direttiva-ue-2021-2167/
CATEGORIES:Capitale e Finanza
ORGANIZER;CN="Veronica%20Spiez":MAILTO:vspiez@paradigma.it
END:VEVENT
END:VCALENDAR