BEGIN:VCALENDAR
VERSION:2.0
PRODID:-//Paradigma srl - ECPv5.2.1//NONSGML v1.0//EN
CALSCALE:GREGORIAN
METHOD:PUBLISH
X-WR-CALNAME:Paradigma srl
X-ORIGINAL-URL:https://paradigma.it
X-WR-CALDESC:Eventi per Paradigma srl
BEGIN:VTIMEZONE
TZID:Europe/Rome
BEGIN:DAYLIGHT
TZOFFSETFROM:+0100
TZOFFSETTO:+0200
TZNAME:CEST
DTSTART:20250330T010000
END:DAYLIGHT
BEGIN:STANDARD
TZOFFSETFROM:+0200
TZOFFSETTO:+0100
TZNAME:CET
DTSTART:20251026T010000
END:STANDARD
END:VTIMEZONE
BEGIN:VEVENT
DTSTART;TZID=Europe/Rome:20251211T093000
DTEND;TZID=Europe/Rome:20251211T180000
DTSTAMP:20260421T130640
CREATED:20251027T162433Z
LAST-MODIFIED:20251209T141923Z
UID:25627-1765445400-1765476000@paradigma.it
SUMMARY:Anticorruzione e trasparenza  nelle società pubbliche
DESCRIPTION:[vc_row][vc_column]\n	\n		\n			\n		\n	\n\n	\n		\n			Novità PNA 2025\nRapporti RPCT e OdV\nModelli integrati 231 e 190\nMonitoraggio\, audit e aggiornamento del Sistema anticorruzione\nTrasparenza e accesso civico \n \n\n		\n	\n\n	\n		\n			09.30 - 13.30  14.30 - 18.00 \n\n		\n	\n\n	\n		\n			Evento in diretta streaming \n\n		\n	\n\n	\n		\n			 \n\n		\n	\n\n	\n		\n			\n\n		\n	\nPresentazioneProgrammaDocentiBrochureIscrizioni e CondizioniPresentazione\n	\n		\n			Contenuti dell’evento \nIl seminario intende analizzare – in modalità operativa – il quadro regolatorio in materia di anticorruzione e trasparenza applicabile alle società partecipate e negli altri enti di diritto privato a rilevanza pubblica – al fine di trasferire conoscenze e spunti pratici per adempiere alle raccomandazioni contenute nel PNA nel rispetto delle scadenze fissate dall’Autorità. \nIn particolare\, nel corso dell’evento saranno esaminati i temi nevralgici delle materie considerate tra cui il ruolo del RPCT\, anche in rapporto all’OdV\, l’aggiornamento e il monitoraggio del Piano / delle misure integrative del MOG 231 agli effetti della legge n. 190/2012\, sino al versante della trasparenza e dell’accesso civico\, anche nel raffronto con la disciplina in materia di protezione dei dati personali. \nDestinatari dell’evento \nIl seminario si rivolge ai Responsabili della Prevenzione della Corruzione e della Trasparenza (RPCT) delle società pubbliche\, alle rispettive strutture di supporto\, ai referenti eventualmente nominati\, ai dirigenti responsabili dell’attuazione delle misure di prevenzione e del rispetto dei singoli obblighi di pubblicazione nonché al personale coinvolto\, a vario titolo\, nel processo di implementazione dei sistemi di controllo interno (Direttori Generali\, Responsabili Affari Legali\, Responsabili del Procedimento e loro collaboratori). \nObiettivi dell’evento \nObiettivo dell´incontro è presentare un quadro dettagliato e completo delle recenti novità\, con illustrazione di strumenti operativi e casi pratici utili al recepimento delle nuove Linee Guida ANAC\, ed immediatamente spendibili in vista delle imminenti scadenze. \n\n\n		\n	\nProgramma\n	\n		\n			Giovedì 11 dicembre 2025 \nLe società pubbliche e la disciplina in materia di anticorruzione e trasparenza: perimetro e valenza della prassi ANAC \nI punti di attenzione per l’aggiornamento dei sistemi di controllo interno in relazione al PNA 2025\nIl ruolo del RPCT nelle società pubbliche: il raccordo con l’OdV e con gli altri organi di controllo\nL’aggiornamento del PTPCT/MOG 231 per il triennio 2025/2027\nLa gestione del rischio nelle società pubbliche: le metodologie dell’Allegato 1 al PNA 2019 e il raccordo con il risk assessment 231 / AML\nProf. Avv. Gaetano Caputi\nPresidenza del Consiglio dei Ministri\nScuola Nazionale dell’Amministrazione (SNA) \nL’integrazione funzionale dei sistemi di prevenzione dei rischi nelle aziende pubbliche: 190\, 231\, 37001\nAvv. Flavio Corsinovi\nCorsinovi Mammana \nL’aggiornamento della procedura whistleblowing alla luce delle nuove Linee Guida ANAC \nL’ambito di applicazione nel settore pubblico\nIl perimetro della segnalazione e i segnalanti\nLe modalità per la presentazione delle segnalazioni tramite il canale interno\nIl raccordo con la segnalazione esterna\, la denuncia e la divulgazione pubblica\nIl ruolo del RPCT e degli altri soggetti potenzialmente coinvolti nella gestione delle segnalazioni\nDott. Giorgio Fraschini\nTransparency International Italia \nMonitoraggio\, audit e riesame del Piano alla luce del PNA 2025\nIl monitoraggio in generale: la progettazione delle misure\, gli strumenti e gli indicatori\nIl monitoraggio di primo livello (self assessment)\nIl monitoraggio di secondo livello: l’audit del RPCT\nI punti di controllo e le tecniche di audit\nIl riesame periodico\nL’integrazione dei controlli 190 e 231\nDott. Alessandro Pastorelli\nINAIL \nGli obblighi di pubblicazione e il bilanciamento con la disciplina in materia di protezione dei dati personali (GDPR)\nLe regole della trasparenza in relazione alle società pubbliche\nLa governance della trasparenza secondo il PNA 2025\nIl monitoraggio del RPCT sul corretto adempimento degli obblighi di pubblicazione e le forme di contestazione o segnalazione di eventuali inadempimenti\nLe nuove indicazioni del PNA in materia di trasparenza amministrativa e il sistema dei flussi alla nuova BDNCP di ANAC (bandi di gara e contratti)\nPUT e TrasparenzAI\nLe questioni pendenti: incentivi per le funzioni tecniche\, dati reddituali e patrimoniali\, termini procedimentali\nIl bilanciamento trasparenza/privacy: i provvedimenti sanzionatori del Garante Privacy\nAvv. Alessio Ubaldi\nUB LEGAL Studio Legale Ubaldi \n\n\n		\n	\nDocenti\n	\n		\n			Prof. Avv. Gaetano Caputi\nCapo di Gabinetto\nPresidenza del Consiglio dei Ministri\nProfessore Ordinario\nScuola Nazionale dell’Amministrazione (SNA) \nDott. Giorgio Fraschini\nEsperto Whistleblowing\nTransparency International Italia \nAvv. Flavio Corsinovi\nAuditor ISO 37001\nResponsabile della Funzione di Conformità per la Prevenzione della Corruzione\nConsulente di Sistemi di Gestione ISO 37001\nFounding Partner\nCorsinovi Mammana \nDott. Alessandro Pastorelli\nDirigente Pubblico\nResponsabile Servizio Ispettorato e Sicurezza e RPCT\nComponente di Organismi Indipendenti di Valutazione\nINAIL \nAvv. Alessio Ubaldi\nFounding Partner\nUB LEGAL Studio Legale Ubaldi\nDocente a contratto di Anticorruzione\, Trasparenza e Contrattualistica pubblica\nScuola Nazionale dell’Amministrazione (SNA) \n\n\n		\n	\nBrochure\n	\n		\n			 Scarica la brochure\n\n		\n	\nIscrizioni e Condizioni\n	\n		\n			Quota di partecipazione \nLa quota di partecipazione in diretta streaming include la fruizione degli interventi\, nonché la possibilità di scaricare\, in formato elettronico\, il materiale didattico che i relatori riterranno di mettere a disposizione. \nÈ inoltre prevista la possibilità di rivolgere contestualmente domande ai docenti (attivando il proprio microfono o tramite chat)\, oppure sottoporle in via preventiva\, inviando una e-mail a info@paradigma.it entro il giorno antecedente l’evento. \nIn caso di diretta streaming con accessi multipli è necessario contattare la Segreteria Organizzativa per un preventivo personalizzato. \nModalità di funzionamento della diretta streaming \nLe iniziative formative sono fruibili in diretta streaming attraverso un semplice collegamento alla piattaforma dedicata. La piattaforma è strutturata per garantire un ottimo livello di fruizione e interazione e non necessita di particolari requisiti tecnici. \nAlcuni giorni prima dell’evento il partecipante riceve le istruzioni di accesso e sarà sufficiente selezionare il link ricevuto per accedere all’aula virtuale. \nGli interventi in diretta streaming sono supportati dalle slide predisposte dal docente. Ogni utente collegato potrà intervenire formulando domande o richieste di approfondimento attivando il proprio microfono o utilizzando la chat dedicata. \nModalità di iscrizione \nL’iscrizione si perfeziona al momento del ricevimento del modulo di registrazione\, da inviare via e-mail all’indirizzo info@paradigma.it\, integralmente compilato e sottoscritto. Il numero dei collegamenti disponibili è limitato e la priorità d’iscrizione è determinata dalla data di ricezione del modulo di registrazione. Si consiglia pertanto di effettuare una preiscrizione telefonica. \nModalità di pagamento \nLa quota di partecipazione deve essere versata all’atto della presentazione della richiesta di iscrizione e\, in ogni caso\, prima dell’effettuazione dell’evento formativo\, tramite bonifico bancario intestato a: \nParadigma Srl – Corso Vittorio Emanuele II\, 68 – 10121 Torino\nc/o Banco BPM Spa\nIBAN IT 14 V 05034 01017 000000002530 \nFormazione finanziata \nLa quota di partecipazione può essere completamente rimborsata tramite voucher promossi dai Fondi Paritetici Interprofessionali. Paradigma offre la completa e gratuita gestione delle spese di progettazione\, monitoraggio e rendicontazione. La possibilità di accedere alla formazione finanziata con partecipazione mediante diretta streaming può variare a seconda dell’Ente erogante. \nAttestato di frequenza \nL’attestato di partecipazione nominativo sarà inviato al termine dell’evento formativo ai partecipanti che si sono regolarmente collegati all’aula virtuale. \nDiritto di recesso e modalità di disdetta \nÈ attribuita ai partecipanti la facoltà di recedere ai sensi dell’art. 1373 c.c. Il recesso dovrà essere comunicato in forma scritta almeno sette giorni prima della data di inizio dell’evento formativo (escluso il sabato e la domenica). Qualora la disdetta pervenga oltre tale termine o si verifichi di fatto con il mancato collegamento alla diretta streaming\, la quota di partecipazione sarà addebitata per intero e sarà inviato al partecipante il materiale didattico e\, se disponibile e per un periodo limitato\, la registrazione dell’evento. In qualunque momento l’azienda o lo studio potranno comunque sostituire il partecipante\, comunicando il nuovo nominativo alla nostra Segreteria Organizzativa. \nVariazioni di programma \nParadigma\, per ragioni eccezionali e imprevedibili\, si riserva di annullare o modificare la data dell’evento formativo\, dandone comunicazione agli interessati entro tre giorni dalla data di inizio prevista. In tali casi le quote di partecipazione pervenute verranno rimborsate\, con esclusione di qualsivoglia onere o obbligo a carico di Paradigma. Paradigma si riserva inoltre\, per ragioni sopravvenute e per cause di forza maggiore\, di modificare l’articolazione del programma e di sostituire i docenti previsti con altri docenti di pari livello professionale. \nPer ulteriori informazioni è possibile contattare la Segreteria Organizzativa al numero 011.538686 o all’indirizzo e-mail info@paradigma.it. \n\n\n		\n	\n\n\n	\n		\n			Quota di partecipazione\n	\n		\n			€ 1.100 + Iva\n\n		\n	\n\n	\n		\n			In caso di videoconferenza con accessi multipli è necessario contattare la Segreteria organizzativa per un preventivo personalizzato. \n\n		\n	\n\n\n		\n	\n\n	\n		\n			\n\n\n\n\n\n\n	\n		\n			Early booking -20%\nInviando il modulo di iscrizione entro il 20 novembre si avrà diritto a una riduzione del 20% sulla quota di partecipazione. \n\n		\n	\n\n\n\n		\n	\n\n	\n		\n			\n\n\n\n\n\n\n	\n		\n			Quota corporate\nIscrivi all’evento 5 o più risorse provenienti dalla stessa organizzazione con una riduzione del 50%. \n\n		\n	\n\n\n\n		\n	\n\n	\n		\n			\n\n		\n	\n\n	\n		\n			\n\n\n\n\n\n\n	\n		\n			Progetto Giovani Eccellenze -50%\nL’adesione all’evento formativo permette di iscrivere una seconda risorsa\, che non abbia compiuto il 30° anno di età e proveniente dalla stessa organizzazione\, con una riduzione del 50% sulla seconda quota di partecipazione. L’agevolazione è calcolata sulla quota ordinaria. \n\n		\n	\n\n\n\n		\n	\n\n	\n		\n			\n\n\n\n\n\n\n	\n		\n			Formazione finanziata\nLa quota di partecipazione all’iniziativa può essere completamente rimborsata tramite voucher promossi dai Fondi Paritetici Interprofessionali. Paradigma offre la completa e gratuita gestione delle spese di progettazione\, monitoraggio e rendiconto. \n\n		\n	\n\n\n\n		\n	\n\n	\n		\n			\n\n\n\n\n\n\n	\n		\n			Mercati elettronici della PA\nParadigma opera sul MePA e sui principali mercati elettronici di soggetti aggregatori e centrali di committenza. \n\n		\n	\n\n\n\n		\n	\n\n	\n		\n			\n	\n\n\n	I campi con (*) sono obbligatori\n	\n		\n		Dati relativi all'evento\n		\n		\n			Partecipazione in aula\n			Partecipazione in videoconferenza\n		\n		\n\n		Dati relativi al richiedente\n		\n		\n		\n		\n		\n		\n		\n		\n\n	\n\n	\n\n		Dati per eventuale partecipante under 30\n		\n		\n		\n\n	\n\n	\n\n		Dati per la fatturazione elettronica\n		\n		\n		\n		\n		\n		\n				\n		\n		\n		  Split Payment:\n          \n            \n              \n              Si \n            No\n          \n        \n		\n		\n		\n		\n	\n\n	\n\n		Per informazioni contattare\n		\n		\n		\n		\n		\n	\n	L'iscrizione all'evento formativo si intende perfezionata al momento del ricevimento\, da parte di Paradigma Srl\, del presente modulo di registrazione compilato in ogni sua parte\, stampato\, firmato e inviato via e-mail all'indirizzo info@paradigma.it. Riceverete via email conferma dell'avvenuta iscrizione. \n\n\n		\n	     Acconsento all'invio di comunicazioni sui servizi Paradigma Srl - Consenso finalizzato\, anche con modalità automatizzate\, all'invio di comunicazioni relative a prodotti e servizi di Paradigma Srl e al fine di ricevere materiale informativo o promozionale.\n	\n	     Acconsento alla personalizzazione delle offerte - Consenso finalizzato\, mediante modalità automatizzate\, a personalizzare i servizi forniti e meglio indirizzare le proposte promozionali grazie ad attività di profilazione.\n	\n	Inviando i dati autorizzi Paradigma Srl a utilizzare i tuoi dati personali per evadere la richiesta di partecipazione all’evento formativo e svolgere le attività a ciò connesse. I dati potranno essere trattati\, per conto di Paradigma Srl\, da dipendenti e collaboratori incaricati di svolgere specifici servizi necessari all’esecuzione delle tue richieste. Il conferimento dei tuoi dati\, pur essendo facoltativo\, si rende necessario per l’esecuzione del servizio richiesto.	\n\n\n\n\n		\n\n\n\n\n\n		\n	\n[/vc_column][/vc_row]
URL:https://paradigma.it/iniziativa/anticorruzione-e-trasparenza-nelle-societa-pubbliche/
CATEGORIES:Anticorruzione e Trasparenza PA
ORGANIZER;CN="Veronica%20Spiez":MAILTO:vspiez@paradigma.it
END:VEVENT
END:VCALENDAR