BEGIN:VCALENDAR
VERSION:2.0
PRODID:-//Paradigma srl - ECPv5.2.1//NONSGML v1.0//EN
CALSCALE:GREGORIAN
METHOD:PUBLISH
X-WR-CALNAME:Paradigma srl
X-ORIGINAL-URL:https://paradigma.it
X-WR-CALDESC:Eventi per Paradigma srl
BEGIN:VTIMEZONE
TZID:Europe/Rome
BEGIN:DAYLIGHT
TZOFFSETFROM:+0100
TZOFFSETTO:+0200
TZNAME:CEST
DTSTART:20240331T010000
END:DAYLIGHT
BEGIN:STANDARD
TZOFFSETFROM:+0200
TZOFFSETTO:+0100
TZNAME:CET
DTSTART:20241027T010000
END:STANDARD
END:VTIMEZONE
BEGIN:VEVENT
DTSTART;TZID=Europe/Rome:20240927T093000
DTEND;TZID=Europe/Rome:20240927T180000
DTSTAMP:20260421T130553
CREATED:20240621T075050Z
LAST-MODIFIED:20240925T092306Z
UID:20935-1727429400-1727460000@paradigma.it
SUMMARY:Anticorruzione  e trasparenza
DESCRIPTION:[vc_row][vc_column]\n	\n		\n			\n		\n	\n\n	\n		\n			\nAggiornamenti del PIAO – PTPCT\nMonitoraggio annuale\nWhistleblowing\nRevisione della gestione del rischio\nNuovi obblighi di pubblicazione\n\nI docenti\, nel corso dell’evento formativo\, risponderanno alle domande e alle richieste di chiarimenti formulate dai partecipanti. Eventuali quesiti potranno essere anticipati inviando una e-mail all’indirizzo info@paradigma.it \n \n\n		\n	\n\n	\n		\n			Evento in videoconferenza \n\n		\n	\n\n	\n		\n			27 settembre 2024 \n\n		\n	\n\n	\n		\n			 \n\n		\n	\n\n	\n		\n			\n\n		\n	\nPresentazioneProgrammaDocentiBrochureIscrizioni e CondizioniPresentazione\n	\n		\n			Contenuti dell’evento \nLa giornata di studio esamina – con taglio operativo – le ultime novità in materia di anticorruzione e trasparenza amministrativa di interesse per le Pubbliche Amministrazione e gli Enti di diritto privato a rilevanza pubblicistica (società pubbliche\, enti pubblici economici/non economici\, fondazioni pubbliche\, etc.) soggetti – in varia misura – alla c.d. “Legge Anticorruzione” (Legge n. 190/2012) e alla correlata disciplina di attuazione. \nParticolare attenzione é dedicata alle recenti indicazioni fornite dall’ANAC con l’ultimo Piano Nazionale Anticorruzione\, alle tecniche redazionali del PIAO ovvero del Piano Triennale di Prevenzione della Corruzione e della Trasparenza (PTPCT) – anche attraverso simulazioni pratiche sulla gestione del rischio – nell’ottica di supportare gli RPCT e le rispettive strutture di supporto nella cura del monitoraggio e nella stesura degli aggiornamenti. \nSaranno altresì esaminati i principali punti di interesse afferenti agli obblighi di pubblicazione (es.\, i nuovi obblighi di pubblicazione in tema di appalti\, anche alla luce della BDNCP con particolare riguardo all’esecuzione contrattuale e agli affidamenti PNRR). \nDestinatari dell’evento \nIl seminario si rivolge ai Responsabili della Prevenzione della Corruzione e della Trasparenza (RPCT) di Pubbliche Amministrazioni e ed Enti di diritto privato a rilevanza pubblicistica\, alle rispettive strutture di supporto\, ai referenti\, eventualmente nominati\, ai dirigenti responsabili dell’attuazione delle misure di prevenzione e del rispetto dei singoli obblighi di pubblicazione nonché al personale coinvolto\, a vario titolo\, nel processo di implementazione dei sistemi di controllo interno (Direttori Generali\, Responsabili Affari Legali\, Responsabili del Procedimento e loro collaboratori). \nObiettivi dell’evento \nObiettivo dell´incontro è presentare un quadro dettagliato e completo delle recenti novità\, con illustrazione di strumenti operativi e casi pratici utili al recepimento delle indirizzi di ANAC\, immediatamente fruibili in vista della imminenti scadenze (relazione annuale del RPCT\, fissazione degli obiettivi strategici e redazione del PTPCT 2023-2025). \n\n\n		\n	\nProgramma\n	\n		\n			Venerdì 27 settembre 2024 \nGli aggiornamenti al PNA: indicazioni operative\, priorità di intervento e profili di criticità del vigente quadro regolatorio in tema di prevenzione dei rischi corruttivi\, anche in relazione al PNRR\nProfili di continuità e discontinuità per la nuova programmazione\nLe nuove indicazioni in tema di RPCT\nL’implementazione della sezione “Rischi corruttivi e trasparenza” nel PIAO\nIl novero degli interventi da implementare nella prossima programmazione\nLe semplificazioni per gli enti di ridotta dimensione\nProf. Avv. Gaetano Caputi\nScuola Nazionale dell’Amministrazione \nLa gestione del rischio in materia di appalti\nLe raccomandazioni specifiche del PNA\nGli strumenti operativi: tabelle di ricognizione e check list\nLe rinnovate indicazioni in tema di conflitto di interessi\nGli audit in materia di affidamenti\, anche a cura del RPCT\nAvv. Domenico Ielo\nIelo e Associati \nIl divieto di revolving doors: le Linee Guida di ANAC\nAvv. Flavio Corsinovi\nCorsinovi Mammana \nMonitoraggio\, audit e riesame del Piano\nIl monitoraggio in generale: la progettazione delle misure\, gli strumenti e gli indicatori\nIl monitoraggio di primo livello (self assessment)\nIl monitoraggio di secondo livello: l’audit del RPCT\nI punti di controllo e le tecniche di audit\nIl riesame periodico\nDott. Alessandro Pastorelli\nINAIL \nL’aggiornamento della procedura whistleblowing alla luce delle Linee Guida ANAC\nL’ambito di applicazione nel settore pubblico\nIl perimetro della segnalazione e i segnalanti\nLe modalità per la presentazione delle segnalazioni tramite il canale interno\nIl raccordo con la segnalazione esterna\, la denuncia e la divulgazione pubblica\nIl ruolo del RPCT e degli altri soggetti potenzialmente coinvolti nella gestione delle segnalazioni\nAvv. Alessio Ubaldi\nUB LEGAL Studio Legale Ubaldi \nLe nuove indicazioni in materia di trasparenza amministrativa\nL’organizzazione della trasparenza\nLa Sezione “Trasparenza” nel modello del PNA 2023\nLe cautele data protection e gli ultimi provvedimenti sanzionatori del Garante\nI nuovi obblighi di pubblicazione in materia di contratti pubblici\, con particolare riferimento all’esecuzione del contratto e agli affidamenti PNRR: l’allegato 9 al PNA\nI nuovi obblighi di pubblicazione alla luce delle Linee Guida ANAC di cui al nuovo Codice Appalti (D. Lgs. n. 36/2023)\nGli obblighi di pubblicazione “in stallo”: i dati patrimoniali e reddituali dei dirigenti\nDott. Marcello Faviere\nTAR Toscana \n\n\n		\n	\nDocenti\n	\n		\n			Prof. Avv. Gaetano Caputi\nCapo di Gabinetto\nPresidenza del Consiglio dei Ministri\nProfessore Ordinario\nScuola Nazionale dell’Amministrazione (SNA) \nAvv. Flavio Corsinovi\nAuditor ISO 37001\nResponsabile della Funzione di Conformità per la Prevenzione della Corruzione\nConsulente di Sistemi di Gestione ISO 37001\nFounding Partner\nCorsinovi Mammana \nDott. Marcello Faviere\nMagistrato\nTAR Toscana \nAvv. Domenico Ielo\nFounding Partner\nIelo e Associati \nDott. Alessandro Pastorelli\nDirigente Pubblico\nResponsabile Servizio Ispettorato e Sicurezza e RPCT\nComponente di Organismi Indipendenti di Valutazione\nINAIL \nAvv. Alessio Ubaldi\nFounding Partner\nUB LEGAL Studio Legale Ubaldi\nDocente a contratto di Anticorruzione\, Trasparenza e Contrattualistica pubblica\nScuola Nazionale dell’Amministrazione (SNA) \n\n\n		\n	\nBrochure\n	\n		\n			 Scarica la brochure\n\n		\n	\nIscrizioni e Condizioni\n	\n		\n			Quota di partecipazione \nLa quota di partecipazione in aula virtuale (diretta streaming) include la fruizione in diretta delle docenze\, nonché l’invio\, in formato elettronico\, del materiale didattico che i relatori riterranno di mettere a disposizione. È inoltre prevista la possibilità di presentare in diretta domande e quesiti di specifico interesse a mezzo chat\, nonché di sottoporli in via preventiva\, inviando una email a info@paradigma.it entro il giorno antecedente l’evento. \nIn caso di videoconferenza con accessi multipli è necessario contattare la Segreteria organizzativa per un preventivo personalizzato. \nModalità di funzionamento della videoconferenza \nE’ possibile accedere all’aula virtuale da qualsiasi luogo\, utilizzando il proprio PC o tablet con una semplice connessione a Internet. La piattaforma informatica utilizzata da Paradigma (Adobe Connect) non necessita di requisiti tecnici particolari. \nNei giorni antecedenti l’evento il partecipante riceverà per posta elettronica le credenziali e le istruzioni di accesso. Il giorno dell’evento sarà sufficiente selezionare il link che troverà nella mail e inserire le credenziali per accedere all’aula virtuale. \nDurante gli interventi\, oltre a vedere e sentire i docenti\, è possibile consultare simultaneamente la documentazione predisposta dal relatore. Ogni utente collegato potrà porre domande sulle tematiche affrontate a mezzo chat\, alle quali il docente risponderà nel corso dell’intervento. \nModalità di iscrizione \nL’iscrizione si perfeziona al momento del ricevimento del modulo di registrazione\, da inviare via e-mail all’indirizzo info@paradigma.it\, integralmente compilato. Il numero dei collegamenti disponibili è limitato e la priorità d’iscrizione è determinata dalla data di ricezione del modulo di registrazione. Si consiglia pertanto di effettuare una preiscrizione telefonica. \nModalità di pagamento \nLa quota di partecipazione deve essere versata all’atto della presentazione della richiesta di iscrizione e\, in ogni caso\, prima dell’effettuazione dell’evento formativo\, tramite bonifico bancario intestato a: \nParadigma Srl – Corso Vittorio Emanuele II\, 68 – 10121 Torino\nc/o Banco BPM Spa\nIBAN IT 14 V 05034 01017 000000002530 \nFormazione finanziata \nLa quota di partecipazione può essere completamente rimborsata tramite voucher promossi dai Fondi Paritetici Interprofessionali. Paradigma offre la completa e gratuita gestione delle spese di progettazione\, monitoraggio e rendicontazione. La possibilità di accedere alla formazione finanziata con partecipazione mediante videoconferenza può variare a seconda dell’Ente erogante. \nAttestato di frequenza \nL’attestato di partecipazione nominativo sarà inviato al termine dell’evento formativo ai partecipanti che si sono regolarmente collegati all’aula virtuale. \nDiritto di recesso e modalità di disdetta \nÈ attribuita ai partecipanti la facoltà di recedere ai sensi dell’art. 1373 c.c. Il recesso dovrà essere comunicato in forma scritta almeno sette giorni prima della data di inizio dell’evento formativo (escluso il sabato e la domenica). Qualora la disdetta pervenga oltre tale termine o si verifichi di fatto con il mancato collegamento alla videoconferenza\, la quota di partecipazione sarà addebitata per intero e sarà inviato al partecipante il materiale didattico. In qualunque momento l’azienda o lo studio potranno comunque sostituire il partecipante\, comunicando il nuovo nominativo alla nostra Segreteria organizzativa. \nVariazioni di programma \nParadigma\, per ragioni eccezionali e imprevedibili\, si riserva di annullare o modificare la data dell’evento formativo\, dandone comunicazione agli interessati entro tre giorni dalla data di inizio prevista. In tali casi le quote di partecipazione pervenute verranno rimborsate\, con esclusione di qualsivoglia onere o obbligo a carico di Paradigma. Paradigma si riserva inoltre\, per ragioni sopravvenute e per cause di forza maggiore\, di modificare l’articolazione del programma e di sostituire i docenti previsti con altri docenti di pari livello professionale. \nPer ulteriori informazioni è possibile contattare la Segreteria organizzativa al numero 011.538686 o all’indirizzo e-mail info@paradigma.it. \n\n\n		\n	\n\n\n	\n		\n			Quota di partecipazione\n	\n		\n			€ 1.100 + Iva\n\n		\n	\n\n	\n		\n			In caso di videoconferenza con accessi multipli è necessario contattare la Segreteria organizzativa per un preventivo personalizzato. \n\n		\n	\n\n\n		\n	\n\n	\n		\n			\n\n\n\n\n\n\n	\n		\n			Early booking -20%\nInviando il modulo di iscrizione entro il 6 settembre si avrà diritto a una riduzione del 20% sulla quota di partecipazione.\n \n\n		\n	\n\n\n\n		\n	\n\n	\n		\n			\n\n		\n	\n\n	\n		\n			\n\n		\n	\n\n	\n		\n			\n\n\n\n\n\n\n	\n		\n			Progetto Giovani Eccellenze -50%\nL’adesione all’evento formativo permette di iscrivere una seconda risorsa\, che non abbia compiuto il 30° anno di età e proveniente dalla stessa organizzazione\, con una riduzione del 50% sulla seconda quota di partecipazione. L’agevolazione è calcolata sulla quota ordinaria. \n\n		\n	\n\n\n\n		\n	\n\n	\n		\n			\n\n\n\n\n\n\n	\n		\n			Formazione finanziata\nLa quota di partecipazione all’iniziativa può essere completamente rimborsata tramite voucher promossi dai Fondi Paritetici Interprofessionali. Paradigma offre la completa e gratuita gestione delle spese di progettazione\, monitoraggio e rendiconto. \n\n		\n	\n\n\n\n		\n	\n\n	\n		\n			\n\n\n\n\n\n\n	\n		\n			Mercati elettronici della PA\nParadigma opera sul MePA e sui principali mercati elettronici di soggetti aggregatori e centrali di committenza. \n\n		\n	\n\n\n\n		\n	\n\n	\n		\n			\n	\n\n\n	I campi con (*) sono obbligatori\n	\n		\n		Dati relativi all'evento\n		\n		\n			Partecipazione in aula\n			Partecipazione in videoconferenza\n		\n		\n\n		Dati relativi al richiedente\n		\n		\n		\n		\n		\n		\n		\n		\n\n	\n\n	\n\n		Dati per eventuale partecipante under 30\n		\n		\n		\n\n	\n\n	\n\n		Dati per la fatturazione elettronica\n		\n		\n		\n		\n		\n		\n				\n		\n		\n		  Split Payment:\n          \n            \n              \n              Si \n            No\n          \n        \n		\n		\n		\n		\n	\n\n	\n\n		Per informazioni contattare\n		\n		\n		\n		\n		\n	\n	L'iscrizione all'evento formativo si intende perfezionata al momento del ricevimento\, da parte di Paradigma Srl\, del presente modulo di registrazione compilato in ogni sua parte\, stampato\, firmato e inviato via e-mail all'indirizzo info@paradigma.it. Riceverete via email conferma dell'avvenuta iscrizione. \n\n\n		\n	     Acconsento all'invio di comunicazioni sui servizi Paradigma Srl - Consenso finalizzato\, anche con modalità automatizzate\, all'invio di comunicazioni relative a prodotti e servizi di Paradigma Srl e al fine di ricevere materiale informativo o promozionale.\n	\n	     Acconsento alla personalizzazione delle offerte - Consenso finalizzato\, mediante modalità automatizzate\, a personalizzare i servizi forniti e meglio indirizzare le proposte promozionali grazie ad attività di profilazione.\n	\n	Inviando i dati autorizzi Paradigma Srl a utilizzare i tuoi dati personali per evadere la richiesta di partecipazione all’evento formativo e svolgere le attività a ciò connesse. I dati potranno essere trattati\, per conto di Paradigma Srl\, da dipendenti e collaboratori incaricati di svolgere specifici servizi necessari all’esecuzione delle tue richieste. Il conferimento dei tuoi dati\, pur essendo facoltativo\, si rende necessario per l’esecuzione del servizio richiesto.	\n\n\n\n\n		\n\n\n\n\n\n		\n	\n[/vc_column][/vc_row]
URL:https://paradigma.it/iniziativa/anticorruzione-e-trasparenza-10/
CATEGORIES:Anticorruzione e Trasparenza PA
ORGANIZER;CN="Angela%20Siniscalchi":MAILTO:asiniscalchi@paradigma.it
END:VEVENT
END:VCALENDAR