BEGIN:VCALENDAR
VERSION:2.0
PRODID:-//Paradigma srl - ECPv5.2.1//NONSGML v1.0//EN
CALSCALE:GREGORIAN
METHOD:PUBLISH
X-WR-CALNAME:Paradigma srl
X-ORIGINAL-URL:https://paradigma.it
X-WR-CALDESC:Eventi per Paradigma srl
BEGIN:VTIMEZONE
TZID:Europe/Rome
BEGIN:DAYLIGHT
TZOFFSETFROM:+0100
TZOFFSETTO:+0200
TZNAME:CEST
DTSTART:20230326T010000
END:DAYLIGHT
BEGIN:STANDARD
TZOFFSETFROM:+0200
TZOFFSETTO:+0100
TZNAME:CET
DTSTART:20231029T010000
END:STANDARD
END:VTIMEZONE
BEGIN:VEVENT
DTSTART;TZID=Europe/Rome:20231128T093000
DTEND;TZID=Europe/Rome:20231129T180000
DTSTAMP:20260421T204203
CREATED:20231012T135226Z
LAST-MODIFIED:20231124T134639Z
UID:18984-1701163800-1701280800@paradigma.it
SUMMARY:Annual RPCT
DESCRIPTION:[vc_row][vc_column]\n	\n		\n			\n		\n	\n\n	\n		\n			Responsabile della prevenzione della corruzione e trasparenza \n\nPiano Nazionale Anticorruzione\nAggiornamenti PIAO / PTPCT\nControlli\, monitoraggi e audit del RPCT\nCodici di comportamento\nWhistleblowing\nResponsabilità e sanzioni\n\nI docenti\, nel corso dell’evento formativo\, risponderanno alle domande e alle richieste di chiarimenti formulate dai partecipanti. Eventuali quesiti potranno essere anticipati inviando una email all’indirizzo info@paradigma.it \n \n\n		\n	\n\n	\n		\n			Evento in videoconferenza \n\n		\n	\n\n	\n		\n			28 e 29 novembre 2023 \n\n		\n	\n\n	\n		\n			 \n\n		\n	\n\n	\n		\n			\n\n		\n	\nPresentazioneProgrammaDocentiBrochureIscrizioni e CondizioniPresentazione\n	\n		\n			Contenuti dell’evento \nL’Annual è stato pensato come strumento di approfondimento e supporto operativo in favore del RPCT e delle relative strutture di riferimento a fronte dei (sempre più) numerosi adempimenti previsti dal quadro regolatorio\, nella consapevolezza della saliente attività di vigilanza ANAC e delle difficoltà – anche organizzative – che si oppongono alla implementazione e\, soprattutto\, al monitoraggio di un sistema di controllo interno che possa assumersi\, al tempo stesso\, “efficace” e “sostenibile”. \nNel corso della prima giornata saranno affrontate\, in via trasversale\, le funzioni e le azioni riconducibili alla figura del RPCT\, i rapporti tra il medesimo e i vari soggetti interni ed esterni all’Ente di appartenenza\, le tecniche di monitoraggio e di rendicontazione nonché il governo della trasparenza amministrativa\, anche per ciò che concerne l’accesso civico – semplice e generalizzato – focalizzando l’attenzione sulla best practice di riferimento e sulle criticità più ricorrenti\, e tenuto contro delle recenti novità normative. \nLa seconda giornata sarà dedicata ad una rappresentazione articolata e di esperienze italiane in tema di whistleblowing e codici di comportamento. L’obiettivo del confronto è di individuare\, anche attraverso confronti\, misure efficaci\, sostenibili ed immediatamente. \nDestinatari dell’evento \nL’evento formativo è rivolto ai RPCT\, alla relativa struttura di supporto\, ai Referenti interni e a tutta la linea dirigenziale coinvolta nella progettazione e attuazione del sistema di controllo interno e della trasparenza amministrativa\, provenienti dalle Pubbliche Amministrazioni e dalle diverse entità soggette – in varia misura – ai dettami della Legge n. 190/2012 (società pubbliche\, fondazioni\, associazioni\, autorità di sistema portuale\, etc.). \nObiettivi dell’evento \nObiettivo dell’Annual è fornire ai partecipanti una rappresentazione articolata di strumenti operativi e soluzioni pratiche in tema di anticorruzione e trasparenza amministrativa\, nell’ottica di un pieno adeguamento dei sistemi di controllo interno dei vari Enti alla vigente normativa e prassi di riferimento\, attraverso utili confronti tra esperienze diverse e l’analisi di casi concreti e criticità applicative. \n\n\n		\n	\nProgramma\n	\n		\n			Prima giornata\nMartedì 28 novembre 2023 \nLE PRIORITA’ DEL RPCT \nIl ruolo del RPCT alla luce dei più recenti sviluppi normativi e di prassi\nProf. Avv. Gaetano Caputi\nScuola Nazionale dell’Amministrazione (SNA) \nLe misure di prevenzione in ambito PNRR/PNC: l’antiriciclaggio quale ennesimo presidio 190\nAvv. Domenico Ielo\nIelo e Associati \nLa regolamentazione\, il monitoraggio e la gestione del conflitto di interessi\nAvv. Andrea Marco Colarusso\nUniversità degli Studi di Roma “Foro Italico” \nL’attività di auditing nel sistema anticorruzione: il ruolo del RPCT\, anche in relazione agli altri organi di vigilanza e controllo (Collegio Sindacale\, OIV\, OdV\, Internal Audit\, ecc.)\nDott. Ermelindo Lungaro\nEsperto in Compliance e Risk Management \nL’implementazione del whistleblowing alla luce del D. Lgs. n. 24/2023 e delle Linee Guida ANAC (Delibera n. 311/2023)\nAvv. Flavio Corsinovi\nCorsinovi Mammana \nLe nuove indicazioni del PNA in materia di trasparenza amministrativa e il sistema dei flussi alla nuova BDNCP di ANAC \nAvv. Alessio Ubaldi\nUB LEGAL Studio Legale Ubaldi \n  \nSeconda giornata\nMercoledì 29 novembre 2023 \nESPERIENZE APPLICATIVE PER L’AGGIORNAMENTO DELLE PROCEDURE DI WHISTLEBLOWING E DEI CODICI DI COMPORTAMENTO \nI nuovi Codici di comportamento alla luce delle modifiche al DPR n. 62/2013 (DPR n. 81/2023) e la responsabilità per danno erariale in seno al sistema 190\nPres. Vito Tenore\nCorte dei Conti \nLa compliance integrata 190/231 in un ente pubblico: il modello ESTAR\nDott.ssa Concetta Mazzocchi\nESTAR – Ente di Supporto Tecnico Amministrativo Regionale \nL’aggiornamento della procedura di whistleblowing nel modello universitario\nDott.ssa Loredana Luzzi\nUniversità di Brescia \nL’aggiornamento del Codice di comportamento in INAIL\nDott. Alessandro Pastorelli\nINAIL \n\n\n		\n	\nDocenti\n	\n		\n			Prof. Avv. Gaetano Caputi\nProfessore Ordinario\nScuola Nazionale dell’Amministrazione (SNA)\nCapo di Gabinetto\nPresidenza del Consiglio dei Ministri \nAvv. Andrea Marco Colarusso\nRicercatore di Diritto Amministrativo\nUniversità degli Studi di Roma “Foro Italico” \nAvv. Flavio Corsinovi\nAuditor ISO 37001\nResponsabile della Funzione di Conformità per la Prevenzione della Corruzione\nConsulente di Sistemi di Gestione ISO 37001\nFounding Partner\nCorsinovi Mammana \nAvv. Domenico Ielo\nFounding Partner\nIelo e Associati \nDott. Ermelindo Lungaro\nEsperto in Compliance e Risk Management \nDott.ssa Loredana Luzzi\nDirettore Generale\nUniversità di Brescia \nDott.ssa Concetta Mazzocchi\nDirettore Audit e Compliance\nESTAR – Ente di Supporto Tecnico Amministrativo Regionale \nDott. Alessandro Pastorelli\nDirigente Pubblico\nResponsabile Servizio Ispettorato e Sicurezza e RPCT\nComponente di Organismi Indipendenti di Valutazione\nINAIL \nPres. Vito Tenore\nPresidente di Sezione\nCorte dei Conti Lombardia \nAvv. Alessio Ubaldi\nDocente a contratto di Anticorruzione\, Trasparenza e Contrattualistica Pubblica\nScuola Nazionale dell’Amministrazione (SNA)\nFounding Partner\nUB LEGAL Studio Legale Ubaldi \n\n\n		\n	\nBrochure\n	\n		\n			 Scarica la brochure\n\n		\n	\nIscrizioni e Condizioni\n	\n		\n			Quota di partecipazione \nLa quota di partecipazione in aula virtuale (diretta streaming) include l’invio del materiale didattico in formato elettronico e la possibilità di sottoporre ai relatori quesiti di specifico interesse a mezzo chat. È altresì possibile anticipare domande e richieste di approfondimento inviando una e-mail a info@paradigma.it entro il giorno antecedente l’evento. \nIn caso di videoconferenza con accessi multipli è necessario contattare la Segreteria organizzativa per un preventivo personalizzato. \nModalità di funzionamento della videoconferenza \nE’ possibile accedere all’aula virtuale da qualsiasi luogo\, utilizzando il proprio PC o tablet con una semplice connessione a Internet. La piattaforma informatica utilizzata da Paradigma (Adobe Connect) non necessita di requisiti tecnici particolari. \nNei giorni antecedenti l’evento il partecipante riceverà per posta elettronica le credenziali e le istruzioni di accesso. Il giorno dell’evento sarà sufficiente selezionare il link che troverà nella mail e inserire le credenziali per accedere all’aula virtuale. \nDurante gli interventi\, oltre a vedere e sentire i docenti\, è possibile consultare simultaneamente la documentazione predisposta dal relatore. Ogni utente collegato potrà porre domande sulle tematiche affrontate a mezzo chat\, alle quali il docente risponderà nel corso dell’intervento. \nModalità di iscrizione \nL’iscrizione si perfeziona al momento del ricevimento del modulo di registrazione\, da inviare via e-mail all’indirizzo info@paradigma.it\, integralmente compilato. Il numero dei collegamenti disponibili è limitato e la priorità d’iscrizione è determinata dalla data di ricezione del modulo di registrazione. Si consiglia pertanto di effettuare una preiscrizione telefonica. \nModalità di pagamento \nLa quota di partecipazione deve essere versata all’atto della presentazione della richiesta di iscrizione e\, in ogni caso\, prima dell’effettuazione dell’evento formativo\, tramite bonifico bancario intestato a: \nParadigma Srl – Corso Vittorio Emanuele II\, 68 – 10121 Torino\nc/o Banco BPM Spa\nIBAN IT 14 V 05034 01017 000000002530 \nFormazione finanziata \nLa quota di partecipazione può essere completamente rimborsata tramite voucher promossi dai Fondi Paritetici Interprofessionali. Paradigma offre la completa e gratuita gestione delle spese di progettazione\, monitoraggio e rendicontazione. La possibilità di accedere alla formazione finanziata con partecipazione mediante videoconferenza può variare a seconda dell’Ente erogante. \nAttestato di frequenza \nL’attestato di partecipazione nominativo sarà inviato al termine dell’evento formativo ai partecipanti che si sono regolarmente collegati all’aula virtuale. \nDiritto di recesso e modalità di disdetta \nÈ attribuita ai partecipanti la facoltà di recedere ai sensi dell’art. 1373 c.c. Il recesso dovrà essere comunicato in forma scritta almeno sette giorni prima della data di inizio dell’evento formativo (escluso il sabato e la domenica). Qualora la disdetta pervenga oltre tale termine o si verifichi di fatto con il mancato collegamento alla videoconferenza\, la quota di partecipazione sarà addebitata per intero e sarà inviato al partecipante il materiale didattico. In qualunque momento l’azienda o lo studio potranno comunque sostituire il partecipante\, comunicando il nuovo nominativo alla nostra Segreteria organizzativa. \nVariazioni di programma \nParadigma\, per ragioni eccezionali e imprevedibili\, si riserva di annullare o modificare la data dell’evento formativo\, dandone comunicazione agli interessati entro tre giorni dalla data di inizio prevista. In tali casi le quote di partecipazione pervenute verranno rimborsate\, con esclusione di qualsivoglia onere o obbligo a carico di Paradigma. Paradigma si riserva inoltre\, per ragioni sopravvenute e per cause di forza maggiore\, di modificare l’articolazione del programma e di sostituire i docenti previsti con altri docenti di pari livello professionale. \nPer ulteriori informazioni è possibile contattare la Segreteria organizzativa al numero 011.538686 o all’indirizzo e-mail info@paradigma.it. \n\n\n		\n	\n\n\n	\n		\n			Quota di partecipazione\n	\n		\n			€ 1.100 + Iva una giornata€ 2.050 + Iva due giornate\n\n		\n	\n\n	\n		\n			In caso di videoconferenza con accessi multipli è necessario contattare la Segreteria organizzativa per un preventivo personalizzato. \n\n		\n	\n\n\n		\n	\n\n	\n		\n			\n\n\n\n\n\n\n	\n		\n			Early booking -20%\nInviando il modulo di iscrizione entro il 7 novembre  si avrà diritto a una riduzione del 20% sulla quota di partecipazione. \n\n		\n	\n\n\n\n		\n	\n\n	\n		\n			\n\n		\n	\n\n	\n		\n			\n\n		\n	\n\n	\n		\n			\n\n\n\n\n\n\n	\n		\n			Progetto Giovani Eccellenze -50%\nL’adesione all’evento formativo permette di iscrivere una seconda risorsa\, che non abbia compiuto il 30° anno di età e proveniente dalla stessa organizzazione\, con una riduzione del 50% sulla seconda quota di partecipazione. L’agevolazione è calcolata sulla quota ordinaria. \n\n		\n	\n\n\n\n		\n	\n\n	\n		\n			\n\n\n\n\n\n\n	\n		\n			Formazione finanziata\nLa quota di partecipazione all’iniziativa può essere completamente rimborsata tramite voucher promossi dai Fondi Paritetici Interprofessionali. Paradigma offre la completa e gratuita gestione delle spese di progettazione\, monitoraggio e rendiconto. \n\n		\n	\n\n\n\n		\n	\n\n	\n		\n			\n\n\n\n\n\n\n	\n		\n			Mercati elettronici della PA\nParadigma opera sul MePA e sui principali mercati elettronici di soggetti aggregatori e centrali di committenza. \n\n		\n	\n\n\n\n		\n	\n\n	\n		\n			\n	\n\n\n	I campi con (*) sono obbligatori\n	\n		\n		Dati relativi all'evento\n		\n		\n			Partecipazione in aula\n			Partecipazione in videoconferenza\n		\n		\n\n		Dati relativi al richiedente\n		\n		\n		\n		\n		\n		\n		\n		\n\n	\n\n	\n\n		Dati per eventuale partecipante under 30\n		\n		\n		\n\n	\n\n	\n\n		Dati per la fatturazione elettronica\n		\n		\n		\n		\n		\n		\n				\n		\n		\n		  Split Payment:\n          \n            \n              \n              Si \n            No\n          \n        \n		\n		\n		\n		\n	\n\n	\n\n		Per informazioni contattare\n		\n		\n		\n		\n		\n	\n	L'iscrizione all'evento formativo si intende perfezionata al momento del ricevimento\, da parte di Paradigma Srl\, del presente modulo di registrazione compilato in ogni sua parte\, stampato\, firmato e inviato via e-mail all'indirizzo info@paradigma.it. Riceverete via email conferma dell'avvenuta iscrizione. \n\n\n		\n	     Acconsento all'invio di comunicazioni sui servizi Paradigma Srl - Consenso finalizzato\, anche con modalità automatizzate\, all'invio di comunicazioni relative a prodotti e servizi di Paradigma Srl e al fine di ricevere materiale informativo o promozionale.\n	\n	     Acconsento alla personalizzazione delle offerte - Consenso finalizzato\, mediante modalità automatizzate\, a personalizzare i servizi forniti e meglio indirizzare le proposte promozionali grazie ad attività di profilazione.\n	\n	Inviando i dati autorizzi Paradigma Srl a utilizzare i tuoi dati personali per evadere la richiesta di partecipazione all’evento formativo e svolgere le attività a ciò connesse. I dati potranno essere trattati\, per conto di Paradigma Srl\, da dipendenti e collaboratori incaricati di svolgere specifici servizi necessari all’esecuzione delle tue richieste. Il conferimento dei tuoi dati\, pur essendo facoltativo\, si rende necessario per l’esecuzione del servizio richiesto.	\n\n\n\n\n		\n\n\n\n\n\n		\n	\n[/vc_column][/vc_row]
URL:https://paradigma.it/iniziativa/annual-rpct-2/
CATEGORIES:Anticorruzione e Trasparenza PA
ORGANIZER;CN="Angela%20Siniscalchi":MAILTO:asiniscalchi@paradigma.it
END:VEVENT
END:VCALENDAR