BEGIN:VCALENDAR
VERSION:2.0
PRODID:-//Paradigma srl - ECPv5.2.1//NONSGML v1.0//EN
CALSCALE:GREGORIAN
METHOD:PUBLISH
X-WR-CALNAME:Paradigma srl
X-ORIGINAL-URL:https://paradigma.it
X-WR-CALDESC:Eventi per Paradigma srl
BEGIN:VTIMEZONE
TZID:Europe/Rome
BEGIN:DAYLIGHT
TZOFFSETFROM:+0100
TZOFFSETTO:+0200
TZNAME:CEST
DTSTART:20220327T010000
END:DAYLIGHT
BEGIN:STANDARD
TZOFFSETFROM:+0200
TZOFFSETTO:+0100
TZNAME:CET
DTSTART:20221030T010000
END:STANDARD
END:VTIMEZONE
BEGIN:VEVENT
DTSTART;TZID=Europe/Rome:20220929T093000
DTEND;TZID=Europe/Rome:20220930T180000
DTSTAMP:20260421T165519
CREATED:20220725T101603Z
LAST-MODIFIED:20220927T133355Z
UID:15884-1664443800-1664560800@paradigma.it
SUMMARY:Annual  Risk Manager
DESCRIPTION:[vc_row][vc_column]\n	\n		\n			\n		\n	\n\n	\n		\n			Evento realizzato con il patrocinio di ANRA \nI docenti\, nel corso dell’evento formativo\, risponderanno alle domande e alle richieste di chiarimenti formulate dai partecipanti. Eventuali quesiti potranno essere anticipati inviando una email all’indirizzo info@paradigma.it \n \n\n		\n	\n\n	\n		\n			Evento in videoconferenza \n\n		\n	\n\n	\n		\n			29 e 30 settembre 2022 \n\n		\n	\n\n	\n		\n			 \n\n		\n	\n\n	\n		\n			\n\n		\n	\nPresentazioneProgrammaDocentiBrochureIscrizioni e CondizioniPresentazione\n	\n		\n			Contenuti dell’evento \nNel corso del webinar sarà analizzato\, in via trasversale\, il ruolo del Risk Manager\, alla luce dei nuovi rischi emergenziali (tra cui\, l’aumento del costo delle materie prime\, il conflitto russo-ucraino\, il climate change\, le oscillazioni della pandemica\, etc.)\, delle sfide da affrontare per la ripresa e della criticità sul piano nazionale e sovranazionale. \nIn particolare\, saranno presentato lo scenario di riferimento della funzione\, le forme di raccordo con la governance insieme alla esposizione di rischi e presidi in relazione ai principali settori e aree aziendali\, tra cui i rischi salute e sicurezza\, personale\, reputazionale\, privacy e cyber e digital. \nDestinatari dell’evento \nIl convegno è destinato a tutte le imprese italiane\, con particolare riferimento ai Chief Risk Officer\, ai Risk Manager e Risk Analysts\, all’alta direzione\, agli amministratori\, all’Internal Audit e a tutti i professionisti che svolgono attività di consulenza e implementazione di progetti di ERM. \nObiettivi dell’evento \nIl convegno intende essere un sia focus emergenziale per le aziende dotate della funzione Risk Manager e\, comunque\, per coloro che hanno intrapreso un percorso di ERM\, sia un’occasione di approfondimento per chi desidera un primo approccio\, fornendo gli strumenti e le competenze necessarie per progettare e implementare un efficace framework di Enterprise Risk Management e contribuire a diffondere ed alimentare la cultura del sistema dei controlli attraverso il “governo dei rischi” all’interno delle imprese. \n\n\n		\n	\nProgramma\n	\n		\n			Prima giornata\nGiovedì 29 settembre 2022 \nIl Risk Manager: sfide e opportunità nell’attuale contesto nazionale e internazionale\nDott.ssa Paola Radaelli\nANRA\nStrategica Risk Consulting\n \nI sistemi di raccordo tra Risk Manager e governance aziendale\nDott. Stefano Losio\nMM \nIl presidio dei rischi salute e sicurezza\nAvv. Federico Strada\nDLA Piper \nIl ruolo del Risk Manager nella gestione dei rischi ESG (Environmental\, Social\, Governance)\nDott. Silvio de Girolamo\nSdG for Future Company \nIl Risk Manager nel raccordo con l’Organismo di Vigilanza ex D. Lgs. n. 231/2001\nAvv. Maurizio Monterisi\nLegalitax Studio Legale e Tributario \nIl presidio del rischio privacy e il ruolo del DPO\nDott. Giorgio Casana\nAcciaierie d’Italia \nI modelli di Third Part Risk Management\nDott. Matteo Fidanza\nAngelini Holding \nIl presidio e la valutazione del rischio reputazionale \nAvv. Maurizio Rubini\nEmmeErre Consulting \n  \nSeconda giornata\nVenerdì 30 settembre 2022 \nI rischi derivanti dall’aumento del costo delle materie prime anche in relazione alla crisi russo-ucraina\nProf. Andrea Giacomelli\nUniversità Ca’ Foscari di Venezia \nIl valore aggiunto dell’ERM: un sistema integrato con lo strategy setting e il performance management \nDott. Marco Taddei\nPrimaton \nVerso l’integrated risk assurance: le sfide e i possibili fattori abilitanti\nDott. Gianmarco Gargiulo\nProtiviti\n \nIl whistleblowing quale strategia di prevenzione dei rischi alla luce della nuova Direttiva europea\nAvv. Iole Anna Savini\nTransparency International Italia \nL’ERM e l’integrazione con gli ulteriori presidi di controllo\nDott. Pasquale Vico\nAutostrade per l’Italia \nLa gestione dei rischi nella dinamica dell’ente pubblico\nDott. Alessandro Pastorelli\nINAIL \nLa security awareness: come integrare i cyber risk nel programma di risk management\nDott. Emanuele Greco\nOpentech \n\n\n		\n	\nDocenti\n	\n		\n			Dott.ssa Paola Radaelli\nVice Presidente\nANRA\nSenior Consultant\nStrategica Risk Consulting \nDott. Giorgio Casana\nDirettore Internal Audit\nAcciaierie d’Italia \nDott. Silvio de Girolamo\nFounder\nSdG for Future Company \nDott. Matteo Fidanza\nGroup Risk Manager\nAngelini Holding \nDott. Gianmarco Gargiulo\nManager\nProtiviti \nProf. Andrea Giacomelli\nKnowshape\nUniversità Ca’ Foscari di Venezia \nDott. Emanuele Greco\nOpentech \nDott. Stefano Losio\nRisk Manager\nMM \nAvv. Maurizio Monterisi\nSenior Manager\nLegalitax Studio Legale e Tributario \nDott. Alessandro Pastorelli\nDirigente Pubblico\nRPCT\nINAIL \nAvv. Maurizio Rubini\nFounding Partner\nEmmeErre Consulting \nAvv. Iole Anna Savini\nPartner\nStudio Legale Savini\nPresidente di Transparency International Italia \nAvv. Federico Strada\nLead Lawyer\nDLA Piper \nDott. Marco Taddei\nHead of Risk\, Compliance & AML\nPrimaton \nDott. Pasquale Vico\nResponsabile Risk Management\nAutostrade per l’Italia \n\n\n		\n	\nBrochure\n	\n		\n			 Scarica la brochure\n\n		\n	\nIscrizioni e Condizioni\n	\n		\n			Quota di partecipazione \nLa quota di partecipazione in aula virtuale (diretta streaming) include l’invio del materiale didattico in formato elettronico e la possibilità di sottoporre ai relatori quesiti di specifico interesse a mezzo chat. È altresì possibile anticipare domande e richieste di approfondimento inviando una e-mail a info@paradigma.it entro il giorno antecedente l’evento. \nIn caso di videoconferenza con accessi multipli è necessario contattare la Segreteria organizzativa per un preventivo personalizzato. \nModalità di funzionamento della videoconferenza \nE’ possibile accedere all’aula virtuale da qualsiasi luogo\, utilizzando il proprio PC o tablet con una semplice connessione a Internet. La piattaforma informatica utilizzata da Paradigma (Adobe Connect) non necessita di requisiti tecnici particolari. \nNei giorni antecedenti l’evento il partecipante riceverà per posta elettronica le credenziali e le istruzioni di accesso. Il giorno dell’evento sarà sufficiente selezionare il link che troverà nella mail e inserire le credenziali per accedere all’aula virtuale. \nDurante gli interventi\, oltre a vedere e sentire i docenti\, è possibile consultare simultaneamente la documentazione predisposta dal relatore. Ogni utente collegato potrà porre domande sulle tematiche affrontate a mezzo chat\, alle quali il docente risponderà nel corso dell’intervento. \nModalità di iscrizione \nL’iscrizione si perfeziona al momento del ricevimento del modulo di registrazione\, da inviare via e-mail all’indirizzo info@paradigma.it\, integralmente compilato. Il numero dei collegamenti disponibili è limitato e la priorità d’iscrizione è determinata dalla data di ricezione del modulo di registrazione. Si consiglia pertanto di effettuare una preiscrizione telefonica. \nModalità di pagamento \nLa quota di partecipazione deve essere versata all’atto della presentazione della richiesta di iscrizione e\, in ogni caso\, prima dell’effettuazione dell’intervento formativo\, tramite bonifico bancario intestato a: \nParadigma Srl – Corso Vittorio Emanuele II\, 68 – 10121 Torino\nc/o Banco BPM Spa\nIBAN IT 14 V 05034 01017 000000002530 \nFormazione finanziata \nLa quota di partecipazione può essere completamente rimborsata tramite voucher promossi dai Fondi Paritetici Interprofessionali. Paradigma offre la completa e gratuita gestione delle spese di progettazione\, monitoraggio e rendicontazione. La possibilità di accedere alla formazione finanziata con partecipazione mediante videoconferenza può variare a seconda dell’Ente erogante. \nAttestato di frequenza \nL’attestato di partecipazione nominativo sarà inviato al termine dell’intervento formativo ai partecipanti che si sono regolarmente collegati all’aula virtuale. \nDiritto di recesso e modalità di disdetta \nÈ attribuita ai partecipanti la facoltà di recedere ai sensi dell’art. 1373 c.c. Il recesso dovrà essere comunicato in forma scritta almeno sette giorni prima della data di inizio dell’evento formativo (escluso il sabato e la domenica). Qualora la disdetta pervenga oltre tale termine o si verifichi di fatto con il mancato collegamento alla videoconferenza\, la quota di partecipazione sarà addebitata per intero e sarà inviato al partecipante il materiale didattico. In qualunque momento l’azienda o lo studio potranno comunque sostituire il partecipante\, comunicando il nuovo nominativo alla nostra Segreteria organizzativa. \nVariazioni di programma \nParadigma\, per ragioni eccezionali e imprevedibili\, si riserva di annullare o modificare la data dell’evento formativo\, dandone comunicazione agli interessati entro tre giorni dalla data di inizio prevista. In tali casi le quote di partecipazione pervenute verranno rimborsate\, con esclusione di qualsivoglia onere o obbligo a carico di Paradigma. Paradigma si riserva inoltre\, per ragioni sopravvenute e per cause di forza maggiore\, di modificare l’articolazione del programma e di sostituire i docenti previsti con altri docenti di pari livello professionale. \nPer ulteriori informazioni è possibile contattare la Segreteria organizzativa al numero 011.538686 o all’indirizzo e-mail info@paradigma.it. \n\n\n		\n	\n\n\n	\n		\n			Quota di partecipazione\n	\n		\n			€ 1.100 + Iva una giornata€ 2.050 + Iva due giornate\n\n		\n	\n\n	\n		\n			In caso di videoconferenza con accessi multipli è necessario contattare la Segreteria organizzativa per un preventivo personalizzato. \n\n		\n	\n\n\n		\n	\n\n	\n		\n			\n\n\n\n\n\n\n	\n		\n			Early booking -20%\nInviando il modulo di iscrizione entro l’8 settembre si avrà diritto a una riduzione del 20% sulla quota di partecipazione. \n\n		\n	\n\n\n\n		\n	\n\n	\n		\n			\n\n		\n	\n\n	\n		\n			\n\n		\n	\n\n	\n		\n			\n\n\n\n\n\n\n	\n		\n			Progetto Giovani Eccellenze -50%\nL’adesione all’evento formativo permette di iscrivere una seconda risorsa\, che non abbia compiuto il 30° anno di età e proveniente dalla stessa organizzazione\, con una riduzione del 50% sulla seconda quota di partecipazione. L’agevolazione è calcolata sulla quota ordinaria. \n\n		\n	\n\n\n\n		\n	\n\n	\n		\n			\n\n\n\n\n\n\n	\n		\n			Formazione finanziata\nLa quota di partecipazione all’iniziativa può essere completamente rimborsata tramite voucher promossi dai Fondi Paritetici Interprofessionali. Paradigma offre la completa e gratuita gestione delle spese di progettazione\, monitoraggio e rendiconto. \n\n		\n	\n\n\n\n		\n	\n\n	\n		\n			\n\n\n\n\n\n\n	\n		\n			Mercati elettronici della PA\nParadigma opera sul MePA e sui principali mercati elettronici di soggetti aggregatori e centrali di committenza. \n\n		\n	\n\n\n\n		\n	\n\n	\n		\n			\n	\n\n\n	I campi con (*) sono obbligatori\n	\n		\n		Dati relativi all'evento\n		\n		\n			Partecipazione in aula\n			Partecipazione in videoconferenza\n		\n		\n\n		Dati relativi al richiedente\n		\n		\n		\n		\n		\n		\n		\n		\n\n	\n\n	\n\n		Dati per eventuale partecipante under 30\n		\n		\n		\n\n	\n\n	\n\n		Dati per la fatturazione elettronica\n		\n		\n		\n		\n		\n		\n				\n		\n		\n		  Split Payment:\n          \n            \n              \n              Si \n            No\n          \n        \n		\n		\n		\n		\n	\n\n	\n\n		Per informazioni contattare\n		\n		\n		\n		\n		\n	\n	L'iscrizione all'evento formativo si intende perfezionata al momento del ricevimento\, da parte di Paradigma Srl\, del presente modulo di registrazione compilato in ogni sua parte\, stampato\, firmato e inviato via e-mail all'indirizzo info@paradigma.it. Riceverete via email conferma dell'avvenuta iscrizione. \n\n\n		\n	     Acconsento all'invio di comunicazioni sui servizi Paradigma Srl - Consenso finalizzato\, anche con modalità automatizzate\, all'invio di comunicazioni relative a prodotti e servizi di Paradigma Srl e al fine di ricevere materiale informativo o promozionale.\n	\n	     Acconsento alla personalizzazione delle offerte - Consenso finalizzato\, mediante modalità automatizzate\, a personalizzare i servizi forniti e meglio indirizzare le proposte promozionali grazie ad attività di profilazione.\n	\n	Inviando i dati autorizzi Paradigma Srl a utilizzare i tuoi dati personali per evadere la richiesta di partecipazione all’evento formativo e svolgere le attività a ciò connesse. I dati potranno essere trattati\, per conto di Paradigma Srl\, da dipendenti e collaboratori incaricati di svolgere specifici servizi necessari all’esecuzione delle tue richieste. Il conferimento dei tuoi dati\, pur essendo facoltativo\, si rende necessario per l’esecuzione del servizio richiesto.	\n\n\n\n\n		\n\n\n\n\n\n		\n	\n[/vc_column][/vc_row]
URL:https://paradigma.it/iniziativa/annual-risk-manager-2/
CATEGORIES:Compliance, controlli e internal audit
ORGANIZER;CN="Veronica%20Spiez":MAILTO:vspiez@paradigma.it
END:VEVENT
END:VCALENDAR