BEGIN:VCALENDAR
VERSION:2.0
PRODID:-//Paradigma srl - ECPv5.2.1//NONSGML v1.0//EN
CALSCALE:GREGORIAN
METHOD:PUBLISH
X-WR-CALNAME:Paradigma srl
X-ORIGINAL-URL:https://paradigma.it
X-WR-CALDESC:Eventi per Paradigma srl
BEGIN:VTIMEZONE
TZID:Europe/Rome
BEGIN:DAYLIGHT
TZOFFSETFROM:+0100
TZOFFSETTO:+0200
TZNAME:CEST
DTSTART:20250330T010000
END:DAYLIGHT
BEGIN:STANDARD
TZOFFSETFROM:+0200
TZOFFSETTO:+0100
TZNAME:CET
DTSTART:20251026T010000
END:STANDARD
END:VTIMEZONE
BEGIN:VEVENT
DTSTART;TZID=Europe/Rome:20251118T093000
DTEND;TZID=Europe/Rome:20251118T180000
DTSTAMP:20260419T171559
CREATED:20251010T142944Z
LAST-MODIFIED:20251114T111251Z
UID:25286-1763458200-1763488800@paradigma.it
SUMMARY:Annual Internal Audit
DESCRIPTION:[vc_row][vc_column]\n	\n		\n			\n		\n	\n\n	\n		\n			I nuovi standard IA\nI compiti e le responsabilità\nI rapporti con le altre funzioni aziendali\nL’evoluzione della figura e le ultime frontiere\nRuolo della funzione e presidio dei rischi aziendali\nGli strumenti della Digital transformation  \n \n\n		\n	\n\n	\n		\n			09.30 - 13.30  14.30 - 18.00 \n\n		\n	\n\n	\n		\n			Evento in diretta streaming \n\n		\n	\n\n	\n		\n			 \n\n		\n	\n\n	\n		\n			\n\n		\n	\nPresentazioneProgrammaDocentiBrochureIscrizioni e CondizioniPresentazione\n	\n		\n			Contenuti dell’evento \nLa giornata di studio offre una accurata disamina del ruolo dell’Internal Audit alla luce dell’evoluzione dei processi di impresa nella nuova era digitale. \nIn particolare\, nell’ambito della giornata di studio saranno affrontati i temi inerenti ai compiti dell’Internal Audit in relazione ai diversi livelli di sistema\, ai rapporti tra Internal Audit\, Comitato Controllo e Rischi\, Collegio Sindacale\, alle linee di confine con il sistema 231 e con gli altri livelli di controllo aziendale. \nÈ altresì in programma un’interessante tavola rotonda in occasione della quale si discuterà dell’evoluzione della funzione dell’Internal Audit anche alla luce delle esigenze di allineamento alle strategie aziendali e raggiungimento degli obiettivi. \nParticolare attenzione sarà dedicata agli impatti della nuova normativa in materia di privacy nonché all’utilizzo di strumenti della digital tansfromation a supporto della funzione. \nDestinatari dell’evento \nL’evento formativo è rivolto agli Internal Auditor e Manager di imprese provenienti dai diversi settori\, anche vigilati\, e a tutti i professionisti che operano a supporto degli Internal Audit. \nObiettivi dell’evento \nObiettivo della giornata di studio è fornire ai partecipanti una rappresentazione articolata del ruolo\, della struttura e dei compiti dell’Internal Audit oggi\, anche mediante la descrizione di esperienze\, strumenti operativi\, indicazioni pratiche e l’analisi della casistica più ricorrente. \n\n\n		\n	\nProgramma\n	\n		\n			Martedì 18 novembre 2025 \nIl rapporto con gli altri attori del sistema di controllo aziendale\nIl rapporto con i controlli di linea\nIl rapporto con i controlli di secondo livello: funzione di compliance e altre funzioni preposte a controlli di qualità (attività di controllo esecuzione opere)\nIl responsabile dei controlli interni e il Dirigente preposto alla redazione dei documenti contabili\nStrutture previste da normative settoriali o da common practices (Chief Risk Officer\, Risk Committee\, Ethics Committee\, ecc.)\nDott.ssa Manuela Sabbatini\nCassa Depositi e Prestiti \nI compiti del Responsabile dell’Internal Audit\nL’origine della funzione di Internal Audit\nI tre livelli del sistema di controllo\nIl Mandato e la Policy dell’Internal Audit\nLa predisposizione del piano di audit\nL’accesso alle informazioni utili per lo svolgimento dell’incarico\nLe relazioni periodiche sulla propria attività e la valutazione sull’adeguatezza e sull’idoneità del sistema di controllo interno e di gestione dei rischi\nIl Responsabile dell’Internal Audit e l’attività di advisor delle funzioni di primo e secondo livello\nAvv. Maurizio Rubini\nEmmeErre Consulting \nI nuovi Internal Audit Standards: una visione strategica per il futuro \n• struttura dei nuovi standard internazionali\n• impatto dei nuovi standard sulla strategia della funzione di Internal Audit\nDott. Francesco Cagnetti\nENAV \nLa rilevanza\, il perimetro e le logiche del Fraud Audit\nDott.ssa Silvia Volpe\nPolo Strategico Nazionale \nTemi Emergenti della Professione di Internal Auditor e l’esperienza in ADR: come la Funzione Internal Audit affronta le novità\n• Nuovi Standard Internazionali per l’Internal Audit\no Introduzione ai Global Internal Audit Standards 2024\no Cambiamenti principali e impatti operativi\n• La QAIP come “bussola” per il miglioramento continuo della Funzione Internal Audit\no L’attenzione alla generazione di valore per gli stakeholder\, ma anche alla “crescita” del team di audit\n• La “Combined Assurance” come approccio integrato alla gestione dei rischi\nDott. Valerio Giannetti\nAeroporti Di Roma \nInternal Auditing new GIAS & Emerging Trends (AI\, ESG auditing\, advisory) \nDott.ssa Elisa Tarantola\nITA Airways \nLe novità dei nuovi standard IA: la “root cause analysis” per migliorare l’efficacia dell’audit interno e garantire una risoluzione efficace dei problemi e il miglioramento dei processi\nDott. Alessandro Pastorelli\nINAIL \nDall’analisi dei processi ai controlli predittivi: un possibile percorso evolutivo della funzione di Internal Audit nell’era dell’Intelligenza Artificiale\nSpunti pratici e possibili applicazioni per migliorare efficienza e efficacia nell’attività di audit\nDott. Gianmarco Gargiulo\nPROTIVITI \n\n\n		\n	\nDocenti\n	\n		\n			Dott. Francesco Cagnetti\nDirettore Internal Audit\nENAV \nDott. Gianmarco Gargiulo\nAssociate Director\nPROTIVITI \nDott. Valerio Giannetti\nHead of Management & Support Processes Audit\nAeroporti Di Roma \nDott. Alessandro Pastorelli\nRPCT\nINAIL \nAvv. Maurizio Rubini\nFounding Partner\nEmmeErre Consulting \nDott.ssa Manuela Sabbatini\nDirettore Internal Audit\nCassa Depositi e Prestiti \nDott.ssa Elisa Tarantola\nResponsabile Internal Audit\nITA Airways \nDott.ssa Silvia Volpe\nChief Audit Officer\nPolo Strategico Nazionale \n\n\n		\n	\nBrochure\n	\n		\n			 Scarica la brochure\n\n		\n	\nIscrizioni e Condizioni\n	\n		\n			Quota di partecipazione \nLa quota di partecipazione in diretta streaming include la fruizione degli interventi\, nonché la possibilità di scaricare\, in formato elettronico\, il materiale didattico che i relatori riterranno di mettere a disposizione. \nÈ inoltre prevista la possibilità di rivolgere contestualmente domande ai docenti (attivando il proprio microfono o tramite chat)\, oppure sottoporle in via preventiva\, inviando una e-mail a info@paradigma.it entro il giorno antecedente l’evento. \nIn caso di diretta streaming con accessi multipli è necessario contattare la Segreteria Organizzativa per un preventivo personalizzato. \nModalità di funzionamento della diretta streaming \nLe iniziative formative sono fruibili in diretta streaming attraverso un semplice collegamento alla piattaforma dedicata. La piattaforma è strutturata per garantire un ottimo livello di fruizione e interazione e non necessita di particolari requisiti tecnici. \nAlcuni giorni prima dell’evento il partecipante riceve le istruzioni di accesso e sarà sufficiente selezionare il link ricevuto per accedere all’aula virtuale. \nGli interventi in diretta streaming sono supportati dalle slide predisposte dal docente. Ogni utente collegato potrà intervenire formulando domande o richieste di approfondimento attivando il proprio microfono o utilizzando la chat dedicata. \nModalità di iscrizione \nL’iscrizione si perfeziona al momento del ricevimento del modulo di registrazione\, da inviare via e-mail all’indirizzo info@paradigma.it\, integralmente compilato e sottoscritto. Il numero dei collegamenti disponibili è limitato e la priorità d’iscrizione è determinata dalla data di ricezione del modulo di registrazione. Si consiglia pertanto di effettuare una preiscrizione telefonica. \nModalità di pagamento \nLa quota di partecipazione deve essere versata all’atto della presentazione della richiesta di iscrizione e\, in ogni caso\, prima dell’effettuazione dell’evento formativo\, tramite bonifico bancario intestato a: \nParadigma Srl – Corso Vittorio Emanuele II\, 68 – 10121 Torino\nc/o Banco BPM Spa\nIBAN IT 14 V 05034 01017 000000002530 \nFormazione finanziata \nLa quota di partecipazione può essere completamente rimborsata tramite voucher promossi dai Fondi Paritetici Interprofessionali. Paradigma offre la completa e gratuita gestione delle spese di progettazione\, monitoraggio e rendicontazione. La possibilità di accedere alla formazione finanziata con partecipazione mediante diretta streaming può variare a seconda dell’Ente erogante. \nAttestato di frequenza \nL’attestato di partecipazione nominativo sarà inviato al termine dell’evento formativo ai partecipanti che si sono regolarmente collegati all’aula virtuale. \nDiritto di recesso e modalità di disdetta \nÈ attribuita ai partecipanti la facoltà di recedere ai sensi dell’art. 1373 c.c. Il recesso dovrà essere comunicato in forma scritta almeno sette giorni prima della data di inizio dell’evento formativo (escluso il sabato e la domenica). Qualora la disdetta pervenga oltre tale termine o si verifichi di fatto con il mancato collegamento alla diretta streaming\, la quota di partecipazione sarà addebitata per intero e sarà inviato al partecipante il materiale didattico e\, se disponibile e per un periodo limitato\, la registrazione dell’evento. In qualunque momento l’azienda o lo studio potranno comunque sostituire il partecipante\, comunicando il nuovo nominativo alla nostra Segreteria Organizzativa. \nVariazioni di programma \nParadigma\, per ragioni eccezionali e imprevedibili\, si riserva di annullare o modificare la data dell’evento formativo\, dandone comunicazione agli interessati entro tre giorni dalla data di inizio prevista. In tali casi le quote di partecipazione pervenute verranno rimborsate\, con esclusione di qualsivoglia onere o obbligo a carico di Paradigma. Paradigma si riserva inoltre\, per ragioni sopravvenute e per cause di forza maggiore\, di modificare l’articolazione del programma e di sostituire i docenti previsti con altri docenti di pari livello professionale. \nPer ulteriori informazioni è possibile contattare la Segreteria Organizzativa al numero 011.538686 o all’indirizzo e-mail info@paradigma.it. \n\n\n		\n	\n\n\n	\n		\n			Quota di partecipazione\n	\n		\n			€ 1.100 + Iva\n\n		\n	\n\n	\n		\n			In caso di videoconferenza con accessi multipli è necessario contattare la Segreteria organizzativa per un preventivo personalizzato. \n\n		\n	\n\n\n		\n	\n\n	\n		\n			\n\n\n\n\n\n\n	\n		\n			Early booking -20%\nInviando il modulo di iscrizione entro il 28 ottobre si avrà diritto a una riduzione del 20% sulla quota di partecipazione. \n\n		\n	\n\n\n\n		\n	\n\n	\n		\n			\n\n\n\n\n\n\n	\n		\n			Quota corporate\nIscrivi all’evento 5 o più risorse provenienti dalla stessa organizzazione con una riduzione del 50%. \n\n		\n	\n\n\n\n		\n	\n\n	\n		\n			\n\n		\n	\n\n	\n		\n			\n\n\n\n\n\n\n	\n		\n			Progetto Giovani Eccellenze -50%\nL’adesione all’evento formativo permette di iscrivere una seconda risorsa\, che non abbia compiuto il 30° anno di età e proveniente dalla stessa organizzazione\, con una riduzione del 50% sulla seconda quota di partecipazione. L’agevolazione è calcolata sulla quota ordinaria. \n\n		\n	\n\n\n\n		\n	\n\n	\n		\n			\n\n\n\n\n\n\n	\n		\n			Formazione finanziata\nLa quota di partecipazione all’iniziativa può essere completamente rimborsata tramite voucher promossi dai Fondi Paritetici Interprofessionali. Paradigma offre la completa e gratuita gestione delle spese di progettazione\, monitoraggio e rendiconto. \n\n		\n	\n\n\n\n		\n	\n\n	\n		\n			\n\n\n\n\n\n\n	\n		\n			Mercati elettronici della PA\nParadigma opera sul MePA e sui principali mercati elettronici di soggetti aggregatori e centrali di committenza. \n\n		\n	\n\n\n\n		\n	\n\n	\n		\n			\n	\n\n\n	I campi con (*) sono obbligatori\n	\n		\n		Dati relativi all'evento\n		\n		\n			Partecipazione in aula\n			Partecipazione in videoconferenza\n		\n		\n\n		Dati relativi al richiedente\n		\n		\n		\n		\n		\n		\n		\n		\n\n	\n\n	\n\n		Dati per eventuale partecipante under 30\n		\n		\n		\n\n	\n\n	\n\n		Dati per la fatturazione elettronica\n		\n		\n		\n		\n		\n		\n				\n		\n		\n		  Split Payment:\n          \n            \n              \n              Si \n            No\n          \n        \n		\n		\n		\n		\n	\n\n	\n\n		Per informazioni contattare\n		\n		\n		\n		\n		\n	\n	L'iscrizione all'evento formativo si intende perfezionata al momento del ricevimento\, da parte di Paradigma Srl\, del presente modulo di registrazione compilato in ogni sua parte\, stampato\, firmato e inviato via e-mail all'indirizzo info@paradigma.it. Riceverete via email conferma dell'avvenuta iscrizione. \n\n\n		\n	     Acconsento all'invio di comunicazioni sui servizi Paradigma Srl - Consenso finalizzato\, anche con modalità automatizzate\, all'invio di comunicazioni relative a prodotti e servizi di Paradigma Srl e al fine di ricevere materiale informativo o promozionale.\n	\n	     Acconsento alla personalizzazione delle offerte - Consenso finalizzato\, mediante modalità automatizzate\, a personalizzare i servizi forniti e meglio indirizzare le proposte promozionali grazie ad attività di profilazione.\n	\n	Inviando i dati autorizzi Paradigma Srl a utilizzare i tuoi dati personali per evadere la richiesta di partecipazione all’evento formativo e svolgere le attività a ciò connesse. I dati potranno essere trattati\, per conto di Paradigma Srl\, da dipendenti e collaboratori incaricati di svolgere specifici servizi necessari all’esecuzione delle tue richieste. Il conferimento dei tuoi dati\, pur essendo facoltativo\, si rende necessario per l’esecuzione del servizio richiesto.	\n\n\n\n\n		\n\n\n\n\n\n		\n	\n[/vc_column][/vc_row]
URL:https://paradigma.it/iniziativa/annual-internal-audit-6/
CATEGORIES:Compliance, controlli e internal audit
ORGANIZER;CN="Veronica%20Spiez":MAILTO:vspiez@paradigma.it
END:VEVENT
END:VCALENDAR