BEGIN:VCALENDAR
VERSION:2.0
PRODID:-//Paradigma srl - ECPv5.2.1//NONSGML v1.0//EN
CALSCALE:GREGORIAN
METHOD:PUBLISH
X-WR-CALNAME:Paradigma srl
X-ORIGINAL-URL:https://paradigma.it
X-WR-CALDESC:Eventi per Paradigma srl
BEGIN:VTIMEZONE
TZID:Europe/Rome
BEGIN:DAYLIGHT
TZOFFSETFROM:+0100
TZOFFSETTO:+0200
TZNAME:CEST
DTSTART:20220327T010000
END:DAYLIGHT
BEGIN:STANDARD
TZOFFSETFROM:+0200
TZOFFSETTO:+0100
TZNAME:CET
DTSTART:20221030T010000
END:STANDARD
END:VTIMEZONE
BEGIN:VEVENT
DTSTART;TZID=Europe/Rome:20220608T093000
DTEND;TZID=Europe/Rome:20220609T163000
DTSTAMP:20260421T145640
CREATED:20220218T151242Z
LAST-MODIFIED:20220606T095835Z
UID:14855-1654680600-1654792200@paradigma.it
SUMMARY:Annual 2022  Funzione DPO
DESCRIPTION:[vc_row][vc_column]\n	\n		\n			\n		\n	\n\n	\n		\n			\nIndividuazione del DPO\, nomina e rapporti contrattuali\nRapporti del DPO con gli altri organi di controllo e implementazione dei flussi informativi\nAttività del DPO in chiave data protection alla luce dei più recenti orientamenti dell’EDPB e delle Autorità di controllo nazionali\n\nI docenti\, nel corso dell’evento formativo\, risponderanno alle domande e alle richieste di chiarimenti formulate dai partecipanti. Eventuali quesiti potranno essere anticipati inviando una email all’indirizzo info@paradigma.it \nEvento realizzato in collaborazione con\nUGI – Unione GIuristi per l’Impresa \n \n\n		\n	\n\n	\n		\n			Evento in videoconferenza \n\n		\n	\n\n	\n		\n			8 e 9 giugno 2022 \n\n		\n	\n\n	\n		\n			 \n\n		\n	\n\n	\n		\n			\n\n		\n	\nPresentazioneProgrammaDocentiBrochureIscrizioni e CondizioniPresentazione\n	\n		\n			Contenuti dell’evento \nL’iniziativa annuale di Paradigma dedicata alla funzione del DPO si propone di effettuare una disamina completa di ruolo\, funzioni\, rapporti con soggetti interni e esterni all’organizzazione per la quale opera e adempimenti\, passandone pertanto in rassegna tanto gli aspetti “statici” quanto quelli “dinamici”\, con l’approfondimento\, specie nella seconda giornata\, delle specifiche attività che ne prevedono il coinvolgimento. Un’apposita sessione è inoltre specificamente dedicata al ruolo del DPO negli ambiti connotati da significativa presenza di innovazioni IT (rubricata\, appunto\, «Il DPO nell’ “ecosistema digitale”»). \nL’evento\, oltre a mettere a fuoco lo stato dell’arte della normativa applicabile e della prassi applicativa più rilevante da parte delle organizzazioni\, costituirà l’occasione per un confronto operativo sugli aspetti più critici dell’operatività del DPO. I temi verranno sviluppati da parte di autorevoli esperti di compliance data protection\, molti dei quali svolgono anche l’incarico di DPO o di supporto esterno ai DPO di talune organizzazioni. \nDestinatari dell’evento  \nIl convegno è rivolto ai Data Protection Officer di imprese\, pubbliche amministrazioni e altre realtà organizzative\, nonchè ai soggetti che\, attuali Responsabili o Addetti alle funzioni di Compliance\, Affari Legali\, Affari Istituzionali e Regolamentari o liberi professionisti attivi nei suddetti ambiti o in ambito Privacy\, intendono completare o aggiornare la propria formazione circa ruolo e attività del DPO in vista di possibili futuri incarichi. \nGli obiettivi  \nL’incontro è stato pensato come occasione di formazione e aggiornamento sui profili organizzativi e operativi della funzione DPO. Nel corso dell’iniziativa\, attraverso l’analisi di problematiche e casi concreti\, si solleciterà il coinvolgimento dei partecipanti a momenti di discussione e di problem solving. \n\n\n		\n	\nProgramma\n	\n		\n			Prima giornata\nMercoledì 8 giugno 2022 \nFUNZIONE DPO E ASSETTI INTERNI DELL’ORGANIZZAZIONE \nLa scelta del DPO\nLe qualità professionali\nDPO interno o esterno\nLe incompatibilità e i conflitti di interesse (Linee Guida europee\, Documento di indirizzo del Garante del 29 aprile 2021\, DPO esterno che fornisce servizi IT quale responsabile)\nBandi\, designazione e contratto di servizio del DPO \nIl DPO come propulsore della privacy nelle organizzazioni\nIl ruolo “consulenziale” in ambito privacy del DPO all’interno della struttura: estensione e limiti\nIl compito di sorvegliare l’osservanza del GDPR\nLa promozione nella struttura di un approccio basato sul rischio anche in ambito privacy\nLe relazioni e gli audit del DPO\nIl DPO in ambito pubblico: nuove incombenze dopo il D.L. n. 139/2021? I casi in cui la finalità del trattamento non è espressamente prevista da una norma di legge o di regolamento \nLe risorse del DPO\nIl budget a disposizione del DPO\nLe spese per la formazione e l’aggiornamento proprio e del personale aziendale \nLa cooperazione con il Garante e la funzione di punto di contatto\nCome il DPO deve rapportarsi con l’Autorità di controllo \nAvv. Federico Sartore\nPanetta Studio Legale \n  \nI rapporti del DPO con gli altri organi di controllo aziendale e l’implementazione dei flussi informativi\nLa definizione di un’apposita procedura che disciplini i rapporti del DPO con gli altri organi di controllo aziendale: Internal Audit\, OdV 231\, Compliance\, RSPP\, Collegio sindacale\, revisori\, responsabile sistemi di gestione\, responsabile della conservazione\nL’implementazione dei flussi informativi attivati dal DPO\, di cui il DPO è destinatario o che lo coinvolgono \nI rapporti tra il DPO e gli altri soggetti titolari di funzioni e responsabilità in ambito privacy\nIl RPD e il/i responsabile/i del trattamento\nIl RPD e le persone autorizzate ex art. 29\nIl RPD e il CEO (e/o l’amministratore munito delle deleghe per la privacy) \nIl DPO e la promozione delle certificazioni all’interno dell’organizzazione\nLa prima opinion dell’EDPB su uno schema generale di certificazione (2/2/2022)\nL’attestazione indipendente di organismi di certificazione accreditati \nAvv. Ugo Ettore Di Stefano\nLexellent \n  \nIL DPO NELL’ “ECOSISTEMA DIGITALE” \nLe attività di supporto e verifica del DPO in relazione alla gestione dei servizi in Cloud\nLa applicazione del GDPR ai servizi in Cloud e il nuovo Codice di condotta CISPE\nVerifica dei trattamenti di dati affidati in Cloud e dei requisiti e ruolo privacy del provider\nCheck su obblighi e garanzie in materia di protezione dati assunte nell’ambito dei contratti di servizi\nCheck su rischi privacy e misure di sicurezza dei dati \nCoinvolgimento e il ruolo del DPO nella verifica dei contratti con gli ulteriori fornitori IT\nI check da effettuare per accertare la piena compliance delle forniture IT con la normativa data protection\nIl monitoraggio sulle misure tecniche e organizzative adottate dal fornitore IT che operi quale responsabile del trattamento \nIl ruolo del DPO nella gestione dei data breach alla luce anche delle nuove Linee Guida EDPB n. 1/2021 \nAvv. Giovanni Guerra\nStudio Legale Guerra-Ricchiuto \n  \nSeconda giornata\nGiovedì 9 giugno 2022 \nFOCUS SULLE CONCRETE ATTIVITÀ DEL DPO IN CHIAVE DATA PROTECTION \nIl DPO e il riscontro all’esercizio dei diritti degli interessati\nI diritti degli interessati nel GDPR e nelle Linee Guida EDPB (da ultimo\, Linee Guida n. 1/2022\, in pubblica consultazione\, sul diritto di accesso)\nL’imprescindibilità di una procedura interna di gestione delle richieste degli interessati relative all’esercizio di loro diritti\nIl ruolo del DPO rispetto alla gestione delle richieste\nL’eventualità di divergenze interne sulla gestione delle richieste e la posizione del DPO \nIl DPO e la gestione interna dei reclami in ambito privacy \nL’importanza del registro del trattamento nella compliance data protection \nDott. Riccardo Acciai\nGarante per la Protezione dei Dati Personali \n  \nIl DPO rispetto al DPIA\nCome si fa un DPIA e qual è l’apporto del DPO all’assessment \nAvv. Giuseppe Vaciago\n42 Law Firm \n  \nIl trasferimento dei dati extra-UE e le relative attività del DPO\nLe clausole contrattuali tipo adottate dalla Commissione UE il 4 giugno 2021\nLe Linee Guida EDPB n. 4/2021 sui codici di condotta quali strumento per i trasferimenti di dati personali nel quadro della regolazione complessiva del fenomeno del trasferimento di dati extra UE \nProf. Avv. Alessandro Del Ninno\nLUISS Guido Carli di Roma\nStudio Legale Tonucci & Partners \n  \nIl DPO e le innovazioni in atto incidenti sull’attività di profilazione e di marketing\nL’uso dei dati personali per finalità di marketing: le Linee Guida del Garante Privacy su cookies e altri strumenti di tracciamento del 10 giugno 2021 e le Linee Guida EDPB sul targeting degli utenti dei social network\nL’entrata in vigore della riforma del Registro pubblico delle opposizioni\, i necessari check sulla conformità interna dell’attività di marketing e la sensibilizzazione dell’organizzazione rispetto ai nuovi rischi sanzionatori\nDati personali come corrispettivo della fornitura di servizi digitali: il recepimento della Direttiva UE 2019/770 (D. Lgs. n. 173/2021) e l’utilizzo dei dati acquisiti per tale via \nAvv. Adriano D’Ottavio\nBird & Bird \n\n\n		\n	\nDocenti\n	\n		\n			Dott. Riccardo Acciai\nDirettore\nDipartimento Libertà di Manifestazione del Pensiero e Cyberbullismo\ne Dipartimento Reti Telematiche e Marketing\nGarante per la Protezione dei Dati Personali \nProf. Avv. Alessandro Del Ninno\nProfessore a Contratto di Informatica Giuridica\nLUISS Guido Carli di Roma\nPartner\nStudio Legale Tonucci & Partners \nAvv. Ugo Ettore Di Stefano\nSenior Partner\nResponsabile Dipartimento Privacy & Corporate Compliance\nLexellent \nAvv. Adriano D’Ottavio\nCounsel\nco-Head of the Italian Privacy and Data Protection Team\nBird & Bird \nAvv. Giovanni Guerra\nPartner\nStudio Legale Guerra-Ricchiuto \nAvv. Federico Sartore\nCounsel\nPanetta Studio Legale\nConsultant\nSTRAND PTP Privacy & Technology Professionals\nKnowledge-Net Co-Chair\nInternational Association of Privacy Professionals (IAPP) \nAvv. Giuseppe Vaciago\nPartner\n42 Law Firm \n\n\n		\n	\nBrochure\n	\n		\n			 Scarica la brochure\n\n		\n	\nIscrizioni e Condizioni\n	\n		\n			Quota di partecipazione \nLa quota di partecipazione in aula virtuale (diretta streaming) include la consegna del materiale didattico in formato elettronico e la possibilità di sottoporre ai relatori quesiti di specifico interesse a mezzo chat. E’ altresì possibile anticipare domande e richieste di approfondimento inviando una email a info@paradigma.it entro il giorno antecedente l’evento. \nIn caso di videoconferenza con accessi multipli è necessario contattare la Segreteria organizzativa per un preventivo personalizzato. \nModalità di funzionamento della videoconferenza \nE’ possibile accedere all’aula virtuale da qualsiasi luogo\, utilizzando il proprio PC o tablet con una semplice connessione a Internet. La piattaforma informatica utilizzata da Paradigma (Adobe Connect) non necessita di requisiti tecnici particolari. \nNei giorni antecedenti l’evento il partecipante riceverà per posta elettronica le credenziali e le istruzioni di accesso. Il giorno dell’evento sarà sufficiente selezionare il link che troverà nella mail e inserire le credenziali per accedere all’aula virtuale. \nDurante gli interventi\, oltre a vedere e sentire i docenti\, è possibile consultare simultaneamente la documentazione predisposta dal relatore. Ogni utente collegato potrà porre domande sulle tematiche affrontate a mezzo chat\, alle quali il docente risponderà nel corso dell’intervento. \nModalità di iscrizione \nL’iscrizione si perfeziona al momento del ricevimento del modulo di registrazione\, da inviare via email all’indirizzo info@paradigma.it\, integralmente compilato. Il numero dei collegamenti disponibili è limitato e la priorità d’iscrizione è determinata dalla data di ricezione del modulo di registrazione. Si consiglia pertanto di effettuare una preiscrizione telefonica. \nModalità di pagamento \nLa quota di partecipazione deve essere versata all’atto della presentazione della richiesta di iscrizione e\, in ogni caso\, prima dell’effettuazione dell’intervento formativo\, tramite bonifico bancario intestato a: \nParadigma Srl – Corso Vittorio Emanuele II\, 68 – 10121 Torino\nc/o Banco BPM Spa\nIBAN IT14V0503401017000000002530 \nFormazione finanziata \nLa quota di partecipazione può essere completamente rimborsata tramite voucher promossi dai Fondi Paritetici Interprofessionali. Paradigma offre la completa e gratuita gestione delle spese di progettazione\, monitoraggio e rendicontazione. La possibilità di accedere alla formazione finanziata con partecipazione mediante videoconferenza può variare a seconda dell’Ente erogante. \nAttestato di frequenza \nL’attestato di partecipazione nominativo sarà inviato al termine dell’intervento formativo ai partecipanti che si sono regolarmente collegati all’aula virtuale. \nDiritto di recesso e modalità di disdetta \nE´ attribuita ai partecipanti la facoltà di recedere ai sensi dell’art. 1373 c.c. Il recesso dovrà essere comunicato in forma scritta almeno sette giorni prima della data di inizio dell’evento formativo (escluso il sabato e la domenica). Qualora la disdetta pervenga oltre tale termine o si verifichi di fatto con il mancato collegamento alla videoconferenza\, la quota di partecipazione sarà addebitata per intero e sarà inviato al partecipante il materiale didattico. In qualunque momento l’azienda o lo studio potranno comunque sostituire il partecipante\, comunicando il nuovo nominativo alla nostra Segreteria organizzativa. \nVariazioni di programma \nParadigma\, per ragioni eccezionali e imprevedibili\, si riserva di annullare o modificare la data dell’intervento formativo\, dandone comunicazione agli interessati entro tre giorni dalla data di inizio prevista. In tali casi le quote di partecipazione pervenute verranno rimborsate\, con esclusione di qualsivoglia onere o obbligo a carico di Paradigma. Paradigma si riserva inoltre\, per ragioni sopravvenute e per cause di forza maggiore\, di modificare l’articolazione del programma e di sostituire i docenti previsti con altri docenti di pari livello professionale. \nPer ulteriori informazioni è possibile contattare la Segreteria organizzativa al numero 011.538686 o all’indirizzo email info@paradigma.it. \n\n\n		\n	\n\n\n	\n		\n			Quota di partecipazione\n	\n		\n			€ 1.100 + Iva una giornata€ 2.050 + Iva due giornate\n\n		\n	\n\n	\n		\n			In caso di videoconferenza con accessi multipli è necessario contattare la Segreteria organizzativa per un preventivo personalizzato. \n\n		\n	\n\n\n		\n	\n\n	\n		\n			\n\n\n\n\n\n\n	\n		\n			Early booking -20%\nInviando il modulo di iscrizione entro il 18 maggio si avrà diritto a una riduzione del 20% sulla quota di partecipazione.\n \n\n		\n	\n\n\n\n		\n	\n\n	\n		\n			\n\n		\n	\n\n	\n		\n			\n\n		\n	\n\n	\n		\n			\n\n\n\n\n\n\n	\n		\n			Progetto Giovani Eccellenze -50%\nL’adesione all’evento formativo permette di iscrivere una seconda risorsa\, che non abbia compiuto il 30° anno di età e proveniente dalla stessa organizzazione\, con una riduzione del 50% sulla seconda quota di partecipazione. L’agevolazione è calcolata sulla quota ordinaria. \n\n		\n	\n\n\n\n		\n	\n\n	\n		\n			\n\n\n\n\n\n\n	\n		\n			Formazione finanziata\nLa quota di partecipazione all’iniziativa può essere completamente rimborsata tramite voucher promossi dai Fondi Paritetici Interprofessionali. Paradigma offre la completa e gratuita gestione delle spese di progettazione\, monitoraggio e rendiconto. \n\n		\n	\n\n\n\n		\n	\n\n	\n		\n			\n\n\n\n\n\n\n	\n		\n			Mercati elettronici della PA\nParadigma opera sul MePA e sui principali mercati elettronici di soggetti aggregatori e centrali di committenza. \n\n		\n	\n\n\n\n		\n	\n\n	\n		\n			\n	\n\n\n	I campi con (*) sono obbligatori\n	\n		\n		Dati relativi all'evento\n		\n		\n			Partecipazione in aula\n			Partecipazione in videoconferenza\n		\n		\n\n		Dati relativi al richiedente\n		\n		\n		\n		\n		\n		\n		\n		\n\n	\n\n	\n\n		Dati per eventuale partecipante under 30\n		\n		\n		\n\n	\n\n	\n\n		Dati per la fatturazione elettronica\n		\n		\n		\n		\n		\n		\n				\n		\n		\n		  Split Payment:\n          \n            \n              \n              Si \n            No\n          \n        \n		\n		\n		\n		\n	\n\n	\n\n		Per informazioni contattare\n		\n		\n		\n		\n		\n	\n	L'iscrizione all'evento formativo si intende perfezionata al momento del ricevimento\, da parte di Paradigma Srl\, del presente modulo di registrazione compilato in ogni sua parte\, stampato\, firmato e inviato via e-mail all'indirizzo info@paradigma.it. Riceverete via email conferma dell'avvenuta iscrizione. \n\n\n		\n	     Acconsento all'invio di comunicazioni sui servizi Paradigma Srl - Consenso finalizzato\, anche con modalità automatizzate\, all'invio di comunicazioni relative a prodotti e servizi di Paradigma Srl e al fine di ricevere materiale informativo o promozionale.\n	\n	     Acconsento alla personalizzazione delle offerte - Consenso finalizzato\, mediante modalità automatizzate\, a personalizzare i servizi forniti e meglio indirizzare le proposte promozionali grazie ad attività di profilazione.\n	\n	Inviando i dati autorizzi Paradigma Srl a utilizzare i tuoi dati personali per evadere la richiesta di partecipazione all’evento formativo e svolgere le attività a ciò connesse. I dati potranno essere trattati\, per conto di Paradigma Srl\, da dipendenti e collaboratori incaricati di svolgere specifici servizi necessari all’esecuzione delle tue richieste. Il conferimento dei tuoi dati\, pur essendo facoltativo\, si rende necessario per l’esecuzione del servizio richiesto.	\n\n\n\n\n		\n\n\n\n\n\n		\n	\n[/vc_column][/vc_row]
URL:https://paradigma.it/iniziativa/annual-2022-funzione-dpo/
CATEGORIES:Privacy e tutela dei Dati Personali
ORGANIZER;CN="Angela%20Siniscalchi":MAILTO:asiniscalchi@paradigma.it
END:VEVENT
END:VCALENDAR