BEGIN:VCALENDAR
VERSION:2.0
PRODID:-//Paradigma srl - ECPv5.2.1//NONSGML v1.0//EN
CALSCALE:GREGORIAN
METHOD:PUBLISH
X-WR-CALNAME:Paradigma srl
X-ORIGINAL-URL:https://paradigma.it
X-WR-CALDESC:Eventi per Paradigma srl
BEGIN:VTIMEZONE
TZID:Europe/Rome
BEGIN:DAYLIGHT
TZOFFSETFROM:+0100
TZOFFSETTO:+0200
TZNAME:CEST
DTSTART:20220327T010000
END:DAYLIGHT
BEGIN:STANDARD
TZOFFSETFROM:+0200
TZOFFSETTO:+0100
TZNAME:CET
DTSTART:20221030T010000
END:STANDARD
END:VTIMEZONE
BEGIN:VEVENT
DTSTART;TZID=Europe/Rome:20221202T093000
DTEND;TZID=Europe/Rome:20221202T173000
DTSTAMP:20260421T164308
CREATED:20221018T155124Z
LAST-MODIFIED:20221130T091214Z
UID:16471-1669973400-1670002200@paradigma.it
SUMMARY:Annual 2022Dirigente Preposto\, Responsabile AFC/CFO\, Controller
DESCRIPTION:[vc_row][vc_column]\n	\n		\n			\n		\n	\n\n	\n		\n			\nLa Certificazione dei profili professionali\nOverview della Prassi UNI/PdR 104:2021 e della nuova Norma UNI 11618:2022\nImplementazione aziendale della CSRD e bilancio di sostenibilità\nCreazione del Sustainability Manager\n\nEvento realizzato in collaborazione e con il patrocinio di ANDAF \nI docenti\, nel corso dell’evento formativo\, risponderanno alle domande e alle richieste di chiarimenti formulate dai partecipanti. Eventuali quesiti potranno essere anticipati inviando una e-mail all’indirizzo info@paradigma.it \n \n\n		\n	\n\n	\n		\n			Evento in videoconferenza \n\n		\n	\n\n	\n		\n			2 dicembre 2022 \n\n		\n	\n\n	\n		\n			 \n\n		\n	\n\n	\n		\n			\n\n		\n	\nPresentazioneProgrammaDocentiBrochureIscrizioni e CondizioniPresentazione\n	\n		\n			Contenuti dell’evento \nLa figura del Dirigente Preposto assurge a un ruolo sempre più cruciale nell’ambito degli assetti aziendali\, in una delicata posizione che risente delle scelte organizzative dell’organo amministrativo\, a cui sono inevitabilmente legate le concrete possibilità di corretto esercizio delle funzioni a lui normativamente attribuite\, e che lo vede altresì in stretto dialogo con gli organi di controllo interno nell’ottica di una gestione proattiva del rischio d’impresa.  \nUn ruolo importante\, all’interno del “percorso evolutivo” di tale figura\, è senz’altro da assegnarsi alle Linee Guida ANDAF di settembre 2020 su modello di controllo e attività del Dirigente Preposto\, concepite in funzione della definizione di un “Processo 262” quale “best practice”\, cui ha fatto seguito\, nel 2021\, la significativa innovazione costituita dalle certificazioni: la Certificazione UNI/ACCREDIA del profilo professionale per i CFO/Responsabili Amministrazione Finanza e Controllo/Controller e l’Attestato rilasciato da ANDAF su delega del MISE ai sensi della L. 14 n. 4/2013 di qualità e di qualificazione dei servizi professionali prestati dai soci. \nL’Annual 2022 di Paradigma dedicato alle figure di Dirigente Preposto\, CFO\, Responsabile AFC e Controller\, organizzato con la collaborazione di ANDAF\, intende focalizzarsi anche in questa edizione\, come d’abitudine\, sui profili di maggiore interesse e attualità per i professionisti che ricoprono tali importanti funzioni. \nL’agenda del seminario di quest’anno prevede\, oltre ai temi già menzionati\, due importanti overview: una sulla norma UNI 11618:2022\, appena pubblicata da UNI\, riguardante l’Esperto in Controllo di Gestione (Controller)\, l’altra sulla Prassi UNI/PdR 104:2021 (attività e requisiti dei profili professionali Responsabili dell’area amministrazione\, finanza e controllo). Quest’ultima è il risultato di un progetto ANDAF-UNI volto a definire il profilo professionale degli associati ANDAF\, e finalizzato all’ottenimento di una specifica certificazione del profilo professionale ai sensi delle medesime Norma (Controller) e Prassi di Riferimento (CFO/DP/ Responsabile AFC). \nDi particolare interesse\, inoltre\, la possibilità prevista dalla Prassi UNI/PDR 104:2021\, offerta alle organizzazioni di richiedere la certificazione dei processi amministrativi e contabili. \nAll’ordine del giorno del seminario saranno inoltre i temi\, anch’essi di grande attualità e rilevanza\, della CSRD e del bilancio di sostenibilità e della creazione della figura del Sustainability Manager\, che apre nuove opportunità ai professionisti con formazione economico-contabile all’interno delle imprese. \nDestinatari dell’evento \nL’evento è destinato ai Dirigenti Preposti alla redazione dei documenti contabili\, ai Chief Financial Officer\, ai Direttori/Responsabili Amministrativi e Finanziari\, ai Controller di società quotate e non quotate\, nonché ai dirigenti e quadri direttivi che svolgono la loro attività nelle aree AFC oltre ai Sustainability Manager e ai professionisti che seguono la materia fiscale\, finanziaria e contabile. \nObiettivi dell’evento \nObiettivo dell’incontro è fornire ai partecipanti uno spunto di riflessione e di confronto con i maggiori esperti della materia sulle più rilevanti best practices aziendali\, nonché un’occasione di prezioso approfondimento sui profili di maggiore attualità. \n\n\n		\n	\nProgramma\n	\n		\n			Venerdì 2 dicembre 2022 \nEvoluzione del ruolo del Responsabile AFC/CFO nell’impresa del futuro\nAttività\, abilità e responsabilità\, autonomia e nuove competenze del Responsabile AFC/CFO\nLinee Guida ANDAF sul “Modello 262” e applicabilità alle società non quotate\nProf. Paolo Bertoli\nWidar Trust \nLa Certificazione dei profili professionali ai sensi della L. n. 4/2013\nDirigente preposto alla redazione dei documenti contabili societari\nCFO/Responsabile AFC ai sensi della Prassi UNI/PdR 104:2021\nController ai sensi della Norma UNI 1609291\nDott. Franco Fontana\nIntertek \nOverview della Prassi UNI/PdR 104:2021 su attività e requisiti dei profili professionali Responsabili dell’area AFC\nL’Attestazione ANDAF di qualità e di qualificazione professionale dei servizi prestati dai soci rilasciata ai sensi della L.n. 104/2013\nDott. Paolo Fanti\nToschi \nProfessione Controller: overview della nuova Norma UNI 11618:2022 destinata all’Esperto in Controllo di Gestione\nL’evoluzione del ruolo del Controller in contesti volatili e la relazione con i Risk Manager\nDott. Gustavo Troisi\nGruppo Enel \nImpatti della Corporate Sustainability Reporting Directive (CSRD)\nL’ampliamento del numero di imprese chiamate a integrare\, a partire dal bilancio 2024\, il loro annual report per relazionare sull’impatto sociale e ambientale delle loro attività\nDott.ssa Anna Spina\nGruppo Enel \nLa nuova figura di ESG & Sustainability Manager: metodologie e strumenti per una nuova professione\nLa creazione di valore a lungo termine attraverso approccio etico\, progetti di innovazione nativamente sostenibili e attenta misurazione degli impatti ambientali e sociali quale mission del Sustainability Manager\nDott. Carmine Scoglio\nGruppo Terna \nSimulazione della prova d’esame per l’ottenimento della Certificazione del Profilo professionale UNI\, relativamente ai profili di Esperto in Controllo di Gestione e di Responsabile AFC/CFO\nDott. Donato Pastore\nGruppo Ferrovie dello Stato Italiane \n\n\n		\n	\nDocenti\n	\n		\n			Prof. Paolo Bertoli\nDirettore ANDAF Magazine\nComponente Advisory Council ANDAF\nMembro del Comitato di Schema UNI\nCEO Widar Trust\nPresidente Across Fiduciaria \nDott. Paolo Fanti\nConsigliere ANDAF\nMembro del Comitato di Schema UNI\nCFO\nToschi \nDott. Franco Fontana\nBusiness Assurance\nSouth Europe Service and Person Certification Manager\nIntertek \nDott. Donato Pastore\nPresidente Comitato Tecnico I&CT ANDAF\nResponsabile Procedure e Sistemi di Gruppo\nGruppo Ferrovie dello Stato Italiane \nDott. Carmine Scoglio\nVice Presidente Consiglio Direttivo ANDAF\nResponsabile Bilancio\, Amministrazione e Fiscale\nGruppo Terna \nDott.ssa Anna Spina\nPresidente Sezione Lazio ANDAF\nResponsabile Internal Control over Reporting\nGruppo Enel \nDott. Gustavo Troisi *\nPresidente del Comitato Tecnico Pianificazione e Controllo ANDAF\nHead of Enel Risk Control – Country Italia\nGruppo Enel \n  \n* In attesa di conferma \n\n\n		\n	\nBrochure\n	\n		\n			 Scarica la brochure\n\n		\n	\nIscrizioni e Condizioni\n	\n		\n			Quota di partecipazione \nLa quota di partecipazione in aula virtuale (diretta streaming) include l’invio del materiale didattico in formato elettronico e la possibilità di sottoporre ai relatori quesiti di specifico interesse a mezzo chat. È altresì possibile anticipare domande e richieste di approfondimento inviando una e-mail a info@paradigma.it entro il giorno antecedente l’evento. \nIn caso di videoconferenza con accessi multipli è necessario contattare la Segreteria organizzativa per un preventivo personalizzato. \nModalità di funzionamento della videoconferenza \nE’ possibile accedere all’aula virtuale da qualsiasi luogo\, utilizzando il proprio PC o tablet con una semplice connessione a Internet. La piattaforma informatica utilizzata da Paradigma (Adobe Connect) non necessita di requisiti tecnici particolari. \nNei giorni antecedenti l’evento il partecipante riceverà per posta elettronica le credenziali e le istruzioni di accesso. Il giorno dell’evento sarà sufficiente selezionare il link che troverà nella mail e inserire le credenziali per accedere all’aula virtuale. \nDurante gli interventi\, oltre a vedere e sentire i docenti\, è possibile consultare simultaneamente la documentazione predisposta dal relatore. Ogni utente collegato potrà porre domande sulle tematiche affrontate a mezzo chat\, alle quali il docente risponderà nel corso dell’intervento. \nModalità di iscrizione \nL’iscrizione si perfeziona al momento del ricevimento del modulo di registrazione\, da inviare via e-mail all’indirizzo info@paradigma.it\, integralmente compilato. Il numero dei collegamenti disponibili è limitato e la priorità d’iscrizione è determinata dalla data di ricezione del modulo di registrazione. Si consiglia pertanto di effettuare una preiscrizione telefonica. \nModalità di pagamento \nLa quota di partecipazione deve essere versata all’atto della presentazione della richiesta di iscrizione e\, in ogni caso\, prima dell’effettuazione dell’evento formativo\, tramite bonifico bancario intestato a: \nParadigma Srl – Corso Vittorio Emanuele II\, 68 – 10121 Torino\nc/o Banco BPM Spa\nIBAN IT 14 V 05034 01017 000000002530 \nFormazione finanziata \nLa quota di partecipazione può essere completamente rimborsata tramite voucher promossi dai Fondi Paritetici Interprofessionali. Paradigma offre la completa e gratuita gestione delle spese di progettazione\, monitoraggio e rendicontazione. La possibilità di accedere alla formazione finanziata con partecipazione mediante videoconferenza può variare a seconda dell’Ente erogante. \nAttestato di frequenza \nL’attestato di partecipazione nominativo sarà inviato al termine dell’evento formativo ai partecipanti che si sono regolarmente collegati all’aula virtuale. \nDiritto di recesso e modalità di disdetta \nÈ attribuita ai partecipanti la facoltà di recedere ai sensi dell’art. 1373 c.c. Il recesso dovrà essere comunicato in forma scritta almeno sette giorni prima della data di inizio dell’evento formativo (escluso il sabato e la domenica). Qualora la disdetta pervenga oltre tale termine o si verifichi di fatto con il mancato collegamento alla videoconferenza\, la quota di partecipazione sarà addebitata per intero e sarà inviato al partecipante il materiale didattico. In qualunque momento l’azienda o lo studio potranno comunque sostituire il partecipante\, comunicando il nuovo nominativo alla nostra Segreteria organizzativa. \nVariazioni di programma \nParadigma\, per ragioni eccezionali e imprevedibili\, si riserva di annullare o modificare la data dell’evento formativo\, dandone comunicazione agli interessati entro tre giorni dalla data di inizio prevista. In tali casi le quote di partecipazione pervenute verranno rimborsate\, con esclusione di qualsivoglia onere o obbligo a carico di Paradigma. Paradigma si riserva inoltre\, per ragioni sopravvenute e per cause di forza maggiore\, di modificare l’articolazione del programma e di sostituire i docenti previsti con altri docenti di pari livello professionale. \nPer ulteriori informazioni è possibile contattare la Segreteria organizzativa al numero 011.538686 o all’indirizzo e-mail info@paradigma.it. \n\n\n		\n	\n\n\n	\n		\n			Quota di partecipazione\n	\n		\n			€ 1.100 + Iva\n\n		\n	\n\n	\n		\n			In caso di videoconferenza con accessi multipli è necessario contattare la Segreteria organizzativa per un preventivo personalizzato. \n\n		\n	\n\n\n		\n	\n\n	\n		\n			\n\n\n\n\n\n\n	\n		\n			Early booking -20%\nInviando il modulo di iscrizione entro l’11 novembre si avrà diritto a una riduzione del 20% sulla quota di partecipazione.\n \n\n		\n	\n\n\n\n		\n	\n\n	\n		\n			\n\n		\n	\n\n	\n		\n			\n\n		\n	\n\n	\n		\n			\n\n\n\n\n\n\n	\n		\n			Progetto Giovani Eccellenze -50%\nL’adesione all’evento formativo permette di iscrivere una seconda risorsa\, che non abbia compiuto il 30° anno di età e proveniente dalla stessa organizzazione\, con una riduzione del 50% sulla seconda quota di partecipazione. L’agevolazione è calcolata sulla quota ordinaria. \n\n		\n	\n\n\n\n		\n	\n\n	\n		\n			\n\n\n\n\n\n\n	\n		\n			Formazione finanziata\nLa quota di partecipazione all’iniziativa può essere completamente rimborsata tramite voucher promossi dai Fondi Paritetici Interprofessionali. Paradigma offre la completa e gratuita gestione delle spese di progettazione\, monitoraggio e rendiconto. \n\n		\n	\n\n\n\n		\n	\n\n	\n		\n			\n\n\n\n\n\n\n	\n		\n			Mercati elettronici della PA\nParadigma opera sul MePA e sui principali mercati elettronici di soggetti aggregatori e centrali di committenza. \n\n		\n	\n\n\n\n		\n	\n\n	\n		\n			\n	\n\n\n	I campi con (*) sono obbligatori\n	\n		\n		Dati relativi all'evento\n		\n		\n			Partecipazione in aula\n			Partecipazione in videoconferenza\n		\n		\n\n		Dati relativi al richiedente\n		\n		\n		\n		\n		\n		\n		\n		\n\n	\n\n	\n\n		Dati per eventuale partecipante under 30\n		\n		\n		\n\n	\n\n	\n\n		Dati per la fatturazione elettronica\n		\n		\n		\n		\n		\n		\n				\n		\n		\n		  Split Payment:\n          \n            \n              \n              Si \n            No\n          \n        \n		\n		\n		\n		\n	\n\n	\n\n		Per informazioni contattare\n		\n		\n		\n		\n		\n	\n	L'iscrizione all'evento formativo si intende perfezionata al momento del ricevimento\, da parte di Paradigma Srl\, del presente modulo di registrazione compilato in ogni sua parte\, stampato\, firmato e inviato via e-mail all'indirizzo info@paradigma.it. Riceverete via email conferma dell'avvenuta iscrizione. \n\n\n		\n	     Acconsento all'invio di comunicazioni sui servizi Paradigma Srl - Consenso finalizzato\, anche con modalità automatizzate\, all'invio di comunicazioni relative a prodotti e servizi di Paradigma Srl e al fine di ricevere materiale informativo o promozionale.\n	\n	     Acconsento alla personalizzazione delle offerte - Consenso finalizzato\, mediante modalità automatizzate\, a personalizzare i servizi forniti e meglio indirizzare le proposte promozionali grazie ad attività di profilazione.\n	\n	Inviando i dati autorizzi Paradigma Srl a utilizzare i tuoi dati personali per evadere la richiesta di partecipazione all’evento formativo e svolgere le attività a ciò connesse. I dati potranno essere trattati\, per conto di Paradigma Srl\, da dipendenti e collaboratori incaricati di svolgere specifici servizi necessari all’esecuzione delle tue richieste. Il conferimento dei tuoi dati\, pur essendo facoltativo\, si rende necessario per l’esecuzione del servizio richiesto.	\n\n\n\n\n		\n\n\n\n\n\n		\n	\n[/vc_column][/vc_row]
URL:https://paradigma.it/iniziativa/annual-2022-dirigente-preposto-responsabile-afc-cfo-controller/
CATEGORIES:Bilancio
ORGANIZER;CN="Veronica%20Spiez":MAILTO:vspiez@paradigma.it
END:VEVENT
END:VCALENDAR