BEGIN:VCALENDAR
VERSION:2.0
PRODID:-//Paradigma srl - ECPv5.2.1//NONSGML v1.0//EN
CALSCALE:GREGORIAN
METHOD:PUBLISH
X-WR-CALNAME:Paradigma srl
X-ORIGINAL-URL:https://paradigma.it
X-WR-CALDESC:Eventi per Paradigma srl
BEGIN:VTIMEZONE
TZID:Europe/Rome
BEGIN:DAYLIGHT
TZOFFSETFROM:+0100
TZOFFSETTO:+0200
TZNAME:CEST
DTSTART:20240331T010000
END:DAYLIGHT
BEGIN:STANDARD
TZOFFSETFROM:+0200
TZOFFSETTO:+0100
TZNAME:CET
DTSTART:20241027T010000
END:STANDARD
END:VTIMEZONE
BEGIN:VEVENT
DTSTART;TZID=Europe/Rome:20240326T093000
DTEND;TZID=Europe/Rome:20240326T180000
DTSTAMP:20260421T171514
CREATED:20240305T103907Z
LAST-MODIFIED:20240322T133455Z
UID:20014-1711445400-1711476000@paradigma.it
SUMMARY:Le novità introdotte dal DDL Capitali
DESCRIPTION:[vc_row][vc_column]\n	\n		\n			\n		\n	\n\n	\n		\n			\nLista del CdA\nVoto maggiorato e voto plurimo\nRappresentante designato\nPoteri sanzionatori Consob\nAccesso al mercato dei capitali\nRiforma degli emittenti e disciplina delle obbligazioni\nAdempimenti e modifiche statutarie\n\nI docenti\, nel corso dell’evento formativo\, risponderanno alle domande e alle richieste di chiarimenti formulate dai partecipanti. Eventuali quesiti potranno essere anticipati inviando una email all’indirizzo asorba@paradigma.it \n \n\n		\n	\n\n	\n		\n			Evento in videoconferenza \n\n		\n	\n\n	\n		\n			26 marzo 2024 \n\n		\n	\n\n	\n		\n			 \n\n		\n	\n\n	\n		\n			\n\n		\n	\nPresentazioneProgrammaDocentiBrochureIscrizioni e CondizioniPresentazione\n	\n		\n			Contenuti dell’evento \nNel corso della giornata di studi saranno approfondite le principali novità introdotte dal DDL Capitali\, valutandone l’impatto sul mercato dei capitali e sulla governance societaria e individuando soluzioni operative per adeguarsi alle nuove disposizioni. \nSaranno approfondite le novità in tema di governance societaria (lista del CdA\, voto maggiorato e plurimo\, rappresentante designato)\, le nuove disposizioni in materia di accesso al mercato dei capitali\, riforma degli emittenti e disciplina delle obbligazioni. \nDestinatari dell’evento \nL’evento formativo è rivolto ai General Counsel\, ai Responsabili della Segreteria Societaria\, ai Responsabili degli Affari Legali e Societari\, ai componenti dei Board\, ai Sindaci\, ai componenti dei Comitati di tutte le società quotate\, nonchè ai professionisti esterni che operano nel settore societario e supportano le aziende nelle decisioni strategiche. \nObiettivi dell’evento \nObiettivo dell’incontro è fornire ai partecipanti un quadro dettagliato e completo delle novità introdotte dal DDL Capitali\, presentando strumenti e soluzioni operative per adeguarsi alle nuove disposizioni. \n\n\n		\n	\nProgramma\n	\n		\n			Martedì 26 marzo 2024 \nLe finalità delle nuove disposizioni e gli impatti sul mercato dei capitali e sulla governance societaria\nDDL Capitali e delega per la riforma organica del TUF\nLa semplificazione della disciplina degli emittenti quotati\nIl voto multiplo e maggiorato; la migrazione delle società italiane in Olanda\nIl contenimento dei costi della quotazione e di emissione di strumenti quotati\nIl contesto europeo: il Listing Act\nProf. Avv. Andrea Zoppini\nUniversità Roma Tre\nStudio del Prof. Avv. Andrea Zoppini e degli Avvocati Associati\nProf. Avv. Mario Stella Richter\nUniversità Roma Tre\nProf. Avv. Giovanni Strampelli\nUniversità Luigi Bocconi di Milano \nLe disposizioni relative alla lista del CdA\nIl “sistema” dell’art. 147-ter del TUF\nIl richiamo di attenzione CONSOB del gennaio 2022\nLa disciplina introdotta dal nuovo art. 12 del DDL Capitali\nI principali temi applicativi\nProf. Avv. Paolo Valensise\nUniversità Roma Tre\nChiomenti \nLe disposizioni in materia di voto maggiorato e di voto plurimo\nll quadro della riforma: competizione tra ordinamenti e regole europee\nAzioni a voto plurimo\nAzioni a voto maggiorato\nQuestioni interpretative\nProf. Avv. Marco Ventoruzzo\nUniversità Luigi Bocconi di Milano\nPerdesoliGattai \nIl rappresentante designato e gli impatti sull’organizzazione delle Assemblee\nIl rappresentante designato ex art. 135-undecies TUF e la normativa emergenziale di cui all’art. 106 del D. L. n. 18/2020: le previsioni normative e il riscontro pratico della relativa applicazione\nVirtual/hybrid meetings: gli orientamenti dei principali proxy advisors e organizzazioni internazionali\nLa nuova disciplina di cui al DDL Capitali: prime riflessioni sui suoi prevedibili impatti\nLe esigenze delle emittenti: spunti per una proposta di modifica normativa\nAvv. Dario Trevisan\nTrevisan & Associati \nLe modifiche ai poteri sanzionatori della Consob\nIl contesto normativo\nL’assunzione di impegni con la Consob\nIl mancato rispetto degli impegni\nGli aspetti procedurali\nAvv. Bruno Cova\nGreenberg Traurig Santa Maria \nLe semplificazioni in materia di accesso ai mercati finanziari\nIl mercato finanziario italiano nel confronto internazionale\nIl DDL Capitali e il recente trend di razionalizzazione delle procedure di listing\nLa semplificazione delle procedure di ammissione alla quotazione introdotta dal DDL Capitali\nLe modifiche alla disciplina di approvazione del prospetto e della responsabilità del collocatore\nIl Listing Act e le ulteriori semplificazioni attese\nAvv. Marco Barbi\nStudio Legale Associato Shearman & Sterling LLP \nLa riforma della disciplina degli emittenti strumenti finanziari diffusi e la disciplina delle obbligazioni\nLa puntuale semplificazione degli obblighi per gli emittenti strumenti finanziari diffusi\nLe modifiche in materia di sottoscrizione di obbligazioni emesse da SpA e di titolo di debito emessi da Srl\nProf. Filippo Annunziata\nUniversità Luigi Bocconi di Milano\nUniversità Ca’ Foscari di Venezia\nAvv. Paolo Roberto Amendola\nAnnunziata & Conso \n\n\n		\n	\nDocenti\n	\n		\n			Avv. Paolo Roberto Amendola\nAssociate\nAnnunziata & Conso \nProf. Filippo Annunziata\nAssociato di Diritto degli Intermediari e dei Mercati Finanziari\nUniversità Luigi Bocconi di Milano\nUniversità Ca’ Foscari di Venezia \nAvv. Marco Barbi\nAssociate\nStudio Legale Associato Shearman & Sterling LLP \nAvv. Bruno Cova\nShareholder – Partner\nGreenberg Traurig Santa Maria\nMembro Gruppo Esperti\nComitato per la Corporate Governance\nBorsa Italiana \nProf. Avv. Mario Stella Richter\nOrdinario di Diritto Commerciale\nUniversità Roma Tre \nProf. Avv. Giovanni Strampelli\nOrdinario di Diritto Commerciale\nUniversità Luigi Bocconi di Milano \nAvv. Dario Trevisan\nManaging Partner\nTrevisan & Associati \nProf. Avv. Paolo Valensise\nOrdinario di Diritto Commerciale\nUniversità Roma Tre\nPartner\nHead of ESG & Corporate Advisory Practice Area\nChiomenti \nProf. Avv. Marco Ventoruzzo\nOrdinario di Diritto Commerciale\nUniversità Luigi Bocconi di Milano\nPartner\nPerdesoliGattai\nPresidente\nAMF Italia – Associazione Intermediari Mercati Finanziari \nProf. Avv. Andrea Zoppini\nOrdinario di Diritto Civile\nUniversità Roma Tre\nStudio del Prof. Avv. Andrea Zoppini e degli Avvocati Associati \n\n\n		\n	\nBrochure\n	\n		\n			 Scarica la brochure\n\n		\n	\nIscrizioni e Condizioni\n	\n		\n			Quota di partecipazione \nLa quota di partecipazione in aula virtuale (diretta streaming) include l’invio del materiale didattico in formato elettronico e la possibilità di sottoporre ai relatori quesiti di specifico interesse a mezzo chat. È altresì possibile anticipare domande e richieste di approfondimento inviando una e-mail a info@paradigma.it entro il giorno antecedente l’evento. \nIn caso di videoconferenza con accessi multipli è necessario contattare la Segreteria organizzativa per un preventivo personalizzato. \nModalità di funzionamento della videoconferenza \nE’ possibile accedere all’aula virtuale da qualsiasi luogo\, utilizzando il proprio PC o tablet con una semplice connessione a Internet. La piattaforma informatica utilizzata da Paradigma (Adobe Connect) non necessita di requisiti tecnici particolari. \nNei giorni antecedenti l’evento il partecipante riceverà per posta elettronica le credenziali e le istruzioni di accesso. Il giorno dell’evento sarà sufficiente selezionare il link che troverà nella mail e inserire le credenziali per accedere all’aula virtuale. \nDurante gli interventi\, oltre a vedere e sentire i docenti\, è possibile consultare simultaneamente la documentazione predisposta dal relatore. Ogni utente collegato potrà porre domande sulle tematiche affrontate a mezzo chat\, alle quali il docente risponderà nel corso dell’intervento. \nModalità di iscrizione \nL’iscrizione si perfeziona al momento del ricevimento del modulo di registrazione\, da inviare via e-mail all’indirizzo info@paradigma.it\, integralmente compilato. Il numero dei collegamenti disponibili è limitato e la priorità d’iscrizione è determinata dalla data di ricezione del modulo di registrazione. Si consiglia pertanto di effettuare una preiscrizione telefonica. \nModalità di pagamento \nLa quota di partecipazione deve essere versata all’atto della presentazione della richiesta di iscrizione e\, in ogni caso\, prima dell’effettuazione dell’evento formativo\, tramite bonifico bancario intestato a: \nParadigma Srl – Corso Vittorio Emanuele II\, 68 – 10121 Torino\nc/o Banco BPM Spa\nIBAN IT 14 V 05034 01017 000000002530 \nFormazione finanziata \nLa quota di partecipazione può essere completamente rimborsata tramite voucher promossi dai Fondi Paritetici Interprofessionali. Paradigma offre la completa e gratuita gestione delle spese di progettazione\, monitoraggio e rendicontazione. La possibilità di accedere alla formazione finanziata con partecipazione mediante videoconferenza può variare a seconda dell’Ente erogante. \nAttestato di frequenza \nL’attestato di partecipazione nominativo sarà inviato al termine dell’evento formativo ai partecipanti che si sono regolarmente collegati all’aula virtuale. \nDiritto di recesso e modalità di disdetta \nÈ attribuita ai partecipanti la facoltà di recedere ai sensi dell’art. 1373 c.c. Il recesso dovrà essere comunicato in forma scritta almeno sette giorni prima della data di inizio dell’evento formativo (escluso il sabato e la domenica). Qualora la disdetta pervenga oltre tale termine o si verifichi di fatto con il mancato collegamento alla videoconferenza\, la quota di partecipazione sarà addebitata per intero e sarà inviato al partecipante il materiale didattico. In qualunque momento l’azienda o lo studio potranno comunque sostituire il partecipante\, comunicando il nuovo nominativo alla nostra Segreteria organizzativa. \nVariazioni di programma \nParadigma\, per ragioni eccezionali e imprevedibili\, si riserva di annullare o modificare la data dell’evento formativo\, dandone comunicazione agli interessati entro tre giorni dalla data di inizio prevista. In tali casi le quote di partecipazione pervenute verranno rimborsate\, con esclusione di qualsivoglia onere o obbligo a carico di Paradigma. Paradigma si riserva inoltre\, per ragioni sopravvenute e per cause di forza maggiore\, di modificare l’articolazione del programma e di sostituire i docenti previsti con altri docenti di pari livello professionale. \nPer ulteriori informazioni è possibile contattare la Segreteria organizzativa al numero 011.538686 o all’indirizzo e-mail info@paradigma.it. \n\n\n		\n	\n\n\n	\n		\n			Quota di partecipazione\n	\n		\n			€ 1.100 + Iva\n\n		\n	\n\n	\n		\n			In caso di videoconferenza con accessi multipli è necessario contattare la Segreteria organizzativa per un preventivo personalizzato. \n\n		\n	\n\n\n		\n	\n\n	\n		\n			\n\n\n\n\n\n\n	\n		\n			Early booking -20%\nInviando il modulo di iscrizione entro il 12 marzo si avrà diritto a una riduzione del 20% sulla quota di partecipazione. \n\n		\n	\n\n\n\n		\n	\n\n	\n		\n			\n\n		\n	\n\n	\n		\n			\n\n		\n	\n\n	\n		\n			\n\n\n\n\n\n\n	\n		\n			Progetto Giovani Eccellenze -50%\nL’adesione all’evento formativo permette di iscrivere una seconda risorsa\, che non abbia compiuto il 30° anno di età e proveniente dalla stessa organizzazione\, con una riduzione del 50% sulla seconda quota di partecipazione. L’agevolazione è calcolata sulla quota ordinaria. \n\n		\n	\n\n\n\n		\n	\n\n	\n		\n			\n\n\n\n\n\n\n	\n		\n			Formazione finanziata\nLa quota di partecipazione all’iniziativa può essere completamente rimborsata tramite voucher promossi dai Fondi Paritetici Interprofessionali. Paradigma offre la completa e gratuita gestione delle spese di progettazione\, monitoraggio e rendiconto. \n\n		\n	\n\n\n\n		\n	\n\n	\n		\n			\n\n\n\n\n\n\n	\n		\n			Mercati elettronici della PA\nParadigma opera sul MePA e sui principali mercati elettronici di soggetti aggregatori e centrali di committenza. \n\n		\n	\n\n\n\n		\n	\n\n	\n		\n			\n	\n\n\n	I campi con (*) sono obbligatori\n	\n		\n		Dati relativi all'evento\n		\n		\n			Partecipazione in aula\n			Partecipazione in videoconferenza\n		\n		\n\n		Dati relativi al richiedente\n		\n		\n		\n		\n		\n		\n		\n		\n\n	\n\n	\n\n		Dati per eventuale partecipante under 30\n		\n		\n		\n\n	\n\n	\n\n		Dati per la fatturazione elettronica\n		\n		\n		\n		\n		\n		\n				\n		\n		\n		  Split Payment:\n          \n            \n              \n              Si \n            No\n          \n        \n		\n		\n		\n		\n	\n\n	\n\n		Per informazioni contattare\n		\n		\n		\n		\n		\n	\n	L'iscrizione all'evento formativo si intende perfezionata al momento del ricevimento\, da parte di Paradigma Srl\, del presente modulo di registrazione compilato in ogni sua parte\, stampato\, firmato e inviato via e-mail all'indirizzo info@paradigma.it. Riceverete via email conferma dell'avvenuta iscrizione. \n\n\n		\n	     Acconsento all'invio di comunicazioni sui servizi Paradigma Srl - Consenso finalizzato\, anche con modalità automatizzate\, all'invio di comunicazioni relative a prodotti e servizi di Paradigma Srl e al fine di ricevere materiale informativo o promozionale.\n	\n	     Acconsento alla personalizzazione delle offerte - Consenso finalizzato\, mediante modalità automatizzate\, a personalizzare i servizi forniti e meglio indirizzare le proposte promozionali grazie ad attività di profilazione.\n	\n	Inviando i dati autorizzi Paradigma Srl a utilizzare i tuoi dati personali per evadere la richiesta di partecipazione all’evento formativo e svolgere le attività a ciò connesse. I dati potranno essere trattati\, per conto di Paradigma Srl\, da dipendenti e collaboratori incaricati di svolgere specifici servizi necessari all’esecuzione delle tue richieste. Il conferimento dei tuoi dati\, pur essendo facoltativo\, si rende necessario per l’esecuzione del servizio richiesto.	\n\n\n\n\n		\n\n\n\n\n\n		\n	\n[/vc_column][/vc_row]
URL:https://paradigma.it/iniziativa/20014/
CATEGORIES:Governance e Diritto Societario
ORGANIZER;CN="Angela%20Siniscalchi":MAILTO:asiniscalchi@paradigma.it
END:VEVENT
END:VCALENDAR